BEGIN:VCALENDAR
VERSION:2.0
PRODID:-//Acadiana Music Hub - ECPv6.15.20//NONSGML v1.0//EN
CALSCALE:GREGORIAN
METHOD:PUBLISH
X-ORIGINAL-URL:https://www.acadianamusichub.com
X-WR-CALDESC:Events for Acadiana Music Hub
REFRESH-INTERVAL;VALUE=DURATION:PT1H
X-Robots-Tag:noindex
X-PUBLISHED-TTL:PT1H
BEGIN:VTIMEZONE
TZID:America/Chicago
BEGIN:DAYLIGHT
TZOFFSETFROM:-0600
TZOFFSETTO:-0500
TZNAME:CDT
DTSTART:20250309T080000
END:DAYLIGHT
BEGIN:STANDARD
TZOFFSETFROM:-0500
TZOFFSETTO:-0600
TZNAME:CST
DTSTART:20251102T070000
END:STANDARD
BEGIN:DAYLIGHT
TZOFFSETFROM:-0600
TZOFFSETTO:-0500
TZNAME:CDT
DTSTART:20260308T080000
END:DAYLIGHT
BEGIN:STANDARD
TZOFFSETFROM:-0500
TZOFFSETTO:-0600
TZNAME:CST
DTSTART:20261101T070000
END:STANDARD
BEGIN:DAYLIGHT
TZOFFSETFROM:-0600
TZOFFSETTO:-0500
TZNAME:CDT
DTSTART:20270314T080000
END:DAYLIGHT
BEGIN:STANDARD
TZOFFSETFROM:-0500
TZOFFSETTO:-0600
TZNAME:CST
DTSTART:20271107T070000
END:STANDARD
END:VTIMEZONE
BEGIN:VEVENT
DTSTART;TZID=America/Chicago:20261024T190000
DTEND;TZID=America/Chicago:20261024T220000
DTSTAMP:20260419T183217
CREATED:20260415T163608Z
LAST-MODIFIED:20260415T163608Z
UID:11082-1792868400-1792879200@www.acadianamusichub.com
SUMMARY:Tommy G & Stormy Weather
DESCRIPTION:
URL:https://www.acadianamusichub.com/event/tommy-g-stormy-weather/
LOCATION:Cajun Heritage RV Park\, Louisiana
CATEGORIES:Tommy G & Stormy Weather
END:VEVENT
BEGIN:VEVENT
DTSTART;TZID=America/Chicago:20261031T190000
DTEND;TZID=America/Chicago:20261031T220000
DTSTAMP:20260419T183217
CREATED:20260415T163602Z
LAST-MODIFIED:20260415T163602Z
UID:11075-1793473200-1793484000@www.acadianamusichub.com
SUMMARY:Danny Alexander Blues Band - Straight from Bourbon Street
DESCRIPTION:
URL:https://www.acadianamusichub.com/event/danny-alexander-blues-band-straight-from-bourbon-street/
LOCATION:Cajun Heritage RV Park\, Louisiana
CATEGORIES:Danny Alexander Blues Band - Straight from Bourbon Street
END:VEVENT
BEGIN:VEVENT
DTSTART;TZID=America/Chicago:20261107T190000
DTEND;TZID=America/Chicago:20261107T220000
DTSTAMP:20260419T183217
CREATED:20260415T163609Z
LAST-MODIFIED:20260415T163609Z
UID:11083-1794078000-1794088800@www.acadianamusichub.com
SUMMARY:Rory Suire
DESCRIPTION:
URL:https://www.acadianamusichub.com/event/rory-suire-2/
LOCATION:Cajun Heritage RV Park\, Louisiana
CATEGORIES:Rory Suire
END:VEVENT
BEGIN:VEVENT
DTSTART;TZID=America/Chicago:20261112T183000
DTEND;TZID=America/Chicago:20261112T183000
DTSTAMP:20260419T183217
CREATED:20260415T111130Z
LAST-MODIFIED:20260415T111130Z
UID:11038-1794508200-1794508200@www.acadianamusichub.com
SUMMARY:Dustin Ray
DESCRIPTION:
URL:https://www.acadianamusichub.com/event/dustin-ray-28/
LOCATION:Crawfish Town USA\, Unknown\, Louisiana
CATEGORIES:Dustin Ray
END:VEVENT
BEGIN:VEVENT
DTSTART;TZID=America/Chicago:20261113T190000
DTEND;TZID=America/Chicago:20261113T190000
DTSTAMP:20260419T183217
CREATED:20260415T111131Z
LAST-MODIFIED:20260415T111131Z
UID:11039-1794596400-1794596400@www.acadianamusichub.com
SUMMARY:Dustin Ray
DESCRIPTION:
URL:https://www.acadianamusichub.com/event/dustin-ray-29/
LOCATION:Silver Slipper Cajun Hibachi Grill\, Louisiana
CATEGORIES:Dustin Ray
END:VEVENT
BEGIN:VEVENT
DTSTART;TZID=America/Chicago:20261114T190000
DTEND;TZID=America/Chicago:20261114T220000
DTSTAMP:20260419T183217
CREATED:20260415T163606Z
LAST-MODIFIED:20260415T163606Z
UID:11080-1794682800-1794693600@www.acadianamusichub.com
SUMMARY:Swampland Revival
DESCRIPTION:
URL:https://www.acadianamusichub.com/event/swampland-revival/
LOCATION:Cajun Heritage RV Park\, Louisiana
CATEGORIES:Swampland Revival
END:VEVENT
BEGIN:VEVENT
DTSTART;TZID=America/Chicago:20261128T190000
DTEND;TZID=America/Chicago:20261128T220000
DTSTAMP:20260419T183217
CREATED:20260415T163606Z
LAST-MODIFIED:20260415T163606Z
UID:11079-1795892400-1795903200@www.acadianamusichub.com
SUMMARY:Nik L Beer Band
DESCRIPTION:
URL:https://www.acadianamusichub.com/event/nik-l-beer-band-3/
LOCATION:Cajun Heritage RV Park\, Louisiana
CATEGORIES:Nik L Beer Band
END:VEVENT
BEGIN:VEVENT
DTSTART;TZID=America/Chicago:20261212T190000
DTEND;TZID=America/Chicago:20261212T220000
DTSTAMP:20260419T183217
CREATED:20260415T163614Z
LAST-MODIFIED:20260415T163614Z
UID:11088-1797102000-1797112800@www.acadianamusichub.com
SUMMARY:Chubby Carriere
DESCRIPTION:
URL:https://www.acadianamusichub.com/event/chubby-carriere/
LOCATION:Cajun Heritage RV Park\, Louisiana
CATEGORIES:Chubby Carriere
END:VEVENT
BEGIN:VEVENT
DTSTART;TZID=America/Chicago:20261231T190000
DTEND;TZID=America/Chicago:20261231T220000
DTSTAMP:20260419T183217
CREATED:20260415T163615Z
LAST-MODIFIED:20260415T163615Z
UID:11089-1798743600-1798754400@www.acadianamusichub.com
SUMMARY:The 80'S Experience
DESCRIPTION:
URL:https://www.acadianamusichub.com/event/the-80s-experience/
LOCATION:Cajun Heritage RV Park\, Louisiana
CATEGORIES:The 80'S Experience
END:VEVENT
END:VCALENDAR