BEGIN:VCALENDAR
VERSION:2.0
PRODID:-//Acadiana Music Hub - ECPv6.15.20//NONSGML v1.0//EN
CALSCALE:GREGORIAN
METHOD:PUBLISH
X-WR-CALNAME:Acadiana Music Hub
X-ORIGINAL-URL:https://www.acadianamusichub.com
X-WR-CALDESC:Events for Acadiana Music Hub
REFRESH-INTERVAL;VALUE=DURATION:PT1H
X-Robots-Tag:noindex
X-PUBLISHED-TTL:PT1H
BEGIN:VTIMEZONE
TZID:America/Chicago
BEGIN:DAYLIGHT
TZOFFSETFROM:-0600
TZOFFSETTO:-0500
TZNAME:CDT
DTSTART:20250309T080000
END:DAYLIGHT
BEGIN:STANDARD
TZOFFSETFROM:-0500
TZOFFSETTO:-0600
TZNAME:CST
DTSTART:20251102T070000
END:STANDARD
BEGIN:DAYLIGHT
TZOFFSETFROM:-0600
TZOFFSETTO:-0500
TZNAME:CDT
DTSTART:20260308T080000
END:DAYLIGHT
BEGIN:STANDARD
TZOFFSETFROM:-0500
TZOFFSETTO:-0600
TZNAME:CST
DTSTART:20261101T070000
END:STANDARD
BEGIN:DAYLIGHT
TZOFFSETFROM:-0600
TZOFFSETTO:-0500
TZNAME:CDT
DTSTART:20270314T080000
END:DAYLIGHT
BEGIN:STANDARD
TZOFFSETFROM:-0500
TZOFFSETTO:-0600
TZNAME:CST
DTSTART:20271107T070000
END:STANDARD
END:VTIMEZONE
BEGIN:VEVENT
DTSTART;TZID=America/Chicago:20260410T190000
DTEND;TZID=America/Chicago:20260410T220000
DTSTAMP:20260419T170618
CREATED:20260407T113933Z
LAST-MODIFIED:20260407T113933Z
UID:10904-1775847600-1775858400@www.acadianamusichub.com
SUMMARY:Damon Troy
DESCRIPTION:
URL:https://www.acadianamusichub.com/event/damon-troy-2/
LOCATION:Ol’ Country\, Louisiana
CATEGORIES:Damon Troy
END:VEVENT
BEGIN:VEVENT
DTSTART;TZID=America/Chicago:20260410T200000
DTEND;TZID=America/Chicago:20260410T200000
DTSTAMP:20260419T170618
CREATED:20260407T141105Z
LAST-MODIFIED:20260407T141105Z
UID:10918-1775851200-1775851200@www.acadianamusichub.com
SUMMARY:Do Ricepot
DESCRIPTION:
URL:https://www.acadianamusichub.com/event/do-ricepot/
LOCATION:Soul’s Teche Bar\, 5316 Main Hwy\, Louisiana
CATEGORIES:Do Ricepot
END:VEVENT
BEGIN:VEVENT
DTSTART;TZID=America/Chicago:20260410T200000
DTEND;TZID=America/Chicago:20260410T230000
DTSTAMP:20260419T170618
CREATED:20260406T183106Z
LAST-MODIFIED:20260406T183106Z
UID:10867-1775851200-1775862000@www.acadianamusichub.com
SUMMARY:Jeff & Sherry Dugan
DESCRIPTION:
URL:https://www.acadianamusichub.com/event/jeff-sherry-dugan-3/
LOCATION:The Hangout\, Louisiana
CATEGORIES:Jeff & Sherry Dugan
END:VEVENT
BEGIN:VEVENT
DTSTART;TZID=America/Chicago:20260410T200000
DTEND;TZID=America/Chicago:20260410T230000
DTSTAMP:20260419T170618
CREATED:20260407T113113Z
LAST-MODIFIED:20260407T113113Z
UID:10882-1775851200-1775862000@www.acadianamusichub.com
SUMMARY:Buddy Andrews
DESCRIPTION:
URL:https://www.acadianamusichub.com/event/buddy-andrews-7/
LOCATION:O’Darby’s Pub And Grill\, Louisiana
CATEGORIES:Buddy Andrews
END:VEVENT
BEGIN:VEVENT
DTSTART;TZID=America/Chicago:20260410T200000
DTEND;TZID=America/Chicago:20260410T230000
DTSTAMP:20260419T170618
CREATED:20260407T113935Z
LAST-MODIFIED:20260407T113935Z
UID:10905-1775851200-1775862000@www.acadianamusichub.com
SUMMARY:Jake Knott
DESCRIPTION:
URL:https://www.acadianamusichub.com/event/jake-knott-18/
LOCATION:The Barrel of Broussard\, 811 Albertson Parkway Ste P\, Louisiana
CATEGORIES:Jake Knott
END:VEVENT
BEGIN:VEVENT
DTSTART;TZID=America/Chicago:20260410T200000
DTEND;TZID=America/Chicago:20260411T020000
DTSTAMP:20260419T170618
CREATED:20260409T155102Z
LAST-MODIFIED:20260409T155102Z
UID:10930-1775851200-1775872800@www.acadianamusichub.com
SUMMARY:Dj B-Rody
DESCRIPTION:
URL:https://www.acadianamusichub.com/event/dj-b-rody-9/
LOCATION:Grand Point Tavern\, Louisiana
CATEGORIES:Dj B-Rody
END:VEVENT
BEGIN:VEVENT
DTSTART;TZID=America/Chicago:20260410T203000
DTEND;TZID=America/Chicago:20260410T230000
DTSTAMP:20260419T170618
CREATED:20260407T115104Z
LAST-MODIFIED:20260407T115104Z
UID:10907-1775853000-1775862000@www.acadianamusichub.com
SUMMARY:Nik-L Beer Band
DESCRIPTION:
URL:https://www.acadianamusichub.com/event/nik-l-beer-band/
LOCATION:Parks Cracklin Cook-Off\, Louisiana
CATEGORIES:Nik L Beer Band
END:VEVENT
BEGIN:VEVENT
DTSTART;TZID=America/Chicago:20260410T210000
DTEND;TZID=America/Chicago:20260410T230000
DTSTAMP:20260419T170618
CREATED:20260331T040108Z
LAST-MODIFIED:20260331T040108Z
UID:10758-1775854800-1775862000@www.acadianamusichub.com
SUMMARY:Keith Frank
DESCRIPTION:
URL:https://www.acadianamusichub.com/event/keith-frank/
LOCATION:Scott Boudin Festival\, Louisiana
CATEGORIES:Keith Frank
END:VEVENT
BEGIN:VEVENT
DTSTART;TZID=America/Chicago:20260410T210000
DTEND;TZID=America/Chicago:20260410T230000
DTSTAMP:20260419T170618
CREATED:20260407T113122Z
LAST-MODIFIED:20260407T113122Z
UID:10890-1775854800-1775862000@www.acadianamusichub.com
SUMMARY:David Henry
DESCRIPTION:
URL:https://www.acadianamusichub.com/event/david-henry-4/
LOCATION:The Endzone Hangout\, Louisiana
CATEGORIES:David Henry
END:VEVENT
BEGIN:VEVENT
DTSTART;TZID=America/Chicago:20260410T220000
DTEND;TZID=America/Chicago:20260410T220000
DTSTAMP:20260419T170618
CREATED:20260407T141107Z
LAST-MODIFIED:20260407T141107Z
UID:10922-1775858400-1775858400@www.acadianamusichub.com
SUMMARY:RaiKwon
DESCRIPTION:
URL:https://www.acadianamusichub.com/event/raikwon-11/
LOCATION:The Juke Joint Bar & Grill\, Louisiana
CATEGORIES:Raikwon
END:VEVENT
BEGIN:VEVENT
DTSTART;TZID=America/Chicago:20260410T220000
DTEND;TZID=America/Chicago:20260411T010000
DTSTAMP:20260419T170618
CREATED:20260409T155101Z
LAST-MODIFIED:20260409T155101Z
UID:10929-1775858400-1775869200@www.acadianamusichub.com
SUMMARY:Cajun Throwdown
DESCRIPTION:
URL:https://www.acadianamusichub.com/event/cajun-throwdown/
LOCATION:Cowboys\, Louisiana
CATEGORIES:Cajun Throwdown
END:VEVENT
BEGIN:VEVENT
DTSTART;TZID=America/Chicago:20260411T100000
DTEND;TZID=America/Chicago:20260411T110000
DTSTAMP:20260419T170619
CREATED:20260331T040106Z
LAST-MODIFIED:20260331T040106Z
UID:10756-1775901600-1775905200@www.acadianamusichub.com
SUMMARY:DJ Hideaway
DESCRIPTION:
URL:https://www.acadianamusichub.com/event/dj-hideaway-2/
LOCATION:Scott Boudin Festival\, Louisiana
CATEGORIES:DJ Hideaway
END:VEVENT
BEGIN:VEVENT
DTSTART;TZID=America/Chicago:20260411T110000
DTEND;TZID=America/Chicago:20260411T123000
DTSTAMP:20260419T170619
CREATED:20260407T115109Z
LAST-MODIFIED:20260407T115109Z
UID:10911-1775905200-1775910600@www.acadianamusichub.com
SUMMARY:En Cachette
DESCRIPTION:
URL:https://www.acadianamusichub.com/event/en-cachette/
LOCATION:Parks Cracklin Cook-Off\, Louisiana
CATEGORIES:En Cachette
END:VEVENT
BEGIN:VEVENT
DTSTART;TZID=America/Chicago:20260411T110000
DTEND;TZID=America/Chicago:20260411T130000
DTSTAMP:20260419T170619
CREATED:20260331T040057Z
LAST-MODIFIED:20260331T040057Z
UID:10747-1775905200-1775912400@www.acadianamusichub.com
SUMMARY:Adam Leger
DESCRIPTION:
URL:https://www.acadianamusichub.com/event/adam-leger-2/
LOCATION:Scott Boudin Festival\, Louisiana
CATEGORIES:Adam Leger
END:VEVENT
BEGIN:VEVENT
DTSTART;TZID=America/Chicago:20260411T110000
DTEND;TZID=America/Chicago:20260411T140000
DTSTAMP:20260419T170619
CREATED:20260313T103945Z
LAST-MODIFIED:20260313T103945Z
UID:10525-1775905200-1775916000@www.acadianamusichub.com
SUMMARY:Buddy Andrews & The Branded
DESCRIPTION:
URL:https://www.acadianamusichub.com/event/buddy-andrews-the-branded-2/
LOCATION:FFA Benefit @ Krotz Springs\, Unknown\, La
CATEGORIES:Buddy Andrews & The Branded
END:VEVENT
BEGIN:VEVENT
DTSTART;TZID=America/Chicago:20260411T113000
DTEND;TZID=America/Chicago:20260411T133000
DTSTAMP:20260419T170619
CREATED:20260331T112106Z
LAST-MODIFIED:20260331T112106Z
UID:10775-1775907000-1775914200@www.acadianamusichub.com
SUMMARY:Mike Broussard
DESCRIPTION:
URL:https://www.acadianamusichub.com/event/mike-broussard-14/
LOCATION:Courtesy Jeep\, Louisiana
CATEGORIES:Mike Broussard
END:VEVENT
BEGIN:VEVENT
DTSTART;TZID=America/Chicago:20260411T120000
DTEND;TZID=America/Chicago:20260411T120000
DTSTAMP:20260419T170619
CREATED:20260409T012104Z
LAST-MODIFIED:20260409T012104Z
UID:10928-1775908800-1775908800@www.acadianamusichub.com
SUMMARY:Pine Leaf Boys
DESCRIPTION:
URL:https://www.acadianamusichub.com/event/pine-leaf-boys/
LOCATION:Parc Des Pont Breaux\, Louisiana
CATEGORIES:Pine Leaf Boys
END:VEVENT
BEGIN:VEVENT
DTSTART;TZID=America/Chicago:20260411T124500
DTEND;TZID=America/Chicago:20260411T140000
DTSTAMP:20260419T170619
CREATED:20260407T115110Z
LAST-MODIFIED:20260407T115110Z
UID:10912-1775911500-1775916000@www.acadianamusichub.com
SUMMARY:The Eighties Experience
DESCRIPTION:
URL:https://www.acadianamusichub.com/event/the-eighties-experience-7/
LOCATION:Parks Cracklin Cook-Off\, Louisiana
CATEGORIES:The Eighties Experience
END:VEVENT
BEGIN:VEVENT
DTSTART;TZID=America/Chicago:20260411T133000
DTEND;TZID=America/Chicago:20260411T153000
DTSTAMP:20260419T170619
CREATED:20260331T040058Z
LAST-MODIFIED:20260331T040058Z
UID:10748-1775914200-1775921400@www.acadianamusichub.com
SUMMARY:Leif Meche
DESCRIPTION:
URL:https://www.acadianamusichub.com/event/leif-meche-2/
LOCATION:Scott Boudin Festival\, Louisiana
CATEGORIES:Leif Meche
END:VEVENT
BEGIN:VEVENT
DTSTART;TZID=America/Chicago:20260411T140000
DTEND;TZID=America/Chicago:20260411T170000
DTSTAMP:20260419T170619
CREATED:20260331T040100Z
LAST-MODIFIED:20260331T040100Z
UID:10750-1775916000-1775926800@www.acadianamusichub.com
SUMMARY:Kaleb Olivier
DESCRIPTION:
URL:https://www.acadianamusichub.com/event/kaleb-olivier-6/
LOCATION:Lakeview Boot Brew Fest – Lakeview Park\, Eunice\, Louisiana
CATEGORIES:Kaleb Olivier
END:VEVENT
BEGIN:VEVENT
DTSTART;TZID=America/Chicago:20260411T143000
DTEND;TZID=America/Chicago:20260411T160000
DTSTAMP:20260419T170619
CREATED:20260407T115107Z
LAST-MODIFIED:20260407T115107Z
UID:10910-1775917800-1775923200@www.acadianamusichub.com
SUMMARY:Darel Gros & High Rollin Band
DESCRIPTION:
URL:https://www.acadianamusichub.com/event/darel-gros-high-rollin-band/
LOCATION:Parks Cracklin Cook-Off\, Louisiana
CATEGORIES:Darel Gros & High Rollin Band
END:VEVENT
BEGIN:VEVENT
DTSTART;TZID=America/Chicago:20260411T160000
DTEND;TZID=America/Chicago:20260411T180000
DTSTAMP:20260419T170619
CREATED:20260331T040101Z
LAST-MODIFIED:20260331T040101Z
UID:10751-1775923200-1775930400@www.acadianamusichub.com
SUMMARY:Rusty Metoyer
DESCRIPTION:
URL:https://www.acadianamusichub.com/event/rusty-metoyer-7/
LOCATION:Scott Boudin Festival\, Louisiana
CATEGORIES:Rusty Metoyer
END:VEVENT
BEGIN:VEVENT
DTSTART;TZID=America/Chicago:20260411T173000
DTEND;TZID=America/Chicago:20260411T193000
DTSTAMP:20260419T170619
CREATED:20260407T115112Z
LAST-MODIFIED:20260407T115112Z
UID:10914-1775928600-1775935800@www.acadianamusichub.com
SUMMARY:Corey Ledet Zydeco
DESCRIPTION:
URL:https://www.acadianamusichub.com/event/corey-ledet-zydeco/
LOCATION:Parks Cracklin Cook-Off\, Louisiana
CATEGORIES:Corey Ledet Zydeco
END:VEVENT
BEGIN:VEVENT
DTSTART;TZID=America/Chicago:20260411T180000
DTEND;TZID=America/Chicago:20260411T180000
DTSTAMP:20260419T170619
CREATED:20260331T040104Z
LAST-MODIFIED:20260331T040104Z
UID:10754-1775930400-1775930400@www.acadianamusichub.com
SUMMARY:Jake Knott
DESCRIPTION:
URL:https://www.acadianamusichub.com/event/jake-knott-10/
LOCATION:Cajun Oasis RV Resort\, Unknown\, Louisiana
CATEGORIES:Jake Knott
END:VEVENT
BEGIN:VEVENT
DTSTART;TZID=America/Chicago:20260411T180000
DTEND;TZID=America/Chicago:20260411T180000
DTSTAMP:20260419T170619
CREATED:20260407T113116Z
LAST-MODIFIED:20260407T113116Z
UID:10885-1775930400-1775930400@www.acadianamusichub.com
SUMMARY:Prentice James
DESCRIPTION:
URL:https://www.acadianamusichub.com/event/prentice-james/
LOCATION:Riverfront Abbeville\, Louisiana
CATEGORIES:Prentice James
END:VEVENT
BEGIN:VEVENT
DTSTART;TZID=America/Chicago:20260411T180000
DTEND;TZID=America/Chicago:20260411T210000
DTSTAMP:20260419T170619
CREATED:20260402T001808Z
LAST-MODIFIED:20260402T001808Z
UID:10818-1775930400-1775941200@www.acadianamusichub.com
SUMMARY:Paul Piazza
DESCRIPTION:
URL:https://www.acadianamusichub.com/event/paul-piazza-7/
LOCATION:Jim Deggy’s Brick Oven Pizza\, Louisiana
CATEGORIES:Paul Piazza
END:VEVENT
BEGIN:VEVENT
DTSTART;TZID=America/Chicago:20260411T180000
DTEND;TZID=America/Chicago:20260411T210000
DTSTAMP:20260419T170619
CREATED:20260406T183111Z
LAST-MODIFIED:20260406T183111Z
UID:10872-1775930400-1775941200@www.acadianamusichub.com
SUMMARY:Kip Sonnier
DESCRIPTION:
URL:https://www.acadianamusichub.com/event/kip-sonnier-21/
LOCATION:Poche’s RV Park\, Louisiana
CATEGORIES:Kip Sonnier
END:VEVENT
BEGIN:VEVENT
DTSTART;TZID=America/Chicago:20260411T180000
DTEND;TZID=America/Chicago:20260411T210000
DTSTAMP:20260419T170619
CREATED:20260407T115111Z
LAST-MODIFIED:20260407T115111Z
UID:10913-1775930400-1775941200@www.acadianamusichub.com
SUMMARY:Shelbe & Blasien
DESCRIPTION:
URL:https://www.acadianamusichub.com/event/shelbe-blasien/
LOCATION:Naq’s N Duson\, Louisiana
CATEGORIES:Shelbe & Blasien
END:VEVENT
BEGIN:VEVENT
DTSTART;TZID=America/Chicago:20260411T180000
DTEND;TZID=America/Chicago:20260411T210000
DTSTAMP:20260419T170619
CREATED:20260407T141103Z
LAST-MODIFIED:20260407T141103Z
UID:10916-1775930400-1775941200@www.acadianamusichub.com
SUMMARY:Raikwon
DESCRIPTION:
URL:https://www.acadianamusichub.com/event/raikwon-10/
LOCATION:Quebedeaux’s Cajun Cafe\, Unknown\, Louisiana
CATEGORIES:Raikwon
END:VEVENT
BEGIN:VEVENT
DTSTART;TZID=America/Chicago:20260411T183000
DTEND;TZID=America/Chicago:20260411T183000
DTSTAMP:20260419T170619
CREATED:20260407T113111Z
LAST-MODIFIED:20260407T113111Z
UID:10880-1775932200-1775932200@www.acadianamusichub.com
SUMMARY:Rory Suire
DESCRIPTION:
URL:https://www.acadianamusichub.com/event/rory-suire/
LOCATION:Shuck’s Abbeville\, Louisiana
CATEGORIES:Rory Suire
END:VEVENT
END:VCALENDAR