BEGIN:VCALENDAR
VERSION:2.0
PRODID:-//Acadiana Music Hub - ECPv6.15.20//NONSGML v1.0//EN
CALSCALE:GREGORIAN
METHOD:PUBLISH
X-WR-CALNAME:Acadiana Music Hub
X-ORIGINAL-URL:https://www.acadianamusichub.com
X-WR-CALDESC:Events for Acadiana Music Hub
REFRESH-INTERVAL;VALUE=DURATION:PT1H
X-Robots-Tag:noindex
X-PUBLISHED-TTL:PT1H
BEGIN:VTIMEZONE
TZID:America/Chicago
BEGIN:DAYLIGHT
TZOFFSETFROM:-0600
TZOFFSETTO:-0500
TZNAME:CDT
DTSTART:20250309T080000
END:DAYLIGHT
BEGIN:STANDARD
TZOFFSETFROM:-0500
TZOFFSETTO:-0600
TZNAME:CST
DTSTART:20251102T070000
END:STANDARD
BEGIN:DAYLIGHT
TZOFFSETFROM:-0600
TZOFFSETTO:-0500
TZNAME:CDT
DTSTART:20260308T080000
END:DAYLIGHT
BEGIN:STANDARD
TZOFFSETFROM:-0500
TZOFFSETTO:-0600
TZNAME:CST
DTSTART:20261101T070000
END:STANDARD
BEGIN:DAYLIGHT
TZOFFSETFROM:-0600
TZOFFSETTO:-0500
TZNAME:CDT
DTSTART:20270314T080000
END:DAYLIGHT
BEGIN:STANDARD
TZOFFSETFROM:-0500
TZOFFSETTO:-0600
TZNAME:CST
DTSTART:20271107T070000
END:STANDARD
END:VTIMEZONE
BEGIN:VEVENT
DTSTART;TZID=America/Chicago:20260404T193000
DTEND;TZID=America/Chicago:20260404T223000
DTSTAMP:20260420T002023
CREATED:20260319T011101Z
LAST-MODIFIED:20260319T011101Z
UID:10615-1775331000-1775341800@www.acadianamusichub.com
SUMMARY:Seth Spell And Cajun Strong
DESCRIPTION:
URL:https://www.acadianamusichub.com/event/seth-spell-and-cajun-strong/
LOCATION:The Legion Rayne\, Rayne\, Louisiana
CATEGORIES:Seth Spell And Cajun Strong
END:VEVENT
BEGIN:VEVENT
DTSTART;TZID=America/Chicago:20260404T200000
DTEND;TZID=America/Chicago:20260404T200000
DTSTAMP:20260420T002023
CREATED:20260319T011059Z
LAST-MODIFIED:20260319T011059Z
UID:10613-1775332800-1775332800@www.acadianamusichub.com
SUMMARY:Dustin Ray
DESCRIPTION:
URL:https://www.acadianamusichub.com/event/dustin-ray-8/
LOCATION:The Station\, Unknown\, Louisiana
CATEGORIES:Dustin Ray
END:VEVENT
BEGIN:VEVENT
DTSTART;TZID=America/Chicago:20260404T200000
DTEND;TZID=America/Chicago:20260404T200000
DTSTAMP:20260420T002023
CREATED:20260331T174039Z
LAST-MODIFIED:20260331T174039Z
UID:10800-1775332800-1775332800@www.acadianamusichub.com
SUMMARY:David Henry
DESCRIPTION:
URL:https://www.acadianamusichub.com/event/david-henry/
LOCATION:The Hangover—Crowley\, Louisiana
CATEGORIES:David Henry
END:VEVENT
BEGIN:VEVENT
DTSTART;TZID=America/Chicago:20260404T200000
DTEND;TZID=America/Chicago:20260404T230000
DTSTAMP:20260420T002023
CREATED:20260402T001810Z
LAST-MODIFIED:20260402T001810Z
UID:10820-1775332800-1775343600@www.acadianamusichub.com
SUMMARY:Geno Delafose & French Rockin' Boogie
DESCRIPTION:
URL:https://www.acadianamusichub.com/event/geno-delafose-french-rockin-boogie-3/
LOCATION:Lakeview Park & Beach\, Louisiana
CATEGORIES:Geno Delafose & French Rockin Boogie
END:VEVENT
BEGIN:VEVENT
DTSTART;TZID=America/Chicago:20260404T203000
DTEND;TZID=America/Chicago:20260404T203000
DTSTAMP:20260420T002023
CREATED:20260331T013855Z
LAST-MODIFIED:20260331T013855Z
UID:10735-1775334600-1775334600@www.acadianamusichub.com
SUMMARY:Bubba And Alfred
DESCRIPTION:
URL:https://www.acadianamusichub.com/event/bubba-and-alfred-3/
LOCATION:Cajun Oasis RV Resort\, Unknown\, Louisiana
CATEGORIES:Bubba And Alfred
END:VEVENT
BEGIN:VEVENT
DTSTART;TZID=America/Chicago:20260404T210000
DTEND;TZID=America/Chicago:20260404T210000
DTSTAMP:20260420T002023
CREATED:20260322T212056Z
LAST-MODIFIED:20260322T212056Z
UID:10630-1775336400-1775336400@www.acadianamusichub.com
SUMMARY:Leif Meche Band
DESCRIPTION:
URL:https://www.acadianamusichub.com/event/leif-meche-band-10/
LOCATION:Reggies Downtown\, Crowley\, Louisiana
CATEGORIES:Leif Meche Band
END:VEVENT
BEGIN:VEVENT
DTSTART;TZID=America/Chicago:20260404T210000
DTEND;TZID=America/Chicago:20260404T210000
DTSTAMP:20260420T002023
CREATED:20260402T172944Z
LAST-MODIFIED:20260402T172944Z
UID:10860-1775336400-1775336400@www.acadianamusichub.com
SUMMARY:Buddy Andrews & The Branded
DESCRIPTION:
URL:https://www.acadianamusichub.com/event/buddy-andrews-the-branded-7/
LOCATION:Sam’s Place\, Louisiana
CATEGORIES:Buddy Andrews & The Branded
END:VEVENT
BEGIN:VEVENT
DTSTART;TZID=America/Chicago:20260404T210000
DTEND;TZID=America/Chicago:20260405T020000
DTSTAMP:20260420T002023
CREATED:20260330T190052Z
LAST-MODIFIED:20260330T190052Z
UID:10726-1775336400-1775354400@www.acadianamusichub.com
SUMMARY:Dj B-Rody
DESCRIPTION:
URL:https://www.acadianamusichub.com/event/dj-b-rody-6/
LOCATION:Willie’s\, Louisiana
CATEGORIES:Dj B-Rody
END:VEVENT
BEGIN:VEVENT
DTSTART;TZID=America/Chicago:20260404T213000
DTEND;TZID=America/Chicago:20260404T213000
DTSTAMP:20260420T002023
CREATED:20260323T184935Z
LAST-MODIFIED:20260323T184935Z
UID:10663-1775338200-1775338200@www.acadianamusichub.com
SUMMARY:Junior Lacrosse Band
DESCRIPTION:
URL:https://www.acadianamusichub.com/event/junior-lacrosse-band-14/
LOCATION:Music Cove\, Louisiana
CATEGORIES:Junior Lacrosse Band
END:VEVENT
BEGIN:VEVENT
DTSTART;TZID=America/Chicago:20260404T220000
DTEND;TZID=America/Chicago:20260405T010000
DTSTAMP:20260420T002023
CREATED:20260330T193059Z
LAST-MODIFIED:20260330T193059Z
UID:10731-1775340000-1775350800@www.acadianamusichub.com
SUMMARY:Alex Touchet
DESCRIPTION:
URL:https://www.acadianamusichub.com/event/alex-touchet/
LOCATION:Cowboy’s Night Club\, Louisiana
CATEGORIES:Alex Touchet
END:VEVENT
BEGIN:VEVENT
DTSTART;TZID=America/Chicago:20260405T000000
DTEND;TZID=America/Chicago:20260405T000000
DTSTAMP:20260420T002023
CREATED:20260323T184930Z
LAST-MODIFIED:20260323T184930Z
UID:10656-1775347200-1775347200@www.acadianamusichub.com
SUMMARY:Junior Lacrosse Band
DESCRIPTION:
URL:https://www.acadianamusichub.com/event/junior-lacrosse-band-11/
LOCATION:Island Hoppin’ & Swamp Poppin’ Cruise\, Louisiana
CATEGORIES:Junior Lacrosse Band
END:VEVENT
BEGIN:VEVENT
DTSTART;TZID=America/Chicago:20260405T160000
DTEND;TZID=America/Chicago:20260405T160000
DTSTAMP:20260420T002023
CREATED:20260330T193056Z
LAST-MODIFIED:20260330T193056Z
UID:10729-1775404800-1775404800@www.acadianamusichub.com
SUMMARY:Bubba And Alfred
DESCRIPTION:
URL:https://www.acadianamusichub.com/event/bubba-and-alfred/
LOCATION:Cajun’s Bar And Dance Hall\, Louisiana
CATEGORIES:Bubba And Alfred
END:VEVENT
BEGIN:VEVENT
DTSTART;TZID=America/Chicago:20260405T170000
DTEND;TZID=America/Chicago:20260405T200000
DTSTAMP:20260420T002023
CREATED:20260402T001805Z
LAST-MODIFIED:20260402T001805Z
UID:10815-1775408400-1775419200@www.acadianamusichub.com
SUMMARY:Geno Delafose & French Rockin' Boogie
DESCRIPTION:
URL:https://www.acadianamusichub.com/event/geno-delafose-french-rockin-boogie-2/
LOCATION:Rock N Bowl De Lafayette\, Louisiana
CATEGORIES:Geno Delafose & French Rockin Boogie
END:VEVENT
BEGIN:VEVENT
DTSTART;TZID=America/Chicago:20260405T200000
DTEND;TZID=America/Chicago:20260406T000000
DTSTAMP:20260420T002023
CREATED:20260322T212047Z
LAST-MODIFIED:20260322T212047Z
UID:10624-1775419200-1775433600@www.acadianamusichub.com
SUMMARY:Leif Meche Band
DESCRIPTION:
URL:https://www.acadianamusichub.com/event/leif-meche-band-8/
LOCATION:Rush Lounge @ Golden Nugget\, Lake Charles\, Louisiana
CATEGORIES:Leif Meche Band
END:VEVENT
BEGIN:VEVENT
DTSTART;TZID=America/Chicago:20260407T180000
DTEND;TZID=America/Chicago:20260407T210000
DTSTAMP:20260420T002023
CREATED:20260406T183109Z
LAST-MODIFIED:20260406T183109Z
UID:10870-1775584800-1775595600@www.acadianamusichub.com
SUMMARY:Kip Sonnier
DESCRIPTION:
URL:https://www.acadianamusichub.com/event/kip-sonnier-19/
LOCATION:Cajun Claws Seafood Boilers\, Louisiana
CATEGORIES:Kip Sonnier
END:VEVENT
BEGIN:VEVENT
DTSTART;TZID=America/Chicago:20260408T120000
DTEND;TZID=America/Chicago:20260408T120000
DTSTAMP:20260420T002023
CREATED:20260409T012102Z
LAST-MODIFIED:20260409T012102Z
UID:10926-1775649600-1775649600@www.acadianamusichub.com
SUMMARY:Soul Express Brass Band
DESCRIPTION:
URL:https://www.acadianamusichub.com/event/soul-express-brass-band/
LOCATION:Parc Des Pont Breaux\, Louisiana
CATEGORIES:Soul Express Brass Band
END:VEVENT
BEGIN:VEVENT
DTSTART;TZID=America/Chicago:20260408T170000
DTEND;TZID=America/Chicago:20260408T170000
DTSTAMP:20260420T002023
CREATED:20260408T123100Z
LAST-MODIFIED:20260408T123100Z
UID:10923-1775667600-1775667600@www.acadianamusichub.com
SUMMARY:Dustin Ray
DESCRIPTION:
URL:https://www.acadianamusichub.com/event/dustin-ray-18/
LOCATION:Breauxs Cajun Kitchen\, Unknown\, Louisiana
CATEGORIES:Dustin Ray
END:VEVENT
BEGIN:VEVENT
DTSTART;TZID=America/Chicago:20260408T180000
DTEND;TZID=America/Chicago:20260408T180000
DTSTAMP:20260420T002023
CREATED:20260407T113124Z
LAST-MODIFIED:20260407T113124Z
UID:10892-1775671200-1775671200@www.acadianamusichub.com
SUMMARY:Old Friends
DESCRIPTION:
URL:https://www.acadianamusichub.com/event/old-friends-2/
LOCATION:Kelvin’s\, Louisiana
CATEGORIES:Old Friends
END:VEVENT
BEGIN:VEVENT
DTSTART;TZID=America/Chicago:20260408T180000
DTEND;TZID=America/Chicago:20260408T200000
DTSTAMP:20260420T002024
CREATED:20260406T183103Z
LAST-MODIFIED:20260406T183103Z
UID:10864-1775671200-1775678400@www.acadianamusichub.com
SUMMARY:Kip Sonnier
DESCRIPTION:
URL:https://www.acadianamusichub.com/event/kip-sonnier-16/
LOCATION:El Mariachi Mexican Grill\, Louisiana
CATEGORIES:Kip Sonnier
END:VEVENT
BEGIN:VEVENT
DTSTART;TZID=America/Chicago:20260408T180000
DTEND;TZID=America/Chicago:20260408T210000
DTSTAMP:20260420T002024
CREATED:20260406T183105Z
LAST-MODIFIED:20260406T183105Z
UID:10866-1775671200-1775682000@www.acadianamusichub.com
SUMMARY:Jeff & Sherry Dugan
DESCRIPTION:
URL:https://www.acadianamusichub.com/event/jeff-sherry-dugan-2/
LOCATION:Naq’s N Duson\, Louisiana
CATEGORIES:Jeff & Sherry Dugan
END:VEVENT
BEGIN:VEVENT
DTSTART;TZID=America/Chicago:20260408T180000
DTEND;TZID=America/Chicago:20260408T210000
DTSTAMP:20260420T002024
CREATED:20260407T113123Z
LAST-MODIFIED:20260407T113123Z
UID:10891-1775671200-1775682000@www.acadianamusichub.com
SUMMARY:David Henry
DESCRIPTION:
URL:https://www.acadianamusichub.com/event/david-henry-5/
LOCATION:Pedros Opelousas\, Louisiana
CATEGORIES:David Henry
END:VEVENT
BEGIN:VEVENT
DTSTART;TZID=America/Chicago:20260408T183000
DTEND;TZID=America/Chicago:20260408T213000
DTSTAMP:20260420T002024
CREATED:20260402T001803Z
LAST-MODIFIED:20260402T001803Z
UID:10813-1775673000-1775683800@www.acadianamusichub.com
SUMMARY:Paul Piazza
DESCRIPTION:
URL:https://www.acadianamusichub.com/event/paul-piazza-6/
LOCATION:The Taproom At Sugar Mill Pond\, Louisiana
CATEGORIES:Paul Piazza
END:VEVENT
BEGIN:VEVENT
DTSTART;TZID=America/Chicago:20260409T120000
DTEND;TZID=America/Chicago:20260409T120000
DTSTAMP:20260420T002024
CREATED:20260409T012103Z
LAST-MODIFIED:20260409T012103Z
UID:10927-1775736000-1775736000@www.acadianamusichub.com
SUMMARY:Chubby Carrier & The Bayou Swamp Band
DESCRIPTION:
URL:https://www.acadianamusichub.com/event/chubby-carrier-the-bayou-swamp-band-2/
LOCATION:Parc Des Pont Breaux\, Louisiana
CATEGORIES:Chubby Carrier & The Bayou Swamp Band
END:VEVENT
BEGIN:VEVENT
DTSTART;TZID=America/Chicago:20260409T180000
DTEND;TZID=America/Chicago:20260409T180000
DTSTAMP:20260420T002024
CREATED:20260330T051058Z
LAST-MODIFIED:20260330T051058Z
UID:10718-1775757600-1775757600@www.acadianamusichub.com
SUMMARY:Jake Knott
DESCRIPTION:
URL:https://www.acadianamusichub.com/event/jake-knott-7/
LOCATION:Silver Slipper Jam\, Louisiana
CATEGORIES:Jake Knott
END:VEVENT
BEGIN:VEVENT
DTSTART;TZID=America/Chicago:20260409T180000
DTEND;TZID=America/Chicago:20260409T180000
DTSTAMP:20260420T002024
CREATED:20260407T113109Z
LAST-MODIFIED:20260407T113109Z
UID:10878-1775757600-1775757600@www.acadianamusichub.com
SUMMARY:Ridge Runners
DESCRIPTION:
URL:https://www.acadianamusichub.com/event/ridge-runners/
LOCATION:Sounds On The Square\, Louisiana
CATEGORIES:Ridge Runners
END:VEVENT
BEGIN:VEVENT
DTSTART;TZID=America/Chicago:20260409T180000
DTEND;TZID=America/Chicago:20260409T203000
DTSTAMP:20260420T002024
CREATED:20260322T212055Z
LAST-MODIFIED:20260322T212055Z
UID:10628-1775757600-1775766600@www.acadianamusichub.com
SUMMARY:Glenn Himel  Duo - Music Masters
DESCRIPTION:
URL:https://www.acadianamusichub.com/event/glenn-himel-duo-music-masters/
LOCATION:Buck & Johnny’s\, Breaux Bridge\, Louisiana
CATEGORIES:Glenn Himel Duo - Music Masters
END:VEVENT
BEGIN:VEVENT
DTSTART;TZID=America/Chicago:20260409T180000
DTEND;TZID=America/Chicago:20260409T210000
DTSTAMP:20260420T002024
CREATED:20260322T212049Z
LAST-MODIFIED:20260322T212049Z
UID:10625-1775757600-1775768400@www.acadianamusichub.com
SUMMARY:Kaleb Olivier
DESCRIPTION:
URL:https://www.acadianamusichub.com/event/kaleb-olivier-10/
LOCATION:El Paso in Youngsville\, Youngsville\, Louisiana
CATEGORIES:Kaleb Olivier
END:VEVENT
BEGIN:VEVENT
DTSTART;TZID=America/Chicago:20260409T180000
DTEND;TZID=America/Chicago:20260409T210000
DTSTAMP:20260420T002024
CREATED:20260322T212053Z
LAST-MODIFIED:20260322T212053Z
UID:10627-1775757600-1775768400@www.acadianamusichub.com
SUMMARY:Leif Meche Band
DESCRIPTION:
URL:https://www.acadianamusichub.com/event/leif-meche-band-9/
LOCATION:Crawfish Hut\, Rayne\, Louisiana
CATEGORIES:Leif Meche Band
END:VEVENT
BEGIN:VEVENT
DTSTART;TZID=America/Chicago:20260409T180000
DTEND;TZID=America/Chicago:20260409T210000
DTSTAMP:20260420T002024
CREATED:20260331T111056Z
LAST-MODIFIED:20260331T111056Z
UID:10764-1775757600-1775768400@www.acadianamusichub.com
SUMMARY:Mike Broussard
DESCRIPTION:
URL:https://www.acadianamusichub.com/event/mike-broussard-13/
LOCATION:Cankton Cafe\, Louisiana
CATEGORIES:Mike Broussard
END:VEVENT
BEGIN:VEVENT
DTSTART;TZID=America/Chicago:20260409T180000
DTEND;TZID=America/Chicago:20260409T210000
DTSTAMP:20260420T002024
CREATED:20260406T183110Z
LAST-MODIFIED:20260406T183110Z
UID:10871-1775757600-1775768400@www.acadianamusichub.com
SUMMARY:Kip Sonnier
DESCRIPTION:
URL:https://www.acadianamusichub.com/event/kip-sonnier-20/
LOCATION:El Corazon St Martinville\, Louisiana
CATEGORIES:Kip Sonnier
END:VEVENT
END:VCALENDAR