BEGIN:VCALENDAR
VERSION:2.0
PRODID:-//Acadiana Music Hub - ECPv6.15.20//NONSGML v1.0//EN
CALSCALE:GREGORIAN
METHOD:PUBLISH
X-WR-CALNAME:Acadiana Music Hub
X-ORIGINAL-URL:https://www.acadianamusichub.com
X-WR-CALDESC:Events for Acadiana Music Hub
REFRESH-INTERVAL;VALUE=DURATION:PT1H
X-Robots-Tag:noindex
X-PUBLISHED-TTL:PT1H
BEGIN:VTIMEZONE
TZID:America/Chicago
BEGIN:DAYLIGHT
TZOFFSETFROM:-0600
TZOFFSETTO:-0500
TZNAME:CDT
DTSTART:20250309T080000
END:DAYLIGHT
BEGIN:STANDARD
TZOFFSETFROM:-0500
TZOFFSETTO:-0600
TZNAME:CST
DTSTART:20251102T070000
END:STANDARD
BEGIN:DAYLIGHT
TZOFFSETFROM:-0600
TZOFFSETTO:-0500
TZNAME:CDT
DTSTART:20260308T080000
END:DAYLIGHT
BEGIN:STANDARD
TZOFFSETFROM:-0500
TZOFFSETTO:-0600
TZNAME:CST
DTSTART:20261101T070000
END:STANDARD
BEGIN:DAYLIGHT
TZOFFSETFROM:-0600
TZOFFSETTO:-0500
TZNAME:CDT
DTSTART:20270314T080000
END:DAYLIGHT
BEGIN:STANDARD
TZOFFSETFROM:-0500
TZOFFSETTO:-0600
TZNAME:CST
DTSTART:20271107T070000
END:STANDARD
END:VTIMEZONE
BEGIN:VEVENT
DTSTART;TZID=America/Chicago:20260508T180000
DTEND;TZID=America/Chicago:20260508T210000
DTSTAMP:20260419T183614
CREATED:20260413T172419Z
LAST-MODIFIED:20260413T172419Z
UID:10956-1778263200-1778274000@www.acadianamusichub.com
SUMMARY:Kaleb Olivier
DESCRIPTION:
URL:https://www.acadianamusichub.com/event/kaleb-olivier-18/
LOCATION:Naq’s N Duson\, Louisiana
CATEGORIES:Kaleb Olivier
END:VEVENT
BEGIN:VEVENT
DTSTART;TZID=America/Chicago:20260508T180000
DTEND;TZID=America/Chicago:20260508T193000
DTSTAMP:20260419T183614
CREATED:20260413T172429Z
LAST-MODIFIED:20260413T172429Z
UID:10961-1778263200-1778268600@www.acadianamusichub.com
SUMMARY:Leif Meche Band
DESCRIPTION:
URL:https://www.acadianamusichub.com/event/leif-meche-band-21/
LOCATION:Frog Festival\, Rayne\, Louisiana
CATEGORIES:Leif Meche Band
END:VEVENT
BEGIN:VEVENT
DTSTART;TZID=America/Chicago:20260507T180000
DTEND;TZID=America/Chicago:20260507T210000
DTSTAMP:20260419T183614
CREATED:20260413T172453Z
LAST-MODIFIED:20260413T172453Z
UID:10977-1778176800-1778187600@www.acadianamusichub.com
SUMMARY:Kaleb Olivier
DESCRIPTION:
URL:https://www.acadianamusichub.com/event/kaleb-olivier-20/
LOCATION:El Paso in Youngsville\, Youngsville\, Louisiana
CATEGORIES:Kaleb Olivier
END:VEVENT
BEGIN:VEVENT
DTSTART;TZID=America/Chicago:20260503T150000
DTEND;TZID=America/Chicago:20260503T190000
DTSTAMP:20260419T183614
CREATED:20260415T200036Z
LAST-MODIFIED:20260415T200036Z
UID:11091-1777820400-1777834800@www.acadianamusichub.com
SUMMARY:Junior Lacrosse Band
DESCRIPTION:
URL:https://www.acadianamusichub.com/event/junior-lacrosse-band-25/
LOCATION:Freds On The River\, Louisiana
CATEGORIES:Junior Lacrosse Band
END:VEVENT
BEGIN:VEVENT
DTSTART;TZID=America/Chicago:20260502T213000
DTEND;TZID=America/Chicago:20260502T213000
DTSTAMP:20260419T183614
CREATED:20260415T200039Z
LAST-MODIFIED:20260415T200039Z
UID:11095-1777757400-1777757400@www.acadianamusichub.com
SUMMARY:Junior Lacrosse Band
DESCRIPTION:
URL:https://www.acadianamusichub.com/event/junior-lacrosse-band-28/
LOCATION:Music Cove\, Louisiana
CATEGORIES:Junior Lacrosse Band
END:VEVENT
BEGIN:VEVENT
DTSTART;TZID=America/Chicago:20260502T210000
DTEND;TZID=America/Chicago:20260502T210000
DTSTAMP:20260419T183614
CREATED:20260413T172503Z
LAST-MODIFIED:20260413T172503Z
UID:10985-1777755600-1777755600@www.acadianamusichub.com
SUMMARY:Dustin Ray
DESCRIPTION:
URL:https://www.acadianamusichub.com/event/dustin-ray-25/
LOCATION:Cajun Country\, Unknown\, Louisiana
CATEGORIES:Dustin Ray
END:VEVENT
BEGIN:VEVENT
DTSTART;TZID=America/Chicago:20260502T200000
DTEND;TZID=America/Chicago:20260502T230000
DTSTAMP:20260419T183614
CREATED:20260313T110648Z
LAST-MODIFIED:20260313T110648Z
UID:10543-1777752000-1777762800@www.acadianamusichub.com
SUMMARY:Buddy Andrews & The Branded
DESCRIPTION:
URL:https://www.acadianamusichub.com/event/buddy-andrews-the-branded-5/
LOCATION:Paradise II\, Unknown\, La
CATEGORIES:Buddy Andrews & The Branded
END:VEVENT
BEGIN:VEVENT
DTSTART;TZID=America/Chicago:20260502T193000
DTEND;TZID=America/Chicago:20260502T223000
DTSTAMP:20260419T183614
CREATED:20260413T172414Z
LAST-MODIFIED:20260413T172414Z
UID:10952-1777750200-1777761000@www.acadianamusichub.com
SUMMARY:4 Horses
DESCRIPTION:
URL:https://www.acadianamusichub.com/event/4-horses/
LOCATION:The Legion Rayne\, Rayne\, Louisiana
CATEGORIES:4 Horses
END:VEVENT
BEGIN:VEVENT
DTSTART;TZID=America/Chicago:20260502T183000
DTEND;TZID=America/Chicago:20260502T213000
DTSTAMP:20260419T183614
CREATED:20260413T172459Z
LAST-MODIFIED:20260413T172459Z
UID:10982-1777746600-1777757400@www.acadianamusichub.com
SUMMARY:Mary Broussard
DESCRIPTION:
URL:https://www.acadianamusichub.com/event/mary-broussard/
LOCATION:Buck & Johnny’s\, Breaux Bridge\, Louisiana
CATEGORIES:Mary Broussard
END:VEVENT
BEGIN:VEVENT
DTSTART;TZID=America/Chicago:20260502T180000
DTEND;TZID=America/Chicago:20260502T210000
DTSTAMP:20260419T183614
CREATED:20260413T172447Z
LAST-MODIFIED:20260413T172447Z
UID:10972-1777744800-1777755600@www.acadianamusichub.com
SUMMARY:Kaleb Olivier
DESCRIPTION:
URL:https://www.acadianamusichub.com/event/kaleb-olivier-19/
LOCATION:Prejean’s\, Broussard\, Louisiana
CATEGORIES:Kaleb Olivier
END:VEVENT
BEGIN:VEVENT
DTSTART;TZID=America/Chicago:20260502T133000
DTEND;TZID=America/Chicago:20260502T150000
DTSTAMP:20260419T183614
CREATED:20260415T200037Z
LAST-MODIFIED:20260415T200037Z
UID:11093-1777728600-1777734000@www.acadianamusichub.com
SUMMARY:Junior Lacrosse Band
DESCRIPTION:
URL:https://www.acadianamusichub.com/event/junior-lacrosse-band-26/
LOCATION:Firemans Fair\, Louisiana
CATEGORIES:Junior Lacrosse Band
END:VEVENT
BEGIN:VEVENT
DTSTART;TZID=America/Chicago:20260501T200000
DTEND;TZID=America/Chicago:20260502T000000
DTSTAMP:20260419T183614
CREATED:20260413T182018Z
LAST-MODIFIED:20260413T182018Z
UID:10996-1777665600-1777680000@www.acadianamusichub.com
SUMMARY:Junior Dugas\, Back On Da Bayou
DESCRIPTION:
URL:https://www.acadianamusichub.com/event/junior-dugas-back-on-da-bayou-6/
LOCATION:Train Station\, Louisiana
CATEGORIES:Back On Da Bayou,Junior Dugas
END:VEVENT
BEGIN:VEVENT
DTSTART;TZID=America/Chicago:20260501T183000
DTEND;TZID=America/Chicago:20260501T213000
DTSTAMP:20260419T183614
CREATED:20260413T172438Z
LAST-MODIFIED:20260413T172438Z
UID:10966-1777660200-1777671000@www.acadianamusichub.com
SUMMARY:Chloe Fontenot
DESCRIPTION:
URL:https://www.acadianamusichub.com/event/chloe-fontenot/
LOCATION:Buck & Johnny’s\, Breaux Bridge\, Louisiana
CATEGORIES:Chloe Fontenot
END:VEVENT
BEGIN:VEVENT
DTSTART;TZID=America/Chicago:20260501T173000
DTEND;TZID=America/Chicago:20260501T173000
DTSTAMP:20260419T183614
CREATED:20260414T131010Z
LAST-MODIFIED:20260414T131010Z
UID:11025-1777656600-1777656600@www.acadianamusichub.com
SUMMARY:Junior Lacrosse Band
DESCRIPTION:
URL:https://www.acadianamusichub.com/event/junior-lacrosse-band-23/
LOCATION:Rockin On The Railroad\, La
CATEGORIES:Junior Lacrosse Band
END:VEVENT
BEGIN:VEVENT
DTSTART;TZID=America/Chicago:20260430T210000
DTEND;TZID=America/Chicago:20260501T000000
DTSTAMP:20260419T183614
CREATED:20260413T172417Z
LAST-MODIFIED:20260413T172417Z
UID:10954-1777582800-1777593600@www.acadianamusichub.com
SUMMARY:Paul Piazza
DESCRIPTION:
URL:https://www.acadianamusichub.com/event/paul-piazza-11/
LOCATION:Legends Pub\, Louisiana
CATEGORIES:Paul Piazza
END:VEVENT
BEGIN:VEVENT
DTSTART;TZID=America/Chicago:20260430T190000
DTEND;TZID=America/Chicago:20260430T190000
DTSTAMP:20260419T183614
CREATED:20260413T172444Z
LAST-MODIFIED:20260413T172444Z
UID:10970-1777575600-1777575600@www.acadianamusichub.com
SUMMARY:Bubba And Alfred
DESCRIPTION:
URL:https://www.acadianamusichub.com/event/bubba-and-alfred-16/
LOCATION:Cajuns In Churchpoint\, Louisiana
CATEGORIES:Bubba And Alfred
END:VEVENT
BEGIN:VEVENT
DTSTART;TZID=America/Chicago:20260430T180000
DTEND;TZID=America/Chicago:20260430T210000
DTSTAMP:20260419T183614
CREATED:20260413T173014Z
LAST-MODIFIED:20260413T173014Z
UID:10987-1777572000-1777582800@www.acadianamusichub.com
SUMMARY:Mike Broussard
DESCRIPTION:
URL:https://www.acadianamusichub.com/event/mike-broussard-22/
LOCATION:El Paso\, Louisiana
CATEGORIES:Mike Broussard
END:VEVENT
BEGIN:VEVENT
DTSTART;TZID=America/Chicago:20260430T180000
DTEND;TZID=America/Chicago:20260430T210000
DTSTAMP:20260419T183614
CREATED:20260413T172022Z
LAST-MODIFIED:20260413T172022Z
UID:10941-1777572000-1777582800@www.acadianamusichub.com
SUMMARY:Leif Meche Band
DESCRIPTION:
URL:https://www.acadianamusichub.com/event/leif-meche-band-18/
LOCATION:Naq’s N Duson\, Louisiana
CATEGORIES:Leif Meche Band
END:VEVENT
BEGIN:VEVENT
DTSTART;TZID=America/Chicago:20260430T180000
DTEND;TZID=America/Chicago:20260430T210000
DTSTAMP:20260419T183614
CREATED:20260413T172017Z
LAST-MODIFIED:20260413T172017Z
UID:10938-1777572000-1777582800@www.acadianamusichub.com
SUMMARY:Kaleb Olivier
DESCRIPTION:
URL:https://www.acadianamusichub.com/event/kaleb-olivier-17/
LOCATION:El Corazon\, Unknown\, Louisiana
CATEGORIES:Kaleb Olivier
END:VEVENT
BEGIN:VEVENT
DTSTART;TZID=America/Chicago:20260430T180000
DTEND;TZID=America/Chicago:20260430T180000
DTSTAMP:20260419T183614
CREATED:20260415T163108Z
LAST-MODIFIED:20260415T163108Z
UID:11058-1777572000-1777572000@www.acadianamusichub.com
SUMMARY:Jake Knott
DESCRIPTION:
URL:https://www.acadianamusichub.com/event/jake-knott-19/
LOCATION:Silver Slipper Cajun Hibachi Grill\, Louisiana
CATEGORIES:Jake Knott
END:VEVENT
BEGIN:VEVENT
DTSTART;TZID=America/Chicago:20260429T183000
DTEND;TZID=America/Chicago:20260429T213000
DTSTAMP:20260419T183614
CREATED:20260413T172028Z
LAST-MODIFIED:20260413T172028Z
UID:10947-1777487400-1777498200@www.acadianamusichub.com
SUMMARY:Leif Meche Band
DESCRIPTION:
URL:https://www.acadianamusichub.com/event/leif-meche-band-19/
LOCATION:Tap Room Youngsville\, Youngsville\, Louisiana
CATEGORIES:Leif Meche Band
END:VEVENT
BEGIN:VEVENT
DTSTART;TZID=America/Chicago:20260426T190000
DTEND;TZID=America/Chicago:20260426T220000
DTSTAMP:20260419T183614
CREATED:20260413T172030Z
LAST-MODIFIED:20260413T172030Z
UID:10949-1777230000-1777240800@www.acadianamusichub.com
SUMMARY:Junior Dugas & Back On Da Bayou
DESCRIPTION:
URL:https://www.acadianamusichub.com/event/junior-dugas-back-on-da-bayou-2/
LOCATION:Kelvin’s\, Louisiana
CATEGORIES:Junior Dugas & Back On Da Bayou
END:VEVENT
BEGIN:VEVENT
DTSTART;TZID=America/Chicago:20260426T180000
DTEND;TZID=America/Chicago:20260426T180000
DTSTAMP:20260419T183614
CREATED:20260413T172024Z
LAST-MODIFIED:20260413T172024Z
UID:10942-1777226400-1777226400@www.acadianamusichub.com
SUMMARY:Bubba And Alfred
DESCRIPTION:
URL:https://www.acadianamusichub.com/event/bubba-and-alfred-14/
LOCATION:Racks Sports Bar & Daiquiris\, Louisiana
CATEGORIES:Bubba And Alfred
END:VEVENT
BEGIN:VEVENT
DTSTART;TZID=America/Chicago:20260426T160000
DTEND;TZID=America/Chicago:20260426T190000
DTSTAMP:20260419T183614
CREATED:20260331T112122Z
LAST-MODIFIED:20260331T112122Z
UID:10791-1777219200-1777230000@www.acadianamusichub.com
SUMMARY:Lloyd Stretch
DESCRIPTION:
URL:https://www.acadianamusichub.com/event/lloyd-stretch-4/
LOCATION:Catahoula Church Fair\, Louisiana
CATEGORIES:Lloyd Stretch
END:VEVENT
BEGIN:VEVENT
DTSTART;TZID=America/Chicago:20260426T150000
DTEND;TZID=America/Chicago:20260426T180000
DTSTAMP:20260419T183614
CREATED:20260413T172021Z
LAST-MODIFIED:20260413T172021Z
UID:10940-1777215600-1777226400@www.acadianamusichub.com
SUMMARY:Stone Cold Cajuns
DESCRIPTION:
URL:https://www.acadianamusichub.com/event/stone-cold-cajuns-2/
LOCATION:Cypress Cove Landing\, 1399 Henderson Levee Rd\, Louisiana
CATEGORIES:Stone Cold Cajuns
END:VEVENT
BEGIN:VEVENT
DTSTART;TZID=America/Chicago:20260426T133000
DTEND;TZID=America/Chicago:20260426T133000
DTSTAMP:20260419T183614
CREATED:20260323T184932Z
LAST-MODIFIED:20260323T184932Z
UID:10659-1777210200-1777210200@www.acadianamusichub.com
SUMMARY:Junior Lacrosse Band
DESCRIPTION:
URL:https://www.acadianamusichub.com/event/junior-lacrosse-band-12/
LOCATION:Italian Festival\, Louisiana
CATEGORIES:Junior Lacrosse Band
END:VEVENT
BEGIN:VEVENT
DTSTART;TZID=America/Chicago:20260426T103000
DTEND;TZID=America/Chicago:20260426T133000
DTSTAMP:20260419T183614
CREATED:20260413T172032Z
LAST-MODIFIED:20260413T172032Z
UID:10950-1777199400-1777210200@www.acadianamusichub.com
SUMMARY:Paul Piazza
DESCRIPTION:
URL:https://www.acadianamusichub.com/event/paul-piazza-10/
LOCATION:Cafe Sydnie Mae\, Louisiana
CATEGORIES:Paul Piazza
END:VEVENT
BEGIN:VEVENT
DTSTART;TZID=America/Chicago:20260425T210000
DTEND;TZID=America/Chicago:20260425T210000
DTSTAMP:20260419T183614
CREATED:20260413T172018Z
LAST-MODIFIED:20260413T172018Z
UID:10939-1777150800-1777150800@www.acadianamusichub.com
SUMMARY:Leif Meche Band
DESCRIPTION:
URL:https://www.acadianamusichub.com/event/leif-meche-band-11/
LOCATION:Wine Down on False River\, Unknown\, Louisiana
CATEGORIES:Leif Meche Band
END:VEVENT
BEGIN:VEVENT
DTSTART;TZID=America/Chicago:20260425T190000
DTEND;TZID=America/Chicago:20260425T235500
DTSTAMP:20260419T183614
CREATED:20260313T110639Z
LAST-MODIFIED:20260313T110639Z
UID:10542-1777143600-1777161300@www.acadianamusichub.com
SUMMARY:Buddy Andrews & The Branded
DESCRIPTION:
URL:https://www.acadianamusichub.com/event/buddy-andrews-the-branded-4/
LOCATION:Swamp Chicken\, Saint Amant\, La
CATEGORIES:Buddy Andrews & The Branded
END:VEVENT
BEGIN:VEVENT
DTSTART;TZID=America/Chicago:20260425T190000
DTEND;TZID=America/Chicago:20260425T190000
DTSTAMP:20260419T183614
CREATED:20260413T172027Z
LAST-MODIFIED:20260413T172027Z
UID:10945-1777143600-1777143600@www.acadianamusichub.com
SUMMARY:Bubba And Alfred
DESCRIPTION:
URL:https://www.acadianamusichub.com/event/bubba-and-alfred-15/
LOCATION:John Too Pub\, Louisiana
CATEGORIES:Bubba And Alfred
END:VEVENT
END:VCALENDAR