BEGIN:VCALENDAR
VERSION:2.0
PRODID:-//Acadiana Music Hub - ECPv6.15.20//NONSGML v1.0//EN
CALSCALE:GREGORIAN
METHOD:PUBLISH
X-WR-CALNAME:Acadiana Music Hub
X-ORIGINAL-URL:https://www.acadianamusichub.com
X-WR-CALDESC:Events for Acadiana Music Hub
REFRESH-INTERVAL;VALUE=DURATION:PT1H
X-Robots-Tag:noindex
X-PUBLISHED-TTL:PT1H
BEGIN:VTIMEZONE
TZID:America/Chicago
BEGIN:DAYLIGHT
TZOFFSETFROM:-0600
TZOFFSETTO:-0500
TZNAME:CDT
DTSTART:20250309T080000
END:DAYLIGHT
BEGIN:STANDARD
TZOFFSETFROM:-0500
TZOFFSETTO:-0600
TZNAME:CST
DTSTART:20251102T070000
END:STANDARD
BEGIN:DAYLIGHT
TZOFFSETFROM:-0600
TZOFFSETTO:-0500
TZNAME:CDT
DTSTART:20260308T080000
END:DAYLIGHT
BEGIN:STANDARD
TZOFFSETFROM:-0500
TZOFFSETTO:-0600
TZNAME:CST
DTSTART:20261101T070000
END:STANDARD
BEGIN:DAYLIGHT
TZOFFSETFROM:-0600
TZOFFSETTO:-0500
TZNAME:CDT
DTSTART:20270314T080000
END:DAYLIGHT
BEGIN:STANDARD
TZOFFSETFROM:-0500
TZOFFSETTO:-0600
TZNAME:CST
DTSTART:20271107T070000
END:STANDARD
END:VTIMEZONE
BEGIN:VEVENT
DTSTART;TZID=America/Chicago:20260402T180000
DTEND;TZID=America/Chicago:20260402T180000
DTSTAMP:20260419T155221
CREATED:20260331T035035Z
LAST-MODIFIED:20260331T035035Z
UID:10743-1775152800-1775152800@www.acadianamusichub.com
SUMMARY:Raikwon
DESCRIPTION:
URL:https://www.acadianamusichub.com/event/raikwon-5/
LOCATION:Original Patti\, Louisiana
CATEGORIES:Raikwon
END:VEVENT
BEGIN:VEVENT
DTSTART;TZID=America/Chicago:20260402T180000
DTEND;TZID=America/Chicago:20260402T200000
DTSTAMP:20260419T155221
CREATED:20260330T175056Z
LAST-MODIFIED:20260330T175056Z
UID:10725-1775152800-1775160000@www.acadianamusichub.com
SUMMARY:Buddy Andrews And PJ
DESCRIPTION:
URL:https://www.acadianamusichub.com/event/buddy-andrews-and-pj/
LOCATION:Pj’s Grill\, Louisiana
CATEGORIES:Buddy Andrews And PJ
END:VEVENT
BEGIN:VEVENT
DTSTART;TZID=America/Chicago:20260402T180000
DTEND;TZID=America/Chicago:20260402T210000
DTSTAMP:20260419T155221
CREATED:20260330T050056Z
LAST-MODIFIED:20260330T050056Z
UID:10711-1775152800-1775163600@www.acadianamusichub.com
SUMMARY:Kip Sonnier
DESCRIPTION:
URL:https://www.acadianamusichub.com/event/kip-sonnier-11/
LOCATION:Crawfish Hut Bar & Grill—Rayne\, Louisiana
CATEGORIES:Kip Sonnier
END:VEVENT
BEGIN:VEVENT
DTSTART;TZID=America/Chicago:20260402T183000
DTEND;TZID=America/Chicago:20260402T183000
DTSTAMP:20260419T155221
CREATED:20260402T001813Z
LAST-MODIFIED:20260402T001813Z
UID:10824-1775154600-1775154600@www.acadianamusichub.com
SUMMARY:Dustin Sonnier
DESCRIPTION:
URL:https://www.acadianamusichub.com/event/dustin-sonnier-2/
LOCATION:Shuck’s Abbeville\, Louisiana
CATEGORIES:Dustin Sonnier
END:VEVENT
BEGIN:VEVENT
DTSTART;TZID=America/Chicago:20260402T190000
DTEND;TZID=America/Chicago:20260402T220000
DTSTAMP:20260419T155221
CREATED:20260331T111054Z
LAST-MODIFIED:20260331T111054Z
UID:10762-1775156400-1775167200@www.acadianamusichub.com
SUMMARY:Mike Broussard
DESCRIPTION:
URL:https://www.acadianamusichub.com/event/mike-broussard-11/
LOCATION:Daiquiri Supreme\, Louisiana
CATEGORIES:Mike Broussard
END:VEVENT
BEGIN:VEVENT
DTSTART;TZID=America/Chicago:20260402T193000
DTEND;TZID=America/Chicago:20260402T193000
DTSTAMP:20260419T155221
CREATED:20260402T001811Z
LAST-MODIFIED:20260402T001811Z
UID:10821-1775158200-1775158200@www.acadianamusichub.com
SUMMARY:Abbeville Human Jukebox
DESCRIPTION:
URL:https://www.acadianamusichub.com/event/abbeville-human-jukebox/
LOCATION:Kelvins\, Louisiana
CATEGORIES:Abbeville Human Jukebox
END:VEVENT
BEGIN:VEVENT
DTSTART;TZID=America/Chicago:20260402T200000
DTEND;TZID=America/Chicago:20260402T230000
DTSTAMP:20260419T155221
CREATED:20260331T013332Z
LAST-MODIFIED:20260331T013332Z
UID:10733-1775160000-1775170800@www.acadianamusichub.com
SUMMARY:Junior Lacrosse Band
DESCRIPTION:
URL:https://www.acadianamusichub.com/event/junior-lacrosse-band-13/
LOCATION:Spunky Monkey\, Louisiana
CATEGORIES:Junior Lacrosse Band
END:VEVENT
BEGIN:VEVENT
DTSTART;TZID=America/Chicago:20260402T213000
DTEND;TZID=America/Chicago:20260402T213000
DTSTAMP:20260419T155221
CREATED:20260331T013857Z
LAST-MODIFIED:20260331T013857Z
UID:10739-1775165400-1775165400@www.acadianamusichub.com
SUMMARY:Bubba And Alfred
DESCRIPTION:
URL:https://www.acadianamusichub.com/event/bubba-and-alfred-5/
LOCATION:Racks Sports Bar\, Louisiana
CATEGORIES:Bubba And Alfred
END:VEVENT
BEGIN:VEVENT
DTSTART;TZID=America/Chicago:20260403T180000
DTEND;TZID=America/Chicago:20260403T180000
DTSTAMP:20260419T155221
CREATED:20260331T035037Z
LAST-MODIFIED:20260331T035037Z
UID:10746-1775239200-1775239200@www.acadianamusichub.com
SUMMARY:Raikwon
DESCRIPTION:
URL:https://www.acadianamusichub.com/event/raikwon-7/
LOCATION:T Doug’s\, Louisiana
CATEGORIES:Raikwon
END:VEVENT
BEGIN:VEVENT
DTSTART;TZID=America/Chicago:20260403T180000
DTEND;TZID=America/Chicago:20260403T180000
DTSTAMP:20260419T155221
CREATED:20260402T001802Z
LAST-MODIFIED:20260402T001802Z
UID:10811-1775239200-1775239200@www.acadianamusichub.com
SUMMARY:Connie G
DESCRIPTION:
URL:https://www.acadianamusichub.com/event/connie-g/
LOCATION:Riverfront\, Louisiana
CATEGORIES:Connie G
END:VEVENT
BEGIN:VEVENT
DTSTART;TZID=America/Chicago:20260403T180000
DTEND;TZID=America/Chicago:20260403T210000
DTSTAMP:20260419T155221
CREATED:20260330T051059Z
LAST-MODIFIED:20260330T051059Z
UID:10720-1775239200-1775250000@www.acadianamusichub.com
SUMMARY:Kip Sonnier
DESCRIPTION:
URL:https://www.acadianamusichub.com/event/kip-sonnier-15/
LOCATION:Mi Tio Mexican Grill—Henderson\, Louisiana
CATEGORIES:Kip Sonnier
END:VEVENT
BEGIN:VEVENT
DTSTART;TZID=America/Chicago:20260403T180000
DTEND;TZID=America/Chicago:20260403T210000
DTSTAMP:20260419T155221
CREATED:20260402T001759Z
LAST-MODIFIED:20260402T001759Z
UID:10808-1775239200-1775250000@www.acadianamusichub.com
SUMMARY:Paul Piazza
DESCRIPTION:
URL:https://www.acadianamusichub.com/event/paul-piazza-4/
LOCATION:Tia Juanita’s\, Louisiana
CATEGORIES:Paul Piazza
END:VEVENT
BEGIN:VEVENT
DTSTART;TZID=America/Chicago:20260403T183000
DTEND;TZID=America/Chicago:20260403T183000
DTSTAMP:20260419T155221
CREATED:20260402T001809Z
LAST-MODIFIED:20260402T001809Z
UID:10819-1775241000-1775241000@www.acadianamusichub.com
SUMMARY:Nicki Needham
DESCRIPTION:
URL:https://www.acadianamusichub.com/event/nicki-needham/
LOCATION:Shucks!\, Louisiana
CATEGORIES:Nicki Needham
END:VEVENT
BEGIN:VEVENT
DTSTART;TZID=America/Chicago:20260403T190000
DTEND;TZID=America/Chicago:20260403T220000
DTSTAMP:20260419T155221
CREATED:20260319T011055Z
LAST-MODIFIED:20260319T011055Z
UID:10609-1775242800-1775253600@www.acadianamusichub.com
SUMMARY:The 4 Horses
DESCRIPTION:
URL:https://www.acadianamusichub.com/event/the-4-horses/
LOCATION:Cajun Heritage RV Park\, Louisiana
CATEGORIES:The 4 Horses
END:VEVENT
BEGIN:VEVENT
DTSTART;TZID=America/Chicago:20260403T190000
DTEND;TZID=America/Chicago:20260403T220000
DTSTAMP:20260419T155221
CREATED:20260331T111055Z
LAST-MODIFIED:20260331T111055Z
UID:10763-1775242800-1775253600@www.acadianamusichub.com
SUMMARY:Mike Broussard
DESCRIPTION:
URL:https://www.acadianamusichub.com/event/mike-broussard-12/
LOCATION:Turtles Bar\, Louisiana
CATEGORIES:Mike Broussard
END:VEVENT
BEGIN:VEVENT
DTSTART;TZID=America/Chicago:20260403T190000
DTEND;TZID=America/Chicago:20260403T220000
DTSTAMP:20260419T155221
CREATED:20260402T001812Z
LAST-MODIFIED:20260402T001812Z
UID:10822-1775242800-1775253600@www.acadianamusichub.com
SUMMARY:Geno Delafose & French Rockin' Boogie
DESCRIPTION:
URL:https://www.acadianamusichub.com/event/geno-delafose-french-rockin-boogie-4/
LOCATION:La Poussiere Cajun Dancehall\, Louisiana
CATEGORIES:Geno Delafose & French Rockin Boogie
END:VEVENT
BEGIN:VEVENT
DTSTART;TZID=America/Chicago:20260403T200000
DTEND;TZID=America/Chicago:20260403T230000
DTSTAMP:20260419T155221
CREATED:20260331T174024Z
LAST-MODIFIED:20260331T174024Z
UID:10799-1775246400-1775257200@www.acadianamusichub.com
SUMMARY:Abi Claire
DESCRIPTION:
URL:https://www.acadianamusichub.com/event/abi-claire/
LOCATION:The Hangover—Crowley\, Louisiana
CATEGORIES:Abi Claire
END:VEVENT
BEGIN:VEVENT
DTSTART;TZID=America/Chicago:20260403T200000
DTEND;TZID=America/Chicago:20260404T020000
DTSTAMP:20260419T155221
CREATED:20260331T021257Z
LAST-MODIFIED:20260331T021257Z
UID:10742-1775246400-1775268000@www.acadianamusichub.com
SUMMARY:Dj B-Rody
DESCRIPTION:
URL:https://www.acadianamusichub.com/event/dj-b-rody-8/
LOCATION:Back Road Saloon\, 1011 Potatoe Shed Road\, Louisiana
CATEGORIES:Dj B-Rody
END:VEVENT
BEGIN:VEVENT
DTSTART;TZID=America/Chicago:20260403T210000
DTEND;TZID=America/Chicago:20260403T210000
DTSTAMP:20260419T155221
CREATED:20260331T013856Z
LAST-MODIFIED:20260331T013856Z
UID:10737-1775250000-1775250000@www.acadianamusichub.com
SUMMARY:Bubba And Alfred
DESCRIPTION:
URL:https://www.acadianamusichub.com/event/bubba-and-alfred-4/
LOCATION:Pye’s Place\, Louisiana
CATEGORIES:Bubba And Alfred
END:VEVENT
BEGIN:VEVENT
DTSTART;TZID=America/Chicago:20260403T210000
DTEND;TZID=America/Chicago:20260403T210000
DTSTAMP:20260419T155221
CREATED:20260401T011053Z
LAST-MODIFIED:20260401T011053Z
UID:10801-1775250000-1775250000@www.acadianamusichub.com
SUMMARY:Broken Meauxjo
DESCRIPTION:
URL:https://www.acadianamusichub.com/event/broken-meauxjo/
LOCATION:Whiskey Tales\, 2825 Grand Point Hwy\, Louisiana
CATEGORIES:Broken Meauxjo
END:VEVENT
BEGIN:VEVENT
DTSTART;TZID=America/Chicago:20260403T213000
DTEND;TZID=America/Chicago:20260403T213000
DTSTAMP:20260419T155221
CREATED:20260327T155716Z
LAST-MODIFIED:20260327T155716Z
UID:10700-1775251800-1775251800@www.acadianamusichub.com
SUMMARY:Junior Lacrosse Band
DESCRIPTION:
URL:https://www.acadianamusichub.com/event/junior-lacrosse-band-9/
LOCATION:Cowboys Nightclub\, Louisiana
CATEGORIES:Junior Lacrosse Band
END:VEVENT
BEGIN:VEVENT
DTSTART;TZID=America/Chicago:20260404T083000
DTEND;TZID=America/Chicago:20260404T083000
DTSTAMP:20260419T155221
CREATED:20260402T001801Z
LAST-MODIFIED:20260402T001801Z
UID:10810-1775291400-1775291400@www.acadianamusichub.com
SUMMARY:Geno Delafose & French Rockin' Boogie
DESCRIPTION:
URL:https://www.acadianamusichub.com/event/geno-delafose-french-rockin-boogie/
LOCATION:Buck & Johnny’s\, Breaux Bridge\, Louisiana
CATEGORIES:Geno Delafose & French Rockin Boogie
END:VEVENT
BEGIN:VEVENT
DTSTART;TZID=America/Chicago:20260404T180000
DTEND;TZID=America/Chicago:20260404T180000
DTSTAMP:20260419T155221
CREATED:20260330T051101Z
LAST-MODIFIED:20260330T051101Z
UID:10721-1775325600-1775325600@www.acadianamusichub.com
SUMMARY:Jake Knott
DESCRIPTION:
URL:https://www.acadianamusichub.com/event/jake-knott-8/
LOCATION:Naq’s N Duson\, Louisiana
CATEGORIES:Jake Knott
END:VEVENT
BEGIN:VEVENT
DTSTART;TZID=America/Chicago:20260404T180000
DTEND;TZID=America/Chicago:20260404T180000
DTSTAMP:20260419T155221
CREATED:20260331T111057Z
LAST-MODIFIED:20260331T111057Z
UID:10766-1775325600-1775325600@www.acadianamusichub.com
SUMMARY:Raikwon
DESCRIPTION:
URL:https://www.acadianamusichub.com/event/raikwon-8/
LOCATION:Doubletree By Hilton—Sulphur\, Sulphur\, Louisiana
CATEGORIES:Raikwon
END:VEVENT
BEGIN:VEVENT
DTSTART;TZID=America/Chicago:20260404T180000
DTEND;TZID=America/Chicago:20260404T180000
DTSTAMP:20260419T155221
CREATED:20260402T001756Z
LAST-MODIFIED:20260402T001756Z
UID:10803-1775325600-1775325600@www.acadianamusichub.com
SUMMARY:Allison Grainer
DESCRIPTION:
URL:https://www.acadianamusichub.com/event/allison-grainer/
LOCATION:Riverfront\, Louisiana
CATEGORIES:Allison Grainer
END:VEVENT
BEGIN:VEVENT
DTSTART;TZID=America/Chicago:20260404T183000
DTEND;TZID=America/Chicago:20260404T183000
DTSTAMP:20260419T155221
CREATED:20260319T011052Z
LAST-MODIFIED:20260319T011052Z
UID:10606-1775327400-1775327400@www.acadianamusichub.com
SUMMARY:Next Gen Zydeco
DESCRIPTION:
URL:https://www.acadianamusichub.com/event/next-gen-zydeco/
LOCATION:The Silos RV Resort\, Louisiana
CATEGORIES:Next Gen Zydeco
END:VEVENT
BEGIN:VEVENT
DTSTART;TZID=America/Chicago:20260404T183000
DTEND;TZID=America/Chicago:20260404T210000
DTSTAMP:20260419T155221
CREATED:20260330T051056Z
LAST-MODIFIED:20260330T051056Z
UID:10717-1775327400-1775336400@www.acadianamusichub.com
SUMMARY:Kip Sonnier
DESCRIPTION:
URL:https://www.acadianamusichub.com/event/kip-sonnier-14/
LOCATION:Shuck’s Seafood House—Abbeville\, Louisiana
CATEGORIES:Kip Sonnier
END:VEVENT
BEGIN:VEVENT
DTSTART;TZID=America/Chicago:20260404T190000
DTEND;TZID=America/Chicago:20260404T190000
DTSTAMP:20260419T155221
CREATED:20260402T001807Z
LAST-MODIFIED:20260402T001807Z
UID:10816-1775329200-1775329200@www.acadianamusichub.com
SUMMARY:Junior Dugas & Back On Da Bayou
DESCRIPTION:
URL:https://www.acadianamusichub.com/event/junior-dugas-back-on-da-bayou/
LOCATION:Kelvins\, Louisiana
CATEGORIES:Junior Dugas & Back On Da Bayou
END:VEVENT
BEGIN:VEVENT
DTSTART;TZID=America/Chicago:20260404T190000
DTEND;TZID=America/Chicago:20260404T220000
DTSTAMP:20260419T155221
CREATED:20260319T011050Z
LAST-MODIFIED:20260319T011050Z
UID:10605-1775329200-1775340000@www.acadianamusichub.com
SUMMARY:Adam Leger
DESCRIPTION:
URL:https://www.acadianamusichub.com/event/adam-leger/
LOCATION:Cajun Heritage RV Park\, Louisiana
CATEGORIES:Adam Leger
END:VEVENT
BEGIN:VEVENT
DTSTART;TZID=America/Chicago:20260404T193000
DTEND;TZID=America/Chicago:20260404T223000
DTSTAMP:20260419T155221
CREATED:20260319T011101Z
LAST-MODIFIED:20260319T011101Z
UID:10615-1775331000-1775341800@www.acadianamusichub.com
SUMMARY:Seth Spell And Cajun Strong
DESCRIPTION:
URL:https://www.acadianamusichub.com/event/seth-spell-and-cajun-strong/
LOCATION:The Legion Rayne\, Rayne\, Louisiana
CATEGORIES:Seth Spell And Cajun Strong
END:VEVENT
END:VCALENDAR