BEGIN:VCALENDAR
VERSION:2.0
PRODID:-//Acadiana Music Hub - ECPv6.15.20//NONSGML v1.0//EN
CALSCALE:GREGORIAN
METHOD:PUBLISH
X-ORIGINAL-URL:https://www.acadianamusichub.com
X-WR-CALDESC:Events for Acadiana Music Hub
REFRESH-INTERVAL;VALUE=DURATION:PT1H
X-Robots-Tag:noindex
X-PUBLISHED-TTL:PT1H
BEGIN:VTIMEZONE
TZID:America/Chicago
BEGIN:DAYLIGHT
TZOFFSETFROM:-0600
TZOFFSETTO:-0500
TZNAME:CDT
DTSTART:20250309T080000
END:DAYLIGHT
BEGIN:STANDARD
TZOFFSETFROM:-0500
TZOFFSETTO:-0600
TZNAME:CST
DTSTART:20251102T070000
END:STANDARD
BEGIN:DAYLIGHT
TZOFFSETFROM:-0600
TZOFFSETTO:-0500
TZNAME:CDT
DTSTART:20260308T080000
END:DAYLIGHT
BEGIN:STANDARD
TZOFFSETFROM:-0500
TZOFFSETTO:-0600
TZNAME:CST
DTSTART:20261101T070000
END:STANDARD
BEGIN:DAYLIGHT
TZOFFSETFROM:-0600
TZOFFSETTO:-0500
TZNAME:CDT
DTSTART:20270314T080000
END:DAYLIGHT
BEGIN:STANDARD
TZOFFSETFROM:-0500
TZOFFSETTO:-0600
TZNAME:CST
DTSTART:20271107T070000
END:STANDARD
END:VTIMEZONE
BEGIN:VEVENT
DTSTART;TZID=America/Chicago:20260530T140000
DTEND;TZID=America/Chicago:20260530T153000
DTSTAMP:20260419T224337
CREATED:20260415T200401Z
LAST-MODIFIED:20260415T200401Z
UID:11108-1780149600-1780155000@www.acadianamusichub.com
SUMMARY:Junior Lacrosse Band
DESCRIPTION:
URL:https://www.acadianamusichub.com/event/junior-lacrosse-band-37/
LOCATION:Lafitte Seafood Festival\, Louisiana
CATEGORIES:Junior Lacrosse Band
END:VEVENT
BEGIN:VEVENT
DTSTART;TZID=America/Chicago:20260530T213000
DTEND;TZID=America/Chicago:20260530T213000
DTSTAMP:20260419T224337
CREATED:20260415T200358Z
LAST-MODIFIED:20260415T200358Z
UID:11103-1780176600-1780176600@www.acadianamusichub.com
SUMMARY:Junior Lacrosse Band
DESCRIPTION:
URL:https://www.acadianamusichub.com/event/junior-lacrosse-band-34/
LOCATION:Music Cove\, Louisiana
CATEGORIES:Junior Lacrosse Band
END:VEVENT
BEGIN:VEVENT
DTSTART;TZID=America/Chicago:20260531T163000
DTEND;TZID=America/Chicago:20260531T200000
DTSTAMP:20260419T224337
CREATED:20260415T200357Z
LAST-MODIFIED:20260415T200357Z
UID:11102-1780245000-1780257600@www.acadianamusichub.com
SUMMARY:Junior Lacrosse Band
DESCRIPTION:
URL:https://www.acadianamusichub.com/event/junior-lacrosse-band-33/
LOCATION:Pat’s Atchafalaya Club\, Louisiana
CATEGORIES:Junior Lacrosse Band
END:VEVENT
BEGIN:VEVENT
DTSTART;TZID=America/Chicago:20260605T190000
DTEND;TZID=America/Chicago:20260605T190000
DTSTAMP:20260419T224337
CREATED:20260413T172432Z
LAST-MODIFIED:20260413T172432Z
UID:10963-1780686000-1780686000@www.acadianamusichub.com
SUMMARY:Dustin Ray
DESCRIPTION:
URL:https://www.acadianamusichub.com/event/dustin-ray-21/
LOCATION:Silver Slipper Cajun Hibachi Grill\, Louisiana
CATEGORIES:Dustin Ray
END:VEVENT
BEGIN:VEVENT
DTSTART;TZID=America/Chicago:20260606T190000
DTEND;TZID=America/Chicago:20260606T220000
DTSTAMP:20260419T224337
CREATED:20260415T163505Z
LAST-MODIFIED:20260415T163505Z
UID:11074-1780772400-1780783200@www.acadianamusichub.com
SUMMARY:Lloyd Stretch
DESCRIPTION:
URL:https://www.acadianamusichub.com/event/lloyd-stretch-5/
LOCATION:Cajun Heritage RV Park\, Louisiana
CATEGORIES:Lloyd Stretch
END:VEVENT
BEGIN:VEVENT
DTSTART;TZID=America/Chicago:20260606T193000
DTEND;TZID=America/Chicago:20260606T223000
DTSTAMP:20260419T224337
CREATED:20260413T172434Z
LAST-MODIFIED:20260413T172434Z
UID:10964-1780774200-1780785000@www.acadianamusichub.com
SUMMARY:Ray Thibodeaux And Allons Danser
DESCRIPTION:
URL:https://www.acadianamusichub.com/event/ray-thibodeaux-and-allons-danser/
LOCATION:American Legion Arceneaux Post 77\, Louisiana
CATEGORIES:Ray Thibodeaux And Allons Danser
END:VEVENT
BEGIN:VEVENT
DTSTART;TZID=America/Chicago:20260606T210000
DTEND;TZID=America/Chicago:20260606T210000
DTSTAMP:20260419T224337
CREATED:20260413T172446Z
LAST-MODIFIED:20260413T172446Z
UID:10971-1780779600-1780779600@www.acadianamusichub.com
SUMMARY:Dustin Ray
DESCRIPTION:
URL:https://www.acadianamusichub.com/event/dustin-ray-22/
LOCATION:Curve Lounge\, Louisiana
CATEGORIES:Dustin Ray
END:VEVENT
BEGIN:VEVENT
DTSTART;TZID=America/Chicago:20260611T183000
DTEND;TZID=America/Chicago:20260611T183000
DTSTAMP:20260419T224337
CREATED:20260413T172505Z
LAST-MODIFIED:20260413T172505Z
UID:10986-1781202600-1781202600@www.acadianamusichub.com
SUMMARY:Dustin Ray
DESCRIPTION:
URL:https://www.acadianamusichub.com/event/dustin-ray-26/
LOCATION:Crawfish Town USA\, Unknown\, Louisiana
CATEGORIES:Dustin Ray
END:VEVENT
BEGIN:VEVENT
DTSTART;TZID=America/Chicago:20260613T190000
DTEND;TZID=America/Chicago:20260613T190000
DTSTAMP:20260419T224338
CREATED:20260413T172421Z
LAST-MODIFIED:20260413T172421Z
UID:10957-1781377200-1781377200@www.acadianamusichub.com
SUMMARY:Dustin Ray
DESCRIPTION:
URL:https://www.acadianamusichub.com/event/dustin-ray-19/
LOCATION:Cajun Oasis RV Resort\, Unknown\, Louisiana
CATEGORIES:Dustin Ray
END:VEVENT
BEGIN:VEVENT
DTSTART;TZID=America/Chicago:20260613T190000
DTEND;TZID=America/Chicago:20260613T220000
DTSTAMP:20260419T224338
CREATED:20260415T163504Z
LAST-MODIFIED:20260415T163504Z
UID:11073-1781377200-1781388000@www.acadianamusichub.com
SUMMARY:The Cast
DESCRIPTION:
URL:https://www.acadianamusichub.com/event/the-cast-2/
LOCATION:Cajun Heritage RV Park\, Louisiana
CATEGORIES:The Cast
END:VEVENT
BEGIN:VEVENT
DTSTART;TZID=America/Chicago:20260627T180000
DTEND;TZID=America/Chicago:20260627T180000
DTSTAMP:20260419T224338
CREATED:20260413T172454Z
LAST-MODIFIED:20260413T172454Z
UID:10978-1782583200-1782583200@www.acadianamusichub.com
SUMMARY:Dustin Ray
DESCRIPTION:
URL:https://www.acadianamusichub.com/event/dustin-ray-24/
LOCATION:Quebedeaux’s Cajun Cafe\, Unknown\, Louisiana
CATEGORIES:Dustin Ray
END:VEVENT
BEGIN:VEVENT
DTSTART;TZID=America/Chicago:20260701T190000
DTEND;TZID=America/Chicago:20260701T220000
DTSTAMP:20260419T224338
CREATED:20260313T110659Z
LAST-MODIFIED:20260313T110659Z
UID:10544-1782932400-1782943200@www.acadianamusichub.com
SUMMARY:Buddy Andrews
DESCRIPTION:
URL:https://www.acadianamusichub.com/event/buddy-andrews-4/
LOCATION:Soul’s Teche Bar\, 5316 Main Hwy\, Louisiana
CATEGORIES:Buddy Andrews
END:VEVENT
BEGIN:VEVENT
DTSTART;TZID=America/Chicago:20260703T190000
DTEND;TZID=America/Chicago:20260703T220000
DTSTAMP:20260419T224338
CREATED:20260415T163503Z
LAST-MODIFIED:20260415T163503Z
UID:11072-1783105200-1783116000@www.acadianamusichub.com
SUMMARY:The 4 Horses
DESCRIPTION:
URL:https://www.acadianamusichub.com/event/the-4-horses-2/
LOCATION:Cajun Heritage RV Park\, Louisiana
CATEGORIES:The 4 Horses
END:VEVENT
BEGIN:VEVENT
DTSTART;TZID=America/Chicago:20260704T190000
DTEND;TZID=America/Chicago:20260704T190000
DTSTAMP:20260419T224338
CREATED:20260413T172448Z
LAST-MODIFIED:20260413T172448Z
UID:10974-1783191600-1783191600@www.acadianamusichub.com
SUMMARY:Dustin Ray
DESCRIPTION:
URL:https://www.acadianamusichub.com/event/dustin-ray-23/
LOCATION:Crooked Creek Recreation Area\, Unknown\, Louisiana
CATEGORIES:Dustin Ray
END:VEVENT
BEGIN:VEVENT
DTSTART;TZID=America/Chicago:20260704T190000
DTEND;TZID=America/Chicago:20260704T220000
DTSTAMP:20260419T224338
CREATED:20260415T163501Z
LAST-MODIFIED:20260415T163501Z
UID:11071-1783191600-1783202400@www.acadianamusichub.com
SUMMARY:Clifton Brown & Rusty Bucket Band
DESCRIPTION:
URL:https://www.acadianamusichub.com/event/clifton-brown-rusty-bucket-band-2/
LOCATION:Cajun Heritage RV Park\, Louisiana
CATEGORIES:Clifton Brown & Rusty Bucket Band
END:VEVENT
BEGIN:VEVENT
DTSTART;TZID=America/Chicago:20260711T190000
DTEND;TZID=America/Chicago:20260711T220000
DTSTAMP:20260419T224338
CREATED:20260415T163604Z
LAST-MODIFIED:20260415T163604Z
UID:11077-1783796400-1783807200@www.acadianamusichub.com
SUMMARY:Jake Knott
DESCRIPTION:
URL:https://www.acadianamusichub.com/event/jake-knott-20/
LOCATION:Cajun Heritage RV Park\, Louisiana
CATEGORIES:Jake Knott
END:VEVENT
BEGIN:VEVENT
DTSTART;TZID=America/Chicago:20260716T203000
DTEND;TZID=America/Chicago:20260716T233000
DTSTAMP:20260419T224338
CREATED:20260413T171556Z
LAST-MODIFIED:20260413T171556Z
UID:10937-1784233800-1784244600@www.acadianamusichub.com
SUMMARY:Junior Lacrosse Band
DESCRIPTION:
URL:https://www.acadianamusichub.com/event/junior-lacrosse-band-21/
LOCATION:Island Strong Music Fest\, Louisiana
CATEGORIES:Junior Lacrosse Band
END:VEVENT
BEGIN:VEVENT
DTSTART;TZID=America/Chicago:20260822T190000
DTEND;TZID=America/Chicago:20260822T220000
DTSTAMP:20260419T224338
CREATED:20260415T163612Z
LAST-MODIFIED:20260415T163612Z
UID:11086-1787425200-1787436000@www.acadianamusichub.com
SUMMARY:80'S Experience Band
DESCRIPTION:
URL:https://www.acadianamusichub.com/event/80s-experience-band/
LOCATION:Cajun Heritage RV Park\, Louisiana
CATEGORIES:80'S Experience Band
END:VEVENT
BEGIN:VEVENT
DTSTART;TZID=America/Chicago:20260905T190000
DTEND;TZID=America/Chicago:20260905T220000
DTSTAMP:20260419T224338
CREATED:20260415T163605Z
LAST-MODIFIED:20260415T163605Z
UID:11078-1788634800-1788645600@www.acadianamusichub.com
SUMMARY:Stone Cold Cajuns
DESCRIPTION:
URL:https://www.acadianamusichub.com/event/stone-cold-cajuns-4/
LOCATION:Cajun Heritage RV Park\, Louisiana
CATEGORIES:Stone Cold Cajuns
END:VEVENT
BEGIN:VEVENT
DTSTART;TZID=America/Chicago:20260911T190000
DTEND;TZID=America/Chicago:20260911T190000
DTSTAMP:20260419T224338
CREATED:20260415T111129Z
LAST-MODIFIED:20260415T111129Z
UID:11037-1789153200-1789153200@www.acadianamusichub.com
SUMMARY:Dustin Ray
DESCRIPTION:
URL:https://www.acadianamusichub.com/event/dustin-ray-27/
LOCATION:Silver Slipper Cajun Hibachi Grill\, Louisiana
CATEGORIES:Dustin Ray
END:VEVENT
BEGIN:VEVENT
DTSTART;TZID=America/Chicago:20260912T190000
DTEND;TZID=America/Chicago:20260912T220000
DTSTAMP:20260419T224338
CREATED:20260415T163607Z
LAST-MODIFIED:20260415T163607Z
UID:11081-1789239600-1789250400@www.acadianamusichub.com
SUMMARY:Cajun Roots Band
DESCRIPTION:
URL:https://www.acadianamusichub.com/event/cajun-roots-band-2/
LOCATION:Cajun Heritage RV Park\, Louisiana
CATEGORIES:Cajun Roots Band
END:VEVENT
BEGIN:VEVENT
DTSTART;TZID=America/Chicago:20260919T190000
DTEND;TZID=America/Chicago:20260919T220000
DTSTAMP:20260419T224338
CREATED:20260415T163603Z
LAST-MODIFIED:20260415T163603Z
UID:11076-1789844400-1789855200@www.acadianamusichub.com
SUMMARY:Jamie Bergeron & The Kickin' Cajuns
DESCRIPTION:
URL:https://www.acadianamusichub.com/event/jamie-bergeron-the-kickin-cajuns-2/
LOCATION:Cajun Heritage RV Park\, Louisiana
CATEGORIES:Jamie Bergeron & The Kickin’ Cajuns
END:VEVENT
BEGIN:VEVENT
DTSTART;TZID=America/Chicago:20260926T190000
DTEND;TZID=America/Chicago:20260926T220000
DTSTAMP:20260419T224338
CREATED:20260415T163611Z
LAST-MODIFIED:20260415T163611Z
UID:11085-1790449200-1790460000@www.acadianamusichub.com
SUMMARY:Clifton Brown & Rusty Bucket Band
DESCRIPTION:
URL:https://www.acadianamusichub.com/event/clifton-brown-rusty-bucket-band-3/
LOCATION:Cajun Heritage RV Park\, Louisiana
CATEGORIES:Clifton Brown & Rusty Bucket Band
END:VEVENT
BEGIN:VEVENT
DTSTART;TZID=America/Chicago:20261010T190000
DTEND;TZID=America/Chicago:20261010T220000
DTSTAMP:20260419T224338
CREATED:20260415T163613Z
LAST-MODIFIED:20260415T163613Z
UID:11087-1791658800-1791669600@www.acadianamusichub.com
SUMMARY:Cajun Roots Band
DESCRIPTION:
URL:https://www.acadianamusichub.com/event/cajun-roots-band-3/
LOCATION:Cajun Heritage RV Park\, Louisiana
CATEGORIES:Cajun Roots Band
END:VEVENT
BEGIN:VEVENT
DTSTART;TZID=America/Chicago:20261017T190000
DTEND;TZID=America/Chicago:20261017T220000
DTSTAMP:20260419T224338
CREATED:20260415T163610Z
LAST-MODIFIED:20260415T163610Z
UID:11084-1792263600-1792274400@www.acadianamusichub.com
SUMMARY:Darel Gros & High Rollin Band
DESCRIPTION:
URL:https://www.acadianamusichub.com/event/darel-gros-high-rollin-band-3/
LOCATION:Cajun Heritage RV Park\, Louisiana
CATEGORIES:Darel Gros & High Rollin Band
END:VEVENT
BEGIN:VEVENT
DTSTART;TZID=America/Chicago:20261024T190000
DTEND;TZID=America/Chicago:20261024T220000
DTSTAMP:20260419T224338
CREATED:20260415T163608Z
LAST-MODIFIED:20260415T163608Z
UID:11082-1792868400-1792879200@www.acadianamusichub.com
SUMMARY:Tommy G & Stormy Weather
DESCRIPTION:
URL:https://www.acadianamusichub.com/event/tommy-g-stormy-weather/
LOCATION:Cajun Heritage RV Park\, Louisiana
CATEGORIES:Tommy G & Stormy Weather
END:VEVENT
BEGIN:VEVENT
DTSTART;TZID=America/Chicago:20261031T190000
DTEND;TZID=America/Chicago:20261031T220000
DTSTAMP:20260419T224338
CREATED:20260415T163602Z
LAST-MODIFIED:20260415T163602Z
UID:11075-1793473200-1793484000@www.acadianamusichub.com
SUMMARY:Danny Alexander Blues Band - Straight from Bourbon Street
DESCRIPTION:
URL:https://www.acadianamusichub.com/event/danny-alexander-blues-band-straight-from-bourbon-street/
LOCATION:Cajun Heritage RV Park\, Louisiana
CATEGORIES:Danny Alexander Blues Band - Straight from Bourbon Street
END:VEVENT
BEGIN:VEVENT
DTSTART;TZID=America/Chicago:20261107T190000
DTEND;TZID=America/Chicago:20261107T220000
DTSTAMP:20260419T224338
CREATED:20260415T163609Z
LAST-MODIFIED:20260415T163609Z
UID:11083-1794078000-1794088800@www.acadianamusichub.com
SUMMARY:Rory Suire
DESCRIPTION:
URL:https://www.acadianamusichub.com/event/rory-suire-2/
LOCATION:Cajun Heritage RV Park\, Louisiana
CATEGORIES:Rory Suire
END:VEVENT
BEGIN:VEVENT
DTSTART;TZID=America/Chicago:20261112T183000
DTEND;TZID=America/Chicago:20261112T183000
DTSTAMP:20260419T224338
CREATED:20260415T111130Z
LAST-MODIFIED:20260415T111130Z
UID:11038-1794508200-1794508200@www.acadianamusichub.com
SUMMARY:Dustin Ray
DESCRIPTION:
URL:https://www.acadianamusichub.com/event/dustin-ray-28/
LOCATION:Crawfish Town USA\, Unknown\, Louisiana
CATEGORIES:Dustin Ray
END:VEVENT
BEGIN:VEVENT
DTSTART;TZID=America/Chicago:20261113T190000
DTEND;TZID=America/Chicago:20261113T190000
DTSTAMP:20260419T224338
CREATED:20260415T111131Z
LAST-MODIFIED:20260415T111131Z
UID:11039-1794596400-1794596400@www.acadianamusichub.com
SUMMARY:Dustin Ray
DESCRIPTION:
URL:https://www.acadianamusichub.com/event/dustin-ray-29/
LOCATION:Silver Slipper Cajun Hibachi Grill\, Louisiana
CATEGORIES:Dustin Ray
END:VEVENT
END:VCALENDAR