BEGIN:VCALENDAR
VERSION:2.0
PRODID:-//Acadiana Music Hub - ECPv6.15.20//NONSGML v1.0//EN
CALSCALE:GREGORIAN
METHOD:PUBLISH
X-WR-CALNAME:Acadiana Music Hub
X-ORIGINAL-URL:https://www.acadianamusichub.com
X-WR-CALDESC:Events for Acadiana Music Hub
REFRESH-INTERVAL;VALUE=DURATION:PT1H
X-Robots-Tag:noindex
X-PUBLISHED-TTL:PT1H
BEGIN:VTIMEZONE
TZID:America/Chicago
BEGIN:DAYLIGHT
TZOFFSETFROM:-0600
TZOFFSETTO:-0500
TZNAME:CDT
DTSTART:20250309T080000
END:DAYLIGHT
BEGIN:STANDARD
TZOFFSETFROM:-0500
TZOFFSETTO:-0600
TZNAME:CST
DTSTART:20251102T070000
END:STANDARD
BEGIN:DAYLIGHT
TZOFFSETFROM:-0600
TZOFFSETTO:-0500
TZNAME:CDT
DTSTART:20260308T080000
END:DAYLIGHT
BEGIN:STANDARD
TZOFFSETFROM:-0500
TZOFFSETTO:-0600
TZNAME:CST
DTSTART:20261101T070000
END:STANDARD
BEGIN:DAYLIGHT
TZOFFSETFROM:-0600
TZOFFSETTO:-0500
TZNAME:CDT
DTSTART:20270314T080000
END:DAYLIGHT
BEGIN:STANDARD
TZOFFSETFROM:-0500
TZOFFSETTO:-0600
TZNAME:CST
DTSTART:20271107T070000
END:STANDARD
END:VTIMEZONE
BEGIN:VEVENT
DTSTART;TZID=America/Chicago:20260418T213000
DTEND;TZID=America/Chicago:20260418T213000
DTSTAMP:20260419T114943
CREATED:20260323T184940Z
LAST-MODIFIED:20260323T184940Z
UID:10669-1776547800-1776547800@www.acadianamusichub.com
SUMMARY:Junior Lacrosse Band
DESCRIPTION:
URL:https://www.acadianamusichub.com/event/junior-lacrosse-band-18/
LOCATION:Music Cove\, Louisiana
CATEGORIES:Junior Lacrosse Band
END:VEVENT
BEGIN:VEVENT
DTSTART;TZID=America/Chicago:20260418T210000
DTEND;TZID=America/Chicago:20260418T230000
DTSTAMP:20260419T114943
CREATED:20260417T131026Z
LAST-MODIFIED:20260417T131026Z
UID:11115-1776546000-1776553200@www.acadianamusichub.com
SUMMARY:Rusty Metoyer
DESCRIPTION:
URL:https://www.acadianamusichub.com/event/rusty-metoyer-8/
LOCATION:Cajun Woodstock\, Louisiana
CATEGORIES:Rusty Metoyer
END:VEVENT
BEGIN:VEVENT
DTSTART;TZID=America/Chicago:20260418T210000
DTEND;TZID=America/Chicago:20260418T210000
DTSTAMP:20260419T114943
CREATED:20260414T225008Z
LAST-MODIFIED:20260414T225008Z
UID:11028-1776546000-1776546000@www.acadianamusichub.com
SUMMARY:Geno Delafonse
DESCRIPTION:
URL:https://www.acadianamusichub.com/event/geno-delafonse/
LOCATION:Whiskey Tales\, 2825 Grand Point Hwy\, Louisiana
CATEGORIES:Geno Delafonse
END:VEVENT
BEGIN:VEVENT
DTSTART;TZID=America/Chicago:20260418T200000
DTEND;TZID=America/Chicago:20260418T230000
DTSTAMP:20260419T114943
CREATED:20260414T004332Z
LAST-MODIFIED:20260414T004332Z
UID:11015-1776542400-1776553200@www.acadianamusichub.com
SUMMARY:Nite Owlz Band
DESCRIPTION:
URL:https://www.acadianamusichub.com/event/nite-owlz-band/
LOCATION:Lil’s On The Teche\, 4276 Poydras Hwy\, Louisiana
CATEGORIES:Nite Owlz Band
END:VEVENT
BEGIN:VEVENT
DTSTART;TZID=America/Chicago:20260418T200000
DTEND;TZID=America/Chicago:20260418T200000
DTSTAMP:20260419T114943
CREATED:20260414T003522Z
LAST-MODIFIED:20260414T003522Z
UID:10997-1776542400-1776542400@www.acadianamusichub.com
SUMMARY:Blaine Roy And Second Wind
DESCRIPTION:
URL:https://www.acadianamusichub.com/event/blaine-roy-and-second-wind/
LOCATION:Cowboys Nightclub\, Louisiana
CATEGORIES:Blaine Roy And Second Wind
END:VEVENT
BEGIN:VEVENT
DTSTART;TZID=America/Chicago:20260418T193000
DTEND;TZID=America/Chicago:20260418T223000
DTSTAMP:20260419T114943
CREATED:20260402T001936Z
LAST-MODIFIED:20260402T001936Z
UID:10835-1776540600-1776551400@www.acadianamusichub.com
SUMMARY:The Jambalaya Cajun Band
DESCRIPTION:
URL:https://www.acadianamusichub.com/event/the-jambalaya-cajun-band/
LOCATION:The Legion Rayne\, Rayne\, Louisiana
CATEGORIES:The Jambalaya Cajun Band
END:VEVENT
BEGIN:VEVENT
DTSTART;TZID=America/Chicago:20260418T190000
DTEND;TZID=America/Chicago:20260418T220000
DTSTAMP:20260419T114943
CREATED:20260415T163500Z
LAST-MODIFIED:20260415T163500Z
UID:11069-1776538800-1776549600@www.acadianamusichub.com
SUMMARY:The Side Show Band
DESCRIPTION:
URL:https://www.acadianamusichub.com/event/the-side-show-band/
LOCATION:Cajun Heritage RV Park\, Louisiana
CATEGORIES:The Side Show Band
END:VEVENT
BEGIN:VEVENT
DTSTART;TZID=America/Chicago:20260418T190000
DTEND;TZID=America/Chicago:20260418T220000
DTSTAMP:20260419T114943
CREATED:20260415T163035Z
LAST-MODIFIED:20260415T163035Z
UID:11055-1776538800-1776549600@www.acadianamusichub.com
SUMMARY:Kade Domesc
DESCRIPTION:
URL:https://www.acadianamusichub.com/event/kade-domesc/
LOCATION:Silver Slipper Cajun Hibachi Grill\, Louisiana
CATEGORIES:Kade Domesc
END:VEVENT
BEGIN:VEVENT
DTSTART;TZID=America/Chicago:20260418T190000
DTEND;TZID=America/Chicago:20260418T190000
DTSTAMP:20260419T114943
CREATED:20260414T004000Z
LAST-MODIFIED:20260414T004000Z
UID:11009-1776538800-1776538800@www.acadianamusichub.com
SUMMARY:Don Rich
DESCRIPTION:
URL:https://www.acadianamusichub.com/event/don-rich/
LOCATION:Kelvins\, Louisiana
CATEGORIES:Don Rich
END:VEVENT
BEGIN:VEVENT
DTSTART;TZID=America/Chicago:20260418T190000
DTEND;TZID=America/Chicago:20260418T190000
DTSTAMP:20260419T114943
CREATED:20260402T001930Z
LAST-MODIFIED:20260402T001930Z
UID:10829-1776538800-1776538800@www.acadianamusichub.com
SUMMARY:Bubba And Alfred
DESCRIPTION:
URL:https://www.acadianamusichub.com/event/bubba-and-alfred-12/
LOCATION:Immaculate Heart Of Mary Catholic Church\, Louisiana
CATEGORIES:Bubba And Alfred
END:VEVENT
BEGIN:VEVENT
DTSTART;TZID=America/Chicago:20260418T183000
DTEND;TZID=America/Chicago:20260418T213000
DTSTAMP:20260419T114943
CREATED:20260402T001940Z
LAST-MODIFIED:20260402T001940Z
UID:10841-1776537000-1776547800@www.acadianamusichub.com
SUMMARY:The Paul Piazza Trio
DESCRIPTION:
URL:https://www.acadianamusichub.com/event/the-paul-piazza-trio/
LOCATION:Agave Downtown\, Louisiana
CATEGORIES:The Paul Piazza Trio
END:VEVENT
BEGIN:VEVENT
DTSTART;TZID=America/Chicago:20260418T183000
DTEND;TZID=America/Chicago:20260418T213000
DTSTAMP:20260419T114943
CREATED:20260402T001929Z
LAST-MODIFIED:20260402T001929Z
UID:10827-1776537000-1776547800@www.acadianamusichub.com
SUMMARY:Mike Broussard
DESCRIPTION:
URL:https://www.acadianamusichub.com/event/mike-broussard-18/
LOCATION:Margaritaville\, Louisiana
CATEGORIES:Mike Broussard
END:VEVENT
BEGIN:VEVENT
DTSTART;TZID=America/Chicago:20260418T183000
DTEND;TZID=America/Chicago:20260418T213000
DTSTAMP:20260419T114943
CREATED:20260323T184944Z
LAST-MODIFIED:20260323T184944Z
UID:10674-1776537000-1776547800@www.acadianamusichub.com
SUMMARY:Leif Meche
DESCRIPTION:
URL:https://www.acadianamusichub.com/event/leif-meche/
LOCATION:Buck & Johnny’s\, Breaux Bridge\, Louisiana
CATEGORIES:Leif Meche
END:VEVENT
BEGIN:VEVENT
DTSTART;TZID=America/Chicago:20260418T183000
DTEND;TZID=America/Chicago:20260418T203000
DTSTAMP:20260419T114943
CREATED:20260417T131024Z
LAST-MODIFIED:20260417T131024Z
UID:11113-1776537000-1776544200@www.acadianamusichub.com
SUMMARY:Richard LeBoeuf
DESCRIPTION:
URL:https://www.acadianamusichub.com/event/richard-leboeuf/
LOCATION:Cajun Woodstock\, Louisiana
CATEGORIES:Richard LeBoeuf
END:VEVENT
BEGIN:VEVENT
DTSTART;TZID=America/Chicago:20260418T183000
DTEND;TZID=America/Chicago:20260418T183000
DTSTAMP:20260419T114943
CREATED:20260415T162811Z
LAST-MODIFIED:20260415T162811Z
UID:11050-1776537000-1776537000@www.acadianamusichub.com
SUMMARY:Darel Gros
DESCRIPTION:
URL:https://www.acadianamusichub.com/event/darel-gros-2/
LOCATION:Shuck’s Abbeville\, Louisiana
CATEGORIES:Darel Gros
END:VEVENT
BEGIN:VEVENT
DTSTART;TZID=America/Chicago:20260418T180000
DTEND;TZID=America/Chicago:20260418T210000
DTSTAMP:20260419T114943
CREATED:20260402T001939Z
LAST-MODIFIED:20260402T001939Z
UID:10839-1776535200-1776546000@www.acadianamusichub.com
SUMMARY:Kaleb Olivier
DESCRIPTION:
URL:https://www.acadianamusichub.com/event/kaleb-olivier-13/
LOCATION:Crawfish Hut\, Rayne\, Louisiana
CATEGORIES:Kaleb Olivier
END:VEVENT
BEGIN:VEVENT
DTSTART;TZID=America/Chicago:20260418T180000
DTEND;TZID=America/Chicago:20260418T180000
DTSTAMP:20260419T114943
CREATED:20260414T003950Z
LAST-MODIFIED:20260414T003950Z
UID:11000-1776535200-1776535200@www.acadianamusichub.com
SUMMARY:Ethan Hunt
DESCRIPTION:
URL:https://www.acadianamusichub.com/event/ethan-hunt/
LOCATION:Riverfront\, Louisiana
CATEGORIES:Ethan Hunt
END:VEVENT
BEGIN:VEVENT
DTSTART;TZID=America/Chicago:20260418T180000
DTEND;TZID=America/Chicago:20260418T180000
DTSTAMP:20260419T114943
CREATED:20260402T123029Z
LAST-MODIFIED:20260402T123029Z
UID:10859-1776535200-1776535200@www.acadianamusichub.com
SUMMARY:Dustin Ray
DESCRIPTION:
URL:https://www.acadianamusichub.com/event/dustin-ray-17/
LOCATION:Cove Marina and Boat Storage\, Unknown\, Louisiana
CATEGORIES:Dustin Ray
END:VEVENT
BEGIN:VEVENT
DTSTART;TZID=America/Chicago:20260418T180000
DTEND;TZID=America/Chicago:20260418T180000
DTSTAMP:20260419T114943
CREATED:20260402T001928Z
LAST-MODIFIED:20260402T001928Z
UID:10825-1776535200-1776535200@www.acadianamusichub.com
SUMMARY:Jake Knott
DESCRIPTION:
URL:https://www.acadianamusichub.com/event/jake-knott-14/
LOCATION:Bourbon And Buttcheeks\, Louisiana
CATEGORIES:Jake Knott
END:VEVENT
BEGIN:VEVENT
DTSTART;TZID=America/Chicago:20260418T160000
DTEND;TZID=America/Chicago:20260418T180000
DTSTAMP:20260419T114943
CREATED:20260404T200028Z
LAST-MODIFIED:20260404T200028Z
UID:10862-1776528000-1776535200@www.acadianamusichub.com
SUMMARY:Stone Cold Cajuns
DESCRIPTION:
URL:https://www.acadianamusichub.com/event/stone-cold-cajuns/
LOCATION:Cajun Woodstock\, Louisiana
CATEGORIES:Stone Cold Cajuns
END:VEVENT
BEGIN:VEVENT
DTSTART;TZID=America/Chicago:20260418T150000
DTEND;TZID=America/Chicago:20260418T160000
DTSTAMP:20260419T114943
CREATED:20260414T004727Z
LAST-MODIFIED:20260414T004727Z
UID:11016-1776524400-1776528000@www.acadianamusichub.com
SUMMARY:David Henry
DESCRIPTION:
URL:https://www.acadianamusichub.com/event/david-henry-6/
LOCATION:Landon Pitre Memorial Park\, Louisiana
CATEGORIES:David Henry
END:VEVENT
BEGIN:VEVENT
DTSTART;TZID=America/Chicago:20260418T140000
DTEND;TZID=America/Chicago:20260418T140000
DTSTAMP:20260419T114943
CREATED:20260331T112101Z
LAST-MODIFIED:20260331T112101Z
UID:10769-1776520800-1776520800@www.acadianamusichub.com
SUMMARY:Dustin Ray
DESCRIPTION:
URL:https://www.acadianamusichub.com/event/dustin-ray-13/
LOCATION:Landon Pitre Memorial Park\, Louisiana
CATEGORIES:Dustin Ray
END:VEVENT
BEGIN:VEVENT
DTSTART;TZID=America/Chicago:20260418T133000
DTEND;TZID=America/Chicago:20260418T153000
DTSTAMP:20260419T114943
CREATED:20260417T131023Z
LAST-MODIFIED:20260417T131023Z
UID:11112-1776519000-1776526200@www.acadianamusichub.com
SUMMARY:Dylan Aucoin
DESCRIPTION:
URL:https://www.acadianamusichub.com/event/dylan-aucoin/
LOCATION:Cajun Woodstock\, Louisiana
CATEGORIES:Dylan Aucoin
END:VEVENT
BEGIN:VEVENT
DTSTART;TZID=America/Chicago:20260418T130000
DTEND;TZID=America/Chicago:20260418T140000
DTSTAMP:20260419T114943
CREATED:20260331T112111Z
LAST-MODIFIED:20260331T112111Z
UID:10781-1776517200-1776520800@www.acadianamusichub.com
SUMMARY:Mike Broussard
DESCRIPTION:
URL:https://www.acadianamusichub.com/event/mike-broussard-17/
LOCATION:Rock The Lot\, Louisiana
CATEGORIES:Mike Broussard
END:VEVENT
BEGIN:VEVENT
DTSTART;TZID=America/Chicago:20260418T110000
DTEND;TZID=America/Chicago:20260418T130000
DTSTAMP:20260419T114943
CREATED:20260417T131024Z
LAST-MODIFIED:20260417T131024Z
UID:11114-1776510000-1776517200@www.acadianamusichub.com
SUMMARY:Brandon Degeyter
DESCRIPTION:
URL:https://www.acadianamusichub.com/event/brandon-degeyter/
LOCATION:Cajun Woodstock\, Louisiana
CATEGORIES:Brandon Degeyter
END:VEVENT
BEGIN:VEVENT
DTSTART;TZID=America/Chicago:20260418T110000
DTEND;TZID=America/Chicago:20260418T130000
DTSTAMP:20260419T114943
CREATED:20260415T162236Z
LAST-MODIFIED:20260415T162236Z
UID:11044-1776510000-1776517200@www.acadianamusichub.com
SUMMARY:Junior Dugas\, Back On Da Bayou
DESCRIPTION:
URL:https://www.acadianamusichub.com/event/junior-dugas-back-on-da-bayou-3/
LOCATION:Ducky’s Bar Of Scott\, Louisiana
CATEGORIES:Back On Da Bayou,Junior Dugas
END:VEVENT
BEGIN:VEVENT
DTSTART;TZID=America/Chicago:20260418T100000
DTEND;TZID=America/Chicago:20260418T100000
DTSTAMP:20260419T114943
CREATED:20260331T112123Z
LAST-MODIFIED:20260331T112123Z
UID:10793-1776506400-1776506400@www.acadianamusichub.com
SUMMARY:Bubba And Alfred
DESCRIPTION:
URL:https://www.acadianamusichub.com/event/bubba-and-alfred-11/
LOCATION:Crowley Car Show\, Louisiana
CATEGORIES:Bubba And Alfred
END:VEVENT
BEGIN:VEVENT
DTSTART;TZID=America/Chicago:20260418T083000
DTEND;TZID=America/Chicago:20260418T113000
DTSTAMP:20260419T114943
CREATED:20260414T003524Z
LAST-MODIFIED:20260414T003524Z
UID:10998-1776501000-1776511800@www.acadianamusichub.com
SUMMARY:Eric Singleton And Underground Zydeco
DESCRIPTION:
URL:https://www.acadianamusichub.com/event/eric-singleton-and-underground-zydeco/
LOCATION:Naq’s N Duson\, Louisiana
CATEGORIES:Eric Singleton And Underground Zydeco
END:VEVENT
BEGIN:VEVENT
DTSTART;TZID=America/Chicago:20260417T210000
DTEND;TZID=America/Chicago:20260418T000000
DTSTAMP:20260419T114944
CREATED:20260415T162036Z
LAST-MODIFIED:20260415T162036Z
UID:11041-1776459600-1776470400@www.acadianamusichub.com
SUMMARY:Hot Links
DESCRIPTION:
URL:https://www.acadianamusichub.com/event/hot-links/
LOCATION:Legend’s Pub Lafayette\, Louisiana
CATEGORIES:Hot Links
END:VEVENT
BEGIN:VEVENT
DTSTART;TZID=America/Chicago:20260417T210000
DTEND;TZID=America/Chicago:20260417T210000
DTSTAMP:20260419T114944
CREATED:20260414T225010Z
LAST-MODIFIED:20260414T225010Z
UID:11030-1776459600-1776459600@www.acadianamusichub.com
SUMMARY:Mais Oui Band
DESCRIPTION:
URL:https://www.acadianamusichub.com/event/mais-oui-band-2/
LOCATION:Whiskey Tales\, 2825 Grand Point Hwy\, Louisiana
CATEGORIES:Mais Oui Band
END:VEVENT
END:VCALENDAR