BEGIN:VCALENDAR
VERSION:2.0
PRODID:-//Acadiana Music Hub - ECPv6.15.20//NONSGML v1.0//EN
CALSCALE:GREGORIAN
METHOD:PUBLISH
X-WR-CALNAME:Acadiana Music Hub
X-ORIGINAL-URL:https://www.acadianamusichub.com
X-WR-CALDESC:Events for Acadiana Music Hub
REFRESH-INTERVAL;VALUE=DURATION:PT1H
X-Robots-Tag:noindex
X-PUBLISHED-TTL:PT1H
BEGIN:VTIMEZONE
TZID:America/Chicago
BEGIN:DAYLIGHT
TZOFFSETFROM:-0600
TZOFFSETTO:-0500
TZNAME:CDT
DTSTART:20250309T080000
END:DAYLIGHT
BEGIN:STANDARD
TZOFFSETFROM:-0500
TZOFFSETTO:-0600
TZNAME:CST
DTSTART:20251102T070000
END:STANDARD
BEGIN:DAYLIGHT
TZOFFSETFROM:-0600
TZOFFSETTO:-0500
TZNAME:CDT
DTSTART:20260308T080000
END:DAYLIGHT
BEGIN:STANDARD
TZOFFSETFROM:-0500
TZOFFSETTO:-0600
TZNAME:CST
DTSTART:20261101T070000
END:STANDARD
BEGIN:DAYLIGHT
TZOFFSETFROM:-0600
TZOFFSETTO:-0500
TZNAME:CDT
DTSTART:20270314T080000
END:DAYLIGHT
BEGIN:STANDARD
TZOFFSETFROM:-0500
TZOFFSETTO:-0600
TZNAME:CST
DTSTART:20271107T070000
END:STANDARD
END:VTIMEZONE
BEGIN:VEVENT
DTSTART;TZID=America/Chicago:20260411T124500
DTEND;TZID=America/Chicago:20260411T140000
DTSTAMP:20260419T181847
CREATED:20260407T115110Z
LAST-MODIFIED:20260407T115110Z
UID:10912-1775911500-1775916000@www.acadianamusichub.com
SUMMARY:The Eighties Experience
DESCRIPTION:
URL:https://www.acadianamusichub.com/event/the-eighties-experience-7/
LOCATION:Parks Cracklin Cook-Off\, Louisiana
CATEGORIES:The Eighties Experience
END:VEVENT
BEGIN:VEVENT
DTSTART;TZID=America/Chicago:20260328T200000
DTEND;TZID=America/Chicago:20260328T230000
DTSTAMP:20260419T181847
CREATED:20260319T011100Z
LAST-MODIFIED:20260319T011100Z
UID:10614-1774728000-1774738800@www.acadianamusichub.com
SUMMARY:The Eighties Experience
DESCRIPTION:
URL:https://www.acadianamusichub.com/event/the-eighties-experience-6/
LOCATION:Ed’S Place Iota\, Louisiana
CATEGORIES:The Eighties Experience
END:VEVENT
BEGIN:VEVENT
DTSTART;TZID=America/Chicago:20260327T183000
DTEND;TZID=America/Chicago:20260327T213000
DTSTAMP:20260419T181848
CREATED:20260318T093101Z
LAST-MODIFIED:20260318T093101Z
UID:10597-1774636200-1774647000@www.acadianamusichub.com
SUMMARY:The Eighties Experience
DESCRIPTION:
URL:https://www.acadianamusichub.com/event/the-eighties-experience-5/
LOCATION:El Paso New Iberia\, 1201 E Admiral Doyle Dr\, Louisiana
CATEGORIES:The Eighties Experience
END:VEVENT
BEGIN:VEVENT
DTSTART;TZID=America/Chicago:20260321T200000
DTEND;TZID=America/Chicago:20260321T230000
DTSTAMP:20260419T181848
CREATED:20260314T190055Z
LAST-MODIFIED:20260314T190055Z
UID:10552-1774123200-1774134000@www.acadianamusichub.com
SUMMARY:The Eighties Experience
DESCRIPTION:
URL:https://www.acadianamusichub.com/event/the-eighties-experience-3/
LOCATION:Lil’s On The Teche\, 4276 Poydras Hwy\, Louisiana
CATEGORIES:The Eighties Experience
END:VEVENT
BEGIN:VEVENT
DTSTART;TZID=America/Chicago:20260320T200000
DTEND;TZID=America/Chicago:20260320T230000
DTSTAMP:20260419T181848
CREATED:20260314T190117Z
LAST-MODIFIED:20260314T190117Z
UID:10566-1774036800-1774047600@www.acadianamusichub.com
SUMMARY:The Eighties Experience
DESCRIPTION:
URL:https://www.acadianamusichub.com/event/the-eighties-experience-4/
LOCATION:Hidden Pines (Egan)\, Louisiana
CATEGORIES:The Eighties Experience
END:VEVENT
BEGIN:VEVENT
DTSTART;TZID=America/Chicago:20260314T183000
DTEND;TZID=America/Chicago:20260314T213000
DTSTAMP:20260419T181848
CREATED:20260310T135545Z
LAST-MODIFIED:20260310T135545Z
UID:10487-1773513000-1773523800@www.acadianamusichub.com
SUMMARY:The Eighties Experience
DESCRIPTION:
URL:https://www.acadianamusichub.com/event/the-eighties-experience-2/
LOCATION:Moon Pie Festival (Ball\, Louisiana
CATEGORIES:The Eighties Experience
END:VEVENT
BEGIN:VEVENT
DTSTART;TZID=America/Chicago:20260313T183000
DTEND;TZID=America/Chicago:20260313T213000
DTSTAMP:20260419T181848
CREATED:20260310T134614Z
LAST-MODIFIED:20260310T134614Z
UID:10479-1773426600-1773437400@www.acadianamusichub.com
SUMMARY:The Eighties Experience
DESCRIPTION:
URL:https://www.acadianamusichub.com/event/the-eighties-experience/
LOCATION:El Paso Carencro\, Louisiana
CATEGORIES:The Eighties Experience
END:VEVENT
END:VCALENDAR