BEGIN:VCALENDAR
VERSION:2.0
PRODID:-//Acadiana Music Hub - ECPv6.15.20//NONSGML v1.0//EN
CALSCALE:GREGORIAN
METHOD:PUBLISH
X-WR-CALNAME:Acadiana Music Hub
X-ORIGINAL-URL:https://www.acadianamusichub.com
X-WR-CALDESC:Events for Acadiana Music Hub
REFRESH-INTERVAL;VALUE=DURATION:PT1H
X-Robots-Tag:noindex
X-PUBLISHED-TTL:PT1H
BEGIN:VTIMEZONE
TZID:America/Chicago
BEGIN:DAYLIGHT
TZOFFSETFROM:-0600
TZOFFSETTO:-0500
TZNAME:CDT
DTSTART:20250309T080000
END:DAYLIGHT
BEGIN:STANDARD
TZOFFSETFROM:-0500
TZOFFSETTO:-0600
TZNAME:CST
DTSTART:20251102T070000
END:STANDARD
BEGIN:DAYLIGHT
TZOFFSETFROM:-0600
TZOFFSETTO:-0500
TZNAME:CDT
DTSTART:20260308T080000
END:DAYLIGHT
BEGIN:STANDARD
TZOFFSETFROM:-0500
TZOFFSETTO:-0600
TZNAME:CST
DTSTART:20261101T070000
END:STANDARD
BEGIN:DAYLIGHT
TZOFFSETFROM:-0600
TZOFFSETTO:-0500
TZNAME:CDT
DTSTART:20270314T080000
END:DAYLIGHT
BEGIN:STANDARD
TZOFFSETFROM:-0500
TZOFFSETTO:-0600
TZNAME:CST
DTSTART:20271107T070000
END:STANDARD
END:VTIMEZONE
BEGIN:VEVENT
DTSTART;TZID=America/Chicago:20260418T210000
DTEND;TZID=America/Chicago:20260418T230000
DTSTAMP:20260419T124409
CREATED:20260417T131026Z
LAST-MODIFIED:20260417T131026Z
UID:11115-1776546000-1776553200@www.acadianamusichub.com
SUMMARY:Rusty Metoyer
DESCRIPTION:
URL:https://www.acadianamusichub.com/event/rusty-metoyer-8/
LOCATION:Cajun Woodstock\, Louisiana
CATEGORIES:Rusty Metoyer
END:VEVENT
BEGIN:VEVENT
DTSTART;TZID=America/Chicago:20260411T160000
DTEND;TZID=America/Chicago:20260411T180000
DTSTAMP:20260419T124409
CREATED:20260331T040101Z
LAST-MODIFIED:20260331T040101Z
UID:10751-1775923200-1775930400@www.acadianamusichub.com
SUMMARY:Rusty Metoyer
DESCRIPTION:
URL:https://www.acadianamusichub.com/event/rusty-metoyer-7/
LOCATION:Scott Boudin Festival\, Louisiana
CATEGORIES:Rusty Metoyer
END:VEVENT
BEGIN:VEVENT
DTSTART;TZID=America/Chicago:20260321T220000
DTEND;TZID=America/Chicago:20260322T010000
DTSTAMP:20260419T124409
CREATED:20260316T040014Z
LAST-MODIFIED:20260316T040014Z
UID:10576-1774130400-1774141200@www.acadianamusichub.com
SUMMARY:Rusty Metoyer
DESCRIPTION:
URL:https://www.acadianamusichub.com/event/rusty-metoyer-6/
LOCATION:Backer Tractor\, Louisiana
CATEGORIES:Rusty Metoyer
END:VEVENT
BEGIN:VEVENT
DTSTART;TZID=America/Chicago:20260321T160000
DTEND;TZID=America/Chicago:20260321T173000
DTSTAMP:20260419T124409
CREATED:20260314T190046Z
LAST-MODIFIED:20260314T190046Z
UID:10549-1774108800-1774114200@www.acadianamusichub.com
SUMMARY:Rusty Metoyer
DESCRIPTION:
URL:https://www.acadianamusichub.com/event/rusty-metoyer-4/
LOCATION:Sterling Grove Festival\, Louisiana
CATEGORIES:Rusty Metoyer
END:VEVENT
BEGIN:VEVENT
DTSTART;TZID=America/Chicago:20260320T220000
DTEND;TZID=America/Chicago:20260321T010000
DTSTAMP:20260419T124409
CREATED:20260314T190106Z
LAST-MODIFIED:20260314T190106Z
UID:10557-1774044000-1774054800@www.acadianamusichub.com
SUMMARY:Rusty Metoyer
DESCRIPTION:
URL:https://www.acadianamusichub.com/event/rusty-metoyer-5/
LOCATION:Andy’s Endiglo Club\, Louisiana
CATEGORIES:Rusty Metoyer
END:VEVENT
BEGIN:VEVENT
DTSTART;TZID=America/Chicago:20260315T170000
DTEND;TZID=America/Chicago:20260315T200000
DTSTAMP:20260419T124409
CREATED:20260310T135843Z
LAST-MODIFIED:20260310T135843Z
UID:10498-1773594000-1773604800@www.acadianamusichub.com
SUMMARY:Rusty Metoyer
DESCRIPTION:
URL:https://www.acadianamusichub.com/event/rusty-metoyer-3/
LOCATION:Rock N Bowl\, Louisiana
CATEGORIES:Rusty Metoyer
END:VEVENT
BEGIN:VEVENT
DTSTART;TZID=America/Chicago:20260314T170000
DTEND;TZID=America/Chicago:20260314T200000
DTSTAMP:20260419T124410
CREATED:20260310T134600Z
LAST-MODIFIED:20260310T134600Z
UID:10467-1773507600-1773518400@www.acadianamusichub.com
SUMMARY:Rusty Metoyer
DESCRIPTION:
URL:https://www.acadianamusichub.com/event/rusty-metoyer/
LOCATION:Real Non Stop Riders Trailride\, Louisiana
CATEGORIES:Rusty Metoyer
END:VEVENT
BEGIN:VEVENT
DTSTART;TZID=America/Chicago:20260314T083000
DTEND;TZID=America/Chicago:20260314T113000
DTSTAMP:20260419T124410
CREATED:20260310T134606Z
LAST-MODIFIED:20260310T134606Z
UID:10473-1773477000-1773487800@www.acadianamusichub.com
SUMMARY:Rusty Metoyer
DESCRIPTION:
URL:https://www.acadianamusichub.com/event/rusty-metoyer-2/
LOCATION:Buck and Johnny’s\, Louisiana
CATEGORIES:Rusty Metoyer
END:VEVENT
END:VCALENDAR