BEGIN:VCALENDAR
VERSION:2.0
PRODID:-//Acadiana Music Hub - ECPv6.15.20//NONSGML v1.0//EN
CALSCALE:GREGORIAN
METHOD:PUBLISH
X-WR-CALNAME:Acadiana Music Hub
X-ORIGINAL-URL:https://www.acadianamusichub.com
X-WR-CALDESC:Events for Acadiana Music Hub
REFRESH-INTERVAL;VALUE=DURATION:PT1H
X-Robots-Tag:noindex
X-PUBLISHED-TTL:PT1H
BEGIN:VTIMEZONE
TZID:America/Chicago
BEGIN:DAYLIGHT
TZOFFSETFROM:-0600
TZOFFSETTO:-0500
TZNAME:CDT
DTSTART:20250309T080000
END:DAYLIGHT
BEGIN:STANDARD
TZOFFSETFROM:-0500
TZOFFSETTO:-0600
TZNAME:CST
DTSTART:20251102T070000
END:STANDARD
BEGIN:DAYLIGHT
TZOFFSETFROM:-0600
TZOFFSETTO:-0500
TZNAME:CDT
DTSTART:20260308T080000
END:DAYLIGHT
BEGIN:STANDARD
TZOFFSETFROM:-0500
TZOFFSETTO:-0600
TZNAME:CST
DTSTART:20261101T070000
END:STANDARD
BEGIN:DAYLIGHT
TZOFFSETFROM:-0600
TZOFFSETTO:-0500
TZNAME:CDT
DTSTART:20270314T080000
END:DAYLIGHT
BEGIN:STANDARD
TZOFFSETFROM:-0500
TZOFFSETTO:-0600
TZNAME:CST
DTSTART:20271107T070000
END:STANDARD
END:VTIMEZONE
BEGIN:VEVENT
DTSTART;TZID=America/Chicago:20260313T190000
DTEND;TZID=America/Chicago:20260313T210000
DTSTAMP:20260419T125414
CREATED:20260313T103022Z
LAST-MODIFIED:20260313T103022Z
UID:10518-1773428400-1773435600@www.acadianamusichub.com
SUMMARY:RaiKwon
DESCRIPTION:
URL:https://www.acadianamusichub.com/event/raikwon/
LOCATION:Cajun Heritage RV Park\, Louisiana
CATEGORIES:Raikwon
END:VEVENT
BEGIN:VEVENT
DTSTART;TZID=America/Chicago:20260326T190000
DTEND;TZID=America/Chicago:20260326T220000
DTSTAMP:20260419T125414
CREATED:20260324T151027Z
LAST-MODIFIED:20260324T151027Z
UID:10677-1774551600-1774562400@www.acadianamusichub.com
SUMMARY:Raikwon
DESCRIPTION:
URL:https://www.acadianamusichub.com/event/raikwon-3/
LOCATION:The Bank Bar And Patio\, Louisiana
CATEGORIES:Raikwon
END:VEVENT
BEGIN:VEVENT
DTSTART;TZID=America/Chicago:20260327T190000
DTEND;TZID=America/Chicago:20260327T210000
DTSTAMP:20260419T125414
CREATED:20260327T030649Z
LAST-MODIFIED:20260327T030649Z
UID:10697-1774638000-1774645200@www.acadianamusichub.com
SUMMARY:Raikwon
DESCRIPTION:
URL:https://www.acadianamusichub.com/event/raikwon-2/
LOCATION:Cajun Heritage RV Park\, Louisiana
CATEGORIES:Raikwon
END:VEVENT
BEGIN:VEVENT
DTSTART;TZID=America/Chicago:20260328T120000
DTEND;TZID=America/Chicago:20260328T143000
DTSTAMP:20260419T125414
CREATED:20260324T153030Z
LAST-MODIFIED:20260324T153030Z
UID:10684-1774699200-1774708200@www.acadianamusichub.com
SUMMARY:Raikwon
DESCRIPTION:
URL:https://www.acadianamusichub.com/event/raikwon-4/
LOCATION:Breaux’s Cajun Kitchen—Jennings\, Louisiana
CATEGORIES:Raikwon
END:VEVENT
END:VCALENDAR