BEGIN:VCALENDAR
VERSION:2.0
PRODID:-//Acadiana Music Hub - ECPv6.15.20//NONSGML v1.0//EN
CALSCALE:GREGORIAN
METHOD:PUBLISH
X-WR-CALNAME:Acadiana Music Hub
X-ORIGINAL-URL:https://www.acadianamusichub.com
X-WR-CALDESC:Events for Acadiana Music Hub
REFRESH-INTERVAL;VALUE=DURATION:PT1H
X-Robots-Tag:noindex
X-PUBLISHED-TTL:PT1H
BEGIN:VTIMEZONE
TZID:America/Chicago
BEGIN:DAYLIGHT
TZOFFSETFROM:-0600
TZOFFSETTO:-0500
TZNAME:CDT
DTSTART:20250309T080000
END:DAYLIGHT
BEGIN:STANDARD
TZOFFSETFROM:-0500
TZOFFSETTO:-0600
TZNAME:CST
DTSTART:20251102T070000
END:STANDARD
BEGIN:DAYLIGHT
TZOFFSETFROM:-0600
TZOFFSETTO:-0500
TZNAME:CDT
DTSTART:20260308T080000
END:DAYLIGHT
BEGIN:STANDARD
TZOFFSETFROM:-0500
TZOFFSETTO:-0600
TZNAME:CST
DTSTART:20261101T070000
END:STANDARD
BEGIN:DAYLIGHT
TZOFFSETFROM:-0600
TZOFFSETTO:-0500
TZNAME:CDT
DTSTART:20270314T080000
END:DAYLIGHT
BEGIN:STANDARD
TZOFFSETFROM:-0500
TZOFFSETTO:-0600
TZNAME:CST
DTSTART:20271107T070000
END:STANDARD
END:VTIMEZONE
BEGIN:VEVENT
DTSTART;TZID=America/Chicago:20260319T180000
DTEND;TZID=America/Chicago:20260319T210000
DTSTAMP:20260419T114446
CREATED:20260313T103953Z
LAST-MODIFIED:20260313T103953Z
UID:10530-1773943200-1773954000@www.acadianamusichub.com
SUMMARY:Mike Broussard
DESCRIPTION:
URL:https://www.acadianamusichub.com/event/mike-broussard-6/
LOCATION:Crawfish Hut\, Rayne\, Louisiana
CATEGORIES:Mike Broussard
END:VEVENT
BEGIN:VEVENT
DTSTART;TZID=America/Chicago:20260314T200000
DTEND;TZID=America/Chicago:20260314T230000
DTSTAMP:20260419T114446
CREATED:20260310T135547Z
LAST-MODIFIED:20260310T135547Z
UID:10489-1773518400-1773529200@www.acadianamusichub.com
SUMMARY:Mike Broussard
DESCRIPTION:
URL:https://www.acadianamusichub.com/event/mike-broussard-5/
LOCATION:Black Bull\, Louisiana
CATEGORIES:Mike Broussard
END:VEVENT
BEGIN:VEVENT
DTSTART;TZID=America/Chicago:20260314T110000
DTEND;TZID=America/Chicago:20260314T140000
DTSTAMP:20260419T114446
CREATED:20260310T134559Z
LAST-MODIFIED:20260310T134559Z
UID:10466-1773486000-1773496800@www.acadianamusichub.com
SUMMARY:Mike Broussard
DESCRIPTION:
URL:https://www.acadianamusichub.com/event/mike-broussard-3/
LOCATION:Cade Community Center\, Louisiana
CATEGORIES:Mike Broussard
END:VEVENT
BEGIN:VEVENT
DTSTART;TZID=America/Chicago:20260313T190000
DTEND;TZID=America/Chicago:20260313T220000
DTSTAMP:20260419T114446
CREATED:20260310T134610Z
LAST-MODIFIED:20260310T134610Z
UID:10476-1773428400-1773439200@www.acadianamusichub.com
SUMMARY:Mike Broussard
DESCRIPTION:
URL:https://www.acadianamusichub.com/event/mike-broussard-4/
LOCATION:Mout’s Place\, Louisiana
CATEGORIES:Mike Broussard
END:VEVENT
BEGIN:VEVENT
DTSTART;TZID=America/Chicago:20260312T180000
DTEND;TZID=America/Chicago:20260312T210000
DTSTAMP:20260419T114446
CREATED:20260310T134416Z
LAST-MODIFIED:20260310T134416Z
UID:10465-1773338400-1773349200@www.acadianamusichub.com
SUMMARY:Mike Broussard
DESCRIPTION:
URL:https://www.acadianamusichub.com/event/mike-broussard-2/
LOCATION:El Corazon\, Unknown\, Louisiana
CATEGORIES:Mike Broussard
END:VEVENT
BEGIN:VEVENT
DTSTART;TZID=America/Chicago:20260311T173000
DTEND;TZID=America/Chicago:20260311T193000
DTSTAMP:20260419T114446
CREATED:20260310T134406Z
LAST-MODIFIED:20260310T134406Z
UID:10459-1773250200-1773257400@www.acadianamusichub.com
SUMMARY:Mike Broussard
DESCRIPTION:
URL:https://www.acadianamusichub.com/event/mike-broussard/
LOCATION:Kaplan Town Center\, Louisiana
CATEGORIES:Mike Broussard
END:VEVENT
END:VCALENDAR