BEGIN:VCALENDAR
VERSION:2.0
PRODID:-//Acadiana Music Hub - ECPv6.15.20//NONSGML v1.0//EN
CALSCALE:GREGORIAN
METHOD:PUBLISH
X-WR-CALNAME:Acadiana Music Hub
X-ORIGINAL-URL:https://www.acadianamusichub.com
X-WR-CALDESC:Events for Acadiana Music Hub
REFRESH-INTERVAL;VALUE=DURATION:PT1H
X-Robots-Tag:noindex
X-PUBLISHED-TTL:PT1H
BEGIN:VTIMEZONE
TZID:America/Chicago
BEGIN:DAYLIGHT
TZOFFSETFROM:-0600
TZOFFSETTO:-0500
TZNAME:CDT
DTSTART:20250309T080000
END:DAYLIGHT
BEGIN:STANDARD
TZOFFSETFROM:-0500
TZOFFSETTO:-0600
TZNAME:CST
DTSTART:20251102T070000
END:STANDARD
BEGIN:DAYLIGHT
TZOFFSETFROM:-0600
TZOFFSETTO:-0500
TZNAME:CDT
DTSTART:20260308T080000
END:DAYLIGHT
BEGIN:STANDARD
TZOFFSETFROM:-0500
TZOFFSETTO:-0600
TZNAME:CST
DTSTART:20261101T070000
END:STANDARD
BEGIN:DAYLIGHT
TZOFFSETFROM:-0600
TZOFFSETTO:-0500
TZNAME:CDT
DTSTART:20270314T080000
END:DAYLIGHT
BEGIN:STANDARD
TZOFFSETFROM:-0500
TZOFFSETTO:-0600
TZNAME:CST
DTSTART:20271107T070000
END:STANDARD
END:VTIMEZONE
BEGIN:VEVENT
DTSTART;TZID=America/Chicago:20260429T183000
DTEND;TZID=America/Chicago:20260429T213000
DTSTAMP:20260419T213551
CREATED:20260413T172028Z
LAST-MODIFIED:20260413T172028Z
UID:10947-1777487400-1777498200@www.acadianamusichub.com
SUMMARY:Leif Meche Band
DESCRIPTION:
URL:https://www.acadianamusichub.com/event/leif-meche-band-19/
LOCATION:Tap Room Youngsville\, Youngsville\, Louisiana
CATEGORIES:Leif Meche Band
END:VEVENT
BEGIN:VEVENT
DTSTART;TZID=America/Chicago:20260430T180000
DTEND;TZID=America/Chicago:20260430T210000
DTSTAMP:20260419T213551
CREATED:20260413T172022Z
LAST-MODIFIED:20260413T172022Z
UID:10941-1777572000-1777582800@www.acadianamusichub.com
SUMMARY:Leif Meche Band
DESCRIPTION:
URL:https://www.acadianamusichub.com/event/leif-meche-band-18/
LOCATION:Naq’s N Duson\, Louisiana
CATEGORIES:Leif Meche Band
END:VEVENT
BEGIN:VEVENT
DTSTART;TZID=America/Chicago:20260508T180000
DTEND;TZID=America/Chicago:20260508T193000
DTSTAMP:20260419T213551
CREATED:20260413T172429Z
LAST-MODIFIED:20260413T172429Z
UID:10961-1778263200-1778268600@www.acadianamusichub.com
SUMMARY:Leif Meche Band
DESCRIPTION:
URL:https://www.acadianamusichub.com/event/leif-meche-band-21/
LOCATION:Frog Festival\, Rayne\, Louisiana
CATEGORIES:Leif Meche Band
END:VEVENT
BEGIN:VEVENT
DTSTART;TZID=America/Chicago:20260509T180000
DTEND;TZID=America/Chicago:20260509T203000
DTSTAMP:20260419T213551
CREATED:20260413T172449Z
LAST-MODIFIED:20260413T172449Z
UID:10975-1778349600-1778358600@www.acadianamusichub.com
SUMMARY:Leif Meche Band
DESCRIPTION:
URL:https://www.acadianamusichub.com/event/leif-meche-band-22/
LOCATION:Cafe Sydnie Mae\, Louisiana
CATEGORIES:Leif Meche Band
END:VEVENT
BEGIN:VEVENT
DTSTART;TZID=America/Chicago:20260515T180000
DTEND;TZID=America/Chicago:20260515T210000
DTSTAMP:20260419T213551
CREATED:20260413T172425Z
LAST-MODIFIED:20260413T172425Z
UID:10958-1778868000-1778878800@www.acadianamusichub.com
SUMMARY:Leif Meche Band
DESCRIPTION:
URL:https://www.acadianamusichub.com/event/leif-meche-band-20/
LOCATION:Dup’s Pizza\, Church Point\, Louisiana
CATEGORIES:Leif Meche Band
END:VEVENT
END:VCALENDAR