BEGIN:VCALENDAR
VERSION:2.0
PRODID:-//Acadiana Music Hub - ECPv6.15.20//NONSGML v1.0//EN
CALSCALE:GREGORIAN
METHOD:PUBLISH
X-WR-CALNAME:Acadiana Music Hub
X-ORIGINAL-URL:https://www.acadianamusichub.com
X-WR-CALDESC:Events for Acadiana Music Hub
REFRESH-INTERVAL;VALUE=DURATION:PT1H
X-Robots-Tag:noindex
X-PUBLISHED-TTL:PT1H
BEGIN:VTIMEZONE
TZID:America/Chicago
BEGIN:DAYLIGHT
TZOFFSETFROM:-0600
TZOFFSETTO:-0500
TZNAME:CDT
DTSTART:20250309T080000
END:DAYLIGHT
BEGIN:STANDARD
TZOFFSETFROM:-0500
TZOFFSETTO:-0600
TZNAME:CST
DTSTART:20251102T070000
END:STANDARD
BEGIN:DAYLIGHT
TZOFFSETFROM:-0600
TZOFFSETTO:-0500
TZNAME:CDT
DTSTART:20260308T080000
END:DAYLIGHT
BEGIN:STANDARD
TZOFFSETFROM:-0500
TZOFFSETTO:-0600
TZNAME:CST
DTSTART:20261101T070000
END:STANDARD
BEGIN:DAYLIGHT
TZOFFSETFROM:-0600
TZOFFSETTO:-0500
TZNAME:CDT
DTSTART:20270314T080000
END:DAYLIGHT
BEGIN:STANDARD
TZOFFSETFROM:-0500
TZOFFSETTO:-0600
TZNAME:CST
DTSTART:20271107T070000
END:STANDARD
END:VTIMEZONE
BEGIN:VEVENT
DTSTART;TZID=America/Chicago:20260419T133000
DTEND;TZID=America/Chicago:20260419T153000
DTSTAMP:20260419T102820
CREATED:20260325T121258Z
LAST-MODIFIED:20260325T121258Z
UID:10695-1776605400-1776612600@www.acadianamusichub.com
SUMMARY:Junior Lacrosse Band
DESCRIPTION:
URL:https://www.acadianamusichub.com/event/junior-lacrosse-band-20/
LOCATION:Cajun Woodstock\, Louisiana
CATEGORIES:Junior Lacrosse Band
END:VEVENT
BEGIN:VEVENT
DTSTART;TZID=America/Chicago:20260422T180000
DTEND;TZID=America/Chicago:20260422T200000
DTSTAMP:20260419T102820
CREATED:20260414T131514Z
LAST-MODIFIED:20260414T131514Z
UID:11027-1776880800-1776888000@www.acadianamusichub.com
SUMMARY:Junior Lacrosse Band
DESCRIPTION:
URL:https://www.acadianamusichub.com/event/junior-lacrosse-band-24/
LOCATION:Torres Park Amphitheater\, La
CATEGORIES:Junior Lacrosse Band
END:VEVENT
BEGIN:VEVENT
DTSTART;TZID=America/Chicago:20260424T203000
DTEND;TZID=America/Chicago:20260424T230000
DTSTAMP:20260419T102820
CREATED:20260325T121255Z
LAST-MODIFIED:20260325T121255Z
UID:10693-1777062600-1777071600@www.acadianamusichub.com
SUMMARY:Junior Lacrosse Band
DESCRIPTION:
URL:https://www.acadianamusichub.com/event/junior-lacrosse-band-19/
LOCATION:VOL Fest\, Louisiana
CATEGORIES:Junior Lacrosse Band
END:VEVENT
BEGIN:VEVENT
DTSTART;TZID=America/Chicago:20260425T170000
DTEND;TZID=America/Chicago:20260425T190000
DTSTAMP:20260419T102820
CREATED:20260325T121254Z
LAST-MODIFIED:20260325T121254Z
UID:10692-1777136400-1777143600@www.acadianamusichub.com
SUMMARY:Junior Lacrosse Band
DESCRIPTION:
URL:https://www.acadianamusichub.com/event/junior-lacrosse-band-17/
LOCATION:Crawfest 2026\, Louisiana
CATEGORIES:Junior Lacrosse Band
END:VEVENT
BEGIN:VEVENT
DTSTART;TZID=America/Chicago:20260426T133000
DTEND;TZID=America/Chicago:20260426T133000
DTSTAMP:20260419T102820
CREATED:20260323T184932Z
LAST-MODIFIED:20260323T184932Z
UID:10659-1777210200-1777210200@www.acadianamusichub.com
SUMMARY:Junior Lacrosse Band
DESCRIPTION:
URL:https://www.acadianamusichub.com/event/junior-lacrosse-band-12/
LOCATION:Italian Festival\, Louisiana
CATEGORIES:Junior Lacrosse Band
END:VEVENT
END:VCALENDAR