BEGIN:VCALENDAR
VERSION:2.0
PRODID:-//Acadiana Music Hub - ECPv6.15.20//NONSGML v1.0//EN
CALSCALE:GREGORIAN
METHOD:PUBLISH
X-WR-CALNAME:Acadiana Music Hub
X-ORIGINAL-URL:https://www.acadianamusichub.com
X-WR-CALDESC:Events for Acadiana Music Hub
REFRESH-INTERVAL;VALUE=DURATION:PT1H
X-Robots-Tag:noindex
X-PUBLISHED-TTL:PT1H
BEGIN:VTIMEZONE
TZID:America/Chicago
BEGIN:DAYLIGHT
TZOFFSETFROM:-0600
TZOFFSETTO:-0500
TZNAME:CDT
DTSTART:20250309T080000
END:DAYLIGHT
BEGIN:STANDARD
TZOFFSETFROM:-0500
TZOFFSETTO:-0600
TZNAME:CST
DTSTART:20251102T070000
END:STANDARD
BEGIN:DAYLIGHT
TZOFFSETFROM:-0600
TZOFFSETTO:-0500
TZNAME:CDT
DTSTART:20260308T080000
END:DAYLIGHT
BEGIN:STANDARD
TZOFFSETFROM:-0500
TZOFFSETTO:-0600
TZNAME:CST
DTSTART:20261101T070000
END:STANDARD
BEGIN:DAYLIGHT
TZOFFSETFROM:-0600
TZOFFSETTO:-0500
TZNAME:CDT
DTSTART:20270314T080000
END:DAYLIGHT
BEGIN:STANDARD
TZOFFSETFROM:-0500
TZOFFSETTO:-0600
TZNAME:CST
DTSTART:20271107T070000
END:STANDARD
END:VTIMEZONE
BEGIN:VEVENT
DTSTART;TZID=America/Chicago:20260313T200000
DTEND;TZID=America/Chicago:20260313T200000
DTSTAMP:20260419T130939
CREATED:20260310T134603Z
LAST-MODIFIED:20260310T134603Z
UID:10469-1773432000-1773432000@www.acadianamusichub.com
SUMMARY:Junior Lacrosse Band
DESCRIPTION:
URL:https://www.acadianamusichub.com/event/junior-lacrosse-band/
LOCATION:Archie’s\, Louisiana
CATEGORIES:Junior Lacrosse Band
END:VEVENT
BEGIN:VEVENT
DTSTART;TZID=America/Chicago:20260314T213000
DTEND;TZID=America/Chicago:20260314T213000
DTSTAMP:20260419T130939
CREATED:20260310T135541Z
LAST-MODIFIED:20260310T135541Z
UID:10484-1773523800-1773523800@www.acadianamusichub.com
SUMMARY:Junior Lacrosse Band
DESCRIPTION:
URL:https://www.acadianamusichub.com/event/junior-lacrosse-band-2/
LOCATION:Music Cove\, Louisiana
CATEGORIES:Junior Lacrosse Band
END:VEVENT
BEGIN:VEVENT
DTSTART;TZID=America/Chicago:20260315T163000
DTEND;TZID=America/Chicago:20260315T163000
DTSTAMP:20260419T130939
CREATED:20260310T135840Z
LAST-MODIFIED:20260310T135840Z
UID:10495-1773592200-1773592200@www.acadianamusichub.com
SUMMARY:Junior Lacrosse Band
DESCRIPTION:
URL:https://www.acadianamusichub.com/event/junior-lacrosse-band-3/
LOCATION:Pat’s Atchafalaya Club\, Louisiana
CATEGORIES:Junior Lacrosse Band
END:VEVENT
BEGIN:VEVENT
DTSTART;TZID=America/Chicago:20260319T210000
DTEND;TZID=America/Chicago:20260319T210000
DTSTAMP:20260419T130939
CREATED:20260313T104010Z
LAST-MODIFIED:20260313T104010Z
UID:10538-1773954000-1773954000@www.acadianamusichub.com
SUMMARY:Junior Lacrosse Band
DESCRIPTION:
URL:https://www.acadianamusichub.com/event/junior-lacrosse-band-7/
LOCATION:Sidney’s Saloon\, Louisiana
CATEGORIES:Junior Lacrosse Band
END:VEVENT
BEGIN:VEVENT
DTSTART;TZID=America/Chicago:20260321T130000
DTEND;TZID=America/Chicago:20260321T130000
DTSTAMP:20260419T130939
CREATED:20260313T103952Z
LAST-MODIFIED:20260313T103952Z
UID:10529-1774098000-1774098000@www.acadianamusichub.com
SUMMARY:Junior Lacrosse Band
DESCRIPTION:
URL:https://www.acadianamusichub.com/event/junior-lacrosse-band-4/
LOCATION:Kajun Kick Grand Opening\, Louisiana
CATEGORIES:Junior Lacrosse Band
END:VEVENT
BEGIN:VEVENT
DTSTART;TZID=America/Chicago:20260322T150000
DTEND;TZID=America/Chicago:20260322T150000
DTSTAMP:20260419T130939
CREATED:20260313T103954Z
LAST-MODIFIED:20260313T103954Z
UID:10531-1774191600-1774191600@www.acadianamusichub.com
SUMMARY:Junior Lacrosse Band
DESCRIPTION:
URL:https://www.acadianamusichub.com/event/junior-lacrosse-band-5/
LOCATION:Canal Bank Club\, Louisiana
CATEGORIES:Junior Lacrosse Band
END:VEVENT
BEGIN:VEVENT
DTSTART;TZID=America/Chicago:20260328T213000
DTEND;TZID=America/Chicago:20260328T213000
DTSTAMP:20260419T130939
CREATED:20260327T155717Z
LAST-MODIFIED:20260327T155717Z
UID:10701-1774733400-1774733400@www.acadianamusichub.com
SUMMARY:Junior Lacrosse Band
DESCRIPTION:
URL:https://www.acadianamusichub.com/event/junior-lacrosse-band-15/
LOCATION:Music Cove\, Louisiana
CATEGORIES:Junior Lacrosse Band
END:VEVENT
BEGIN:VEVENT
DTSTART;TZID=America/Chicago:20260329T130000
DTEND;TZID=America/Chicago:20260329T130000
DTSTAMP:20260419T130939
CREATED:20260313T104003Z
LAST-MODIFIED:20260313T104003Z
UID:10532-1774789200-1774789200@www.acadianamusichub.com
SUMMARY:Junior Lacrosse Band
DESCRIPTION:
URL:https://www.acadianamusichub.com/event/junior-lacrosse-band-6/
LOCATION:Bayou Jeep Bash\, Louisiana
CATEGORIES:Junior Lacrosse Band
END:VEVENT
END:VCALENDAR