BEGIN:VCALENDAR
VERSION:2.0
PRODID:-//Acadiana Music Hub - ECPv6.15.20//NONSGML v1.0//EN
CALSCALE:GREGORIAN
METHOD:PUBLISH
X-WR-CALNAME:Acadiana Music Hub
X-ORIGINAL-URL:https://www.acadianamusichub.com
X-WR-CALDESC:Events for Acadiana Music Hub
REFRESH-INTERVAL;VALUE=DURATION:PT1H
X-Robots-Tag:noindex
X-PUBLISHED-TTL:PT1H
BEGIN:VTIMEZONE
TZID:America/Chicago
BEGIN:DAYLIGHT
TZOFFSETFROM:-0600
TZOFFSETTO:-0500
TZNAME:CDT
DTSTART:20250309T080000
END:DAYLIGHT
BEGIN:STANDARD
TZOFFSETFROM:-0500
TZOFFSETTO:-0600
TZNAME:CST
DTSTART:20251102T070000
END:STANDARD
BEGIN:DAYLIGHT
TZOFFSETFROM:-0600
TZOFFSETTO:-0500
TZNAME:CDT
DTSTART:20260308T080000
END:DAYLIGHT
BEGIN:STANDARD
TZOFFSETFROM:-0500
TZOFFSETTO:-0600
TZNAME:CST
DTSTART:20261101T070000
END:STANDARD
BEGIN:DAYLIGHT
TZOFFSETFROM:-0600
TZOFFSETTO:-0500
TZNAME:CDT
DTSTART:20270314T080000
END:DAYLIGHT
BEGIN:STANDARD
TZOFFSETFROM:-0500
TZOFFSETTO:-0600
TZNAME:CST
DTSTART:20271107T070000
END:STANDARD
END:VTIMEZONE
BEGIN:VEVENT
DTSTART;TZID=America/Chicago:20260416T180000
DTEND;TZID=America/Chicago:20260416T210000
DTSTAMP:20260419T141408
CREATED:20260414T003953Z
LAST-MODIFIED:20260414T003953Z
UID:11002-1776362400-1776373200@www.acadianamusichub.com
SUMMARY:Jon Melancon
DESCRIPTION:
URL:https://www.acadianamusichub.com/event/jon-melancon-5/
LOCATION:Agave Mexican Cuisine\, Louisiana
CATEGORIES:Jon Melancon
END:VEVENT
BEGIN:VEVENT
DTSTART;TZID=America/Chicago:20260414T180000
DTEND;TZID=America/Chicago:20260414T210000
DTSTAMP:20260419T141408
CREATED:20260414T003954Z
LAST-MODIFIED:20260414T003954Z
UID:11003-1776189600-1776200400@www.acadianamusichub.com
SUMMARY:Jon Melancon
DESCRIPTION:
URL:https://www.acadianamusichub.com/event/jon-melancon-6/
LOCATION:Cankton Cafe\, Louisiana
CATEGORIES:Jon Melancon
END:VEVENT
BEGIN:VEVENT
DTSTART;TZID=America/Chicago:20260410T190000
DTEND;TZID=America/Chicago:20260410T220000
DTSTAMP:20260419T141408
CREATED:20260407T113923Z
LAST-MODIFIED:20260407T113923Z
UID:10895-1775847600-1775858400@www.acadianamusichub.com
SUMMARY:Jon Melancon
DESCRIPTION:
URL:https://www.acadianamusichub.com/event/jon-melancon-4/
LOCATION:Black Bull\, Louisiana
CATEGORIES:Jon Melancon
END:VEVENT
BEGIN:VEVENT
DTSTART;TZID=America/Chicago:20260328T183000
DTEND;TZID=America/Chicago:20260328T210000
DTSTAMP:20260419T141409
CREATED:20260324T153029Z
LAST-MODIFIED:20260324T153029Z
UID:10682-1774722600-1774731600@www.acadianamusichub.com
SUMMARY:Jon Melancon
DESCRIPTION:
URL:https://www.acadianamusichub.com/event/jon-melancon-3/
LOCATION:Shucks\, Louisiana
CATEGORIES:Jon Melancon
END:VEVENT
BEGIN:VEVENT
DTSTART;TZID=America/Chicago:20260328T110000
DTEND;TZID=America/Chicago:20260328T140000
DTSTAMP:20260419T141409
CREATED:20260324T153027Z
LAST-MODIFIED:20260324T153027Z
UID:10681-1774695600-1774706400@www.acadianamusichub.com
SUMMARY:Jon Melancon
DESCRIPTION:
URL:https://www.acadianamusichub.com/event/jon-melancon-2/
LOCATION:Pecan Island\, Louisiana
CATEGORIES:Jon Melancon
END:VEVENT
BEGIN:VEVENT
DTSTART;TZID=America/Chicago:20260327T190000
DTEND;TZID=America/Chicago:20260327T220000
DTSTAMP:20260419T141409
CREATED:20260318T093052Z
LAST-MODIFIED:20260318T093052Z
UID:10587-1774638000-1774648800@www.acadianamusichub.com
SUMMARY:Jon Melancon
DESCRIPTION:
URL:https://www.acadianamusichub.com/event/jon-melancon/
LOCATION:Turtle’s Bar & Grill\, Louisiana
CATEGORIES:Jon Melancon
END:VEVENT
END:VCALENDAR