BEGIN:VCALENDAR
VERSION:2.0
PRODID:-//Acadiana Music Hub - ECPv6.15.20//NONSGML v1.0//EN
CALSCALE:GREGORIAN
METHOD:PUBLISH
X-ORIGINAL-URL:https://www.acadianamusichub.com
X-WR-CALDESC:Events for Acadiana Music Hub
REFRESH-INTERVAL;VALUE=DURATION:PT1H
X-Robots-Tag:noindex
X-PUBLISHED-TTL:PT1H
BEGIN:VTIMEZONE
TZID:America/Chicago
BEGIN:DAYLIGHT
TZOFFSETFROM:-0600
TZOFFSETTO:-0500
TZNAME:CDT
DTSTART:20250309T080000
END:DAYLIGHT
BEGIN:STANDARD
TZOFFSETFROM:-0500
TZOFFSETTO:-0600
TZNAME:CST
DTSTART:20251102T070000
END:STANDARD
BEGIN:DAYLIGHT
TZOFFSETFROM:-0600
TZOFFSETTO:-0500
TZNAME:CDT
DTSTART:20260308T080000
END:DAYLIGHT
BEGIN:STANDARD
TZOFFSETFROM:-0500
TZOFFSETTO:-0600
TZNAME:CST
DTSTART:20261101T070000
END:STANDARD
BEGIN:DAYLIGHT
TZOFFSETFROM:-0600
TZOFFSETTO:-0500
TZNAME:CDT
DTSTART:20270314T080000
END:DAYLIGHT
BEGIN:STANDARD
TZOFFSETFROM:-0500
TZOFFSETTO:-0600
TZNAME:CST
DTSTART:20271107T070000
END:STANDARD
END:VTIMEZONE
BEGIN:VEVENT
DTSTART;TZID=America/Chicago:20260328T180000
DTEND;TZID=America/Chicago:20260328T210000
DTSTAMP:20260419T130642
CREATED:20260319T011057Z
LAST-MODIFIED:20260319T011057Z
UID:10612-1774720800-1774731600@www.acadianamusichub.com
SUMMARY:Jon Meloncon
DESCRIPTION:
URL:https://www.acadianamusichub.com/event/jon-meloncon-11/
LOCATION:Wild Game Cookoff – Pecan Island\, Louisiana
CATEGORIES:Jon Meloncon
END:VEVENT
BEGIN:VEVENT
DTSTART;TZID=America/Chicago:20260328T180000
DTEND;TZID=America/Chicago:20260328T210000
DTSTAMP:20260419T130642
CREATED:20260318T093050Z
LAST-MODIFIED:20260318T093050Z
UID:10585-1774720800-1774731600@www.acadianamusichub.com
SUMMARY:Jon Meloncon
DESCRIPTION:
URL:https://www.acadianamusichub.com/event/jon-meloncon-10/
LOCATION:Shucks\, Louisiana
CATEGORIES:Jon Meloncon
END:VEVENT
BEGIN:VEVENT
DTSTART;TZID=America/Chicago:20260327T180000
DTEND;TZID=America/Chicago:20260327T210000
DTSTAMP:20260419T130642
CREATED:20260316T170009Z
LAST-MODIFIED:20260316T170009Z
UID:10583-1774634400-1774645200@www.acadianamusichub.com
SUMMARY:Jon Meloncon
DESCRIPTION:
URL:https://www.acadianamusichub.com/event/jon-meloncon-9/
LOCATION:Turtle’s Bar & Grill\, Louisiana
CATEGORIES:Jon Meloncon
END:VEVENT
BEGIN:VEVENT
DTSTART;TZID=America/Chicago:20260326T180000
DTEND;TZID=America/Chicago:20260326T210000
DTSTAMP:20260419T130642
CREATED:20260316T040008Z
LAST-MODIFIED:20260316T040008Z
UID:10570-1774548000-1774558800@www.acadianamusichub.com
SUMMARY:Jon Meloncon
DESCRIPTION:
URL:https://www.acadianamusichub.com/event/jon-meloncon-8/
LOCATION:Agave Mexican Grill and Cantina (Youngsville)\, Louisiana
CATEGORIES:Jon Meloncon
END:VEVENT
BEGIN:VEVENT
DTSTART;TZID=America/Chicago:20260321T180000
DTEND;TZID=America/Chicago:20260321T210000
DTSTAMP:20260419T130642
CREATED:20260314T190118Z
LAST-MODIFIED:20260314T190118Z
UID:10567-1774116000-1774126800@www.acadianamusichub.com
SUMMARY:Jon Meloncon
DESCRIPTION:
URL:https://www.acadianamusichub.com/event/jon-meloncon-7/
LOCATION:The Barrel of Broussard\, 811 Albertson Parkway Ste P\, Louisiana
CATEGORIES:Jon Meloncon
END:VEVENT
BEGIN:VEVENT
DTSTART;TZID=America/Chicago:20260320T180000
DTEND;TZID=America/Chicago:20260320T210000
DTSTAMP:20260419T130642
CREATED:20260314T190040Z
LAST-MODIFIED:20260314T190040Z
UID:10546-1774029600-1774040400@www.acadianamusichub.com
SUMMARY:Jon Meloncon
DESCRIPTION:
URL:https://www.acadianamusichub.com/event/jon-meloncon-6/
LOCATION:Kelvin’s\, Louisiana
CATEGORIES:Jon Meloncon
END:VEVENT
BEGIN:VEVENT
DTSTART;TZID=America/Chicago:20260319T180000
DTEND;TZID=America/Chicago:20260319T210000
DTSTAMP:20260419T130642
CREATED:20260313T104004Z
LAST-MODIFIED:20260313T104004Z
UID:10533-1773943200-1773954000@www.acadianamusichub.com
SUMMARY:Jon Meloncon
DESCRIPTION:
URL:https://www.acadianamusichub.com/event/jon-meloncon-5/
LOCATION:Dup’s Pizza\, Church Point\, Louisiana
CATEGORIES:Jon Meloncon
END:VEVENT
BEGIN:VEVENT
DTSTART;TZID=America/Chicago:20260314T180000
DTEND;TZID=America/Chicago:20260314T210000
DTSTAMP:20260419T130642
CREATED:20260310T135539Z
LAST-MODIFIED:20260310T135539Z
UID:10482-1773511200-1773522000@www.acadianamusichub.com
SUMMARY:Jon Meloncon
DESCRIPTION:
URL:https://www.acadianamusichub.com/event/jon-meloncon-4/
LOCATION:Naq’s N Duson\, Louisiana
CATEGORIES:Jon Meloncon
END:VEVENT
BEGIN:VEVENT
DTSTART;TZID=America/Chicago:20260313T180000
DTEND;TZID=America/Chicago:20260313T210000
DTSTAMP:20260419T130642
CREATED:20260310T134609Z
LAST-MODIFIED:20260310T134609Z
UID:10475-1773424800-1773435600@www.acadianamusichub.com
SUMMARY:Jon Meloncon
DESCRIPTION:
URL:https://www.acadianamusichub.com/event/jon-meloncon-3/
LOCATION:Agave Mexican Grill and Cantina (Youngsville)\, Louisiana
CATEGORIES:Jon Meloncon
END:VEVENT
BEGIN:VEVENT
DTSTART;TZID=America/Chicago:20260312T180000
DTEND;TZID=America/Chicago:20260312T210000
DTSTAMP:20260419T130642
CREATED:20260310T134413Z
LAST-MODIFIED:20260310T134413Z
UID:10463-1773338400-1773349200@www.acadianamusichub.com
SUMMARY:Jon Meloncon
DESCRIPTION:
URL:https://www.acadianamusichub.com/event/jon-meloncon-2/
LOCATION:Shucks\, Louisiana
CATEGORIES:Jon Meloncon
END:VEVENT
BEGIN:VEVENT
DTSTART;TZID=America/Chicago:20260310T180000
DTEND;TZID=America/Chicago:20260310T210000
DTSTAMP:20260419T130642
CREATED:20260310T134338Z
LAST-MODIFIED:20260310T134338Z
UID:10458-1773165600-1773176400@www.acadianamusichub.com
SUMMARY:Jon Meloncon
DESCRIPTION:
URL:https://www.acadianamusichub.com/event/jon-meloncon/
LOCATION:Naq’s N Duson\, Louisiana
CATEGORIES:Jon Meloncon
END:VEVENT
END:VCALENDAR