BEGIN:VCALENDAR
VERSION:2.0
PRODID:-//Acadiana Music Hub - ECPv6.15.20//NONSGML v1.0//EN
CALSCALE:GREGORIAN
METHOD:PUBLISH
X-ORIGINAL-URL:https://www.acadianamusichub.com
X-WR-CALDESC:Events for Acadiana Music Hub
REFRESH-INTERVAL;VALUE=DURATION:PT1H
X-Robots-Tag:noindex
X-PUBLISHED-TTL:PT1H
BEGIN:VTIMEZONE
TZID:America/Chicago
BEGIN:DAYLIGHT
TZOFFSETFROM:-0600
TZOFFSETTO:-0500
TZNAME:CDT
DTSTART:20250309T080000
END:DAYLIGHT
BEGIN:STANDARD
TZOFFSETFROM:-0500
TZOFFSETTO:-0600
TZNAME:CST
DTSTART:20251102T070000
END:STANDARD
BEGIN:DAYLIGHT
TZOFFSETFROM:-0600
TZOFFSETTO:-0500
TZNAME:CDT
DTSTART:20260308T080000
END:DAYLIGHT
BEGIN:STANDARD
TZOFFSETFROM:-0500
TZOFFSETTO:-0600
TZNAME:CST
DTSTART:20261101T070000
END:STANDARD
BEGIN:DAYLIGHT
TZOFFSETFROM:-0600
TZOFFSETTO:-0500
TZNAME:CDT
DTSTART:20270314T080000
END:DAYLIGHT
BEGIN:STANDARD
TZOFFSETFROM:-0500
TZOFFSETTO:-0600
TZNAME:CST
DTSTART:20271107T070000
END:STANDARD
END:VTIMEZONE
BEGIN:VEVENT
DTSTART;TZID=America/Chicago:20260313T090000
DTEND;TZID=America/Chicago:20260313T090000
DTSTAMP:20260419T141655
CREATED:20260311T191024Z
LAST-MODIFIED:20260311T191024Z
UID:10514-1773392400-1773392400@www.acadianamusichub.com
SUMMARY:Jake Knott
DESCRIPTION:
URL:https://www.acadianamusichub.com/event/jake-knott-2/
LOCATION:KBON\, Louisiana
CATEGORIES:Jake Knott
END:VEVENT
BEGIN:VEVENT
DTSTART;TZID=America/Chicago:20260313T193000
DTEND;TZID=America/Chicago:20260313T223000
DTSTAMP:20260419T141655
CREATED:20260310T193022Z
LAST-MODIFIED:20260310T193022Z
UID:10503-1773430200-1773441000@www.acadianamusichub.com
SUMMARY:Jake Knott
DESCRIPTION:
URL:https://www.acadianamusichub.com/event/jake-knott/
LOCATION:O’Darby’s Pub & Grill\, Louisiana
CATEGORIES:Jake Knott
END:VEVENT
END:VCALENDAR