BEGIN:VCALENDAR
VERSION:2.0
PRODID:-//Acadiana Music Hub - ECPv6.15.20//NONSGML v1.0//EN
CALSCALE:GREGORIAN
METHOD:PUBLISH
X-ORIGINAL-URL:https://www.acadianamusichub.com
X-WR-CALDESC:Events for Acadiana Music Hub
REFRESH-INTERVAL;VALUE=DURATION:PT1H
X-Robots-Tag:noindex
X-PUBLISHED-TTL:PT1H
BEGIN:VTIMEZONE
TZID:America/Chicago
BEGIN:DAYLIGHT
TZOFFSETFROM:-0600
TZOFFSETTO:-0500
TZNAME:CDT
DTSTART:20250309T080000
END:DAYLIGHT
BEGIN:STANDARD
TZOFFSETFROM:-0500
TZOFFSETTO:-0600
TZNAME:CST
DTSTART:20251102T070000
END:STANDARD
BEGIN:DAYLIGHT
TZOFFSETFROM:-0600
TZOFFSETTO:-0500
TZNAME:CDT
DTSTART:20260308T080000
END:DAYLIGHT
BEGIN:STANDARD
TZOFFSETFROM:-0500
TZOFFSETTO:-0600
TZNAME:CST
DTSTART:20261101T070000
END:STANDARD
BEGIN:DAYLIGHT
TZOFFSETFROM:-0600
TZOFFSETTO:-0500
TZNAME:CDT
DTSTART:20270314T080000
END:DAYLIGHT
BEGIN:STANDARD
TZOFFSETFROM:-0500
TZOFFSETTO:-0600
TZNAME:CST
DTSTART:20271107T070000
END:STANDARD
END:VTIMEZONE
BEGIN:VEVENT
DTSTART;TZID=America/Chicago:20260312T180000
DTEND;TZID=America/Chicago:20260312T210000
DTSTAMP:20260419T125146
CREATED:20260310T193021Z
LAST-MODIFIED:20260310T193021Z
UID:10502-1773338400-1773349200@www.acadianamusichub.com
SUMMARY:Jake Knott And The Unwound
DESCRIPTION:
URL:https://www.acadianamusichub.com/event/jake-knott-and-the-unwound-2/
LOCATION:Silver Slipper\, 2818 Highway 31\, Louisiana
CATEGORIES:Jake Knott And The Unwound
END:VEVENT
BEGIN:VEVENT
DTSTART;TZID=America/Chicago:20260314T220000
DTEND;TZID=America/Chicago:20260315T010000
DTSTAMP:20260419T125146
CREATED:20260310T135550Z
LAST-MODIFIED:20260310T135550Z
UID:10491-1773525600-1773536400@www.acadianamusichub.com
SUMMARY:Jake Knott And The Unwound
DESCRIPTION:
URL:https://www.acadianamusichub.com/event/jake-knott-and-the-unwound/
LOCATION:Cowboy’s Nightclub\, Louisiana
CATEGORIES:Jake Knott And The Unwound
END:VEVENT
BEGIN:VEVENT
DTSTART;TZID=America/Chicago:20260318T190000
DTEND;TZID=America/Chicago:20260318T190000
DTSTAMP:20260419T125146
CREATED:20260313T103938Z
LAST-MODIFIED:20260313T103938Z
UID:10522-1773860400-1773860400@www.acadianamusichub.com
SUMMARY:Jake Knott And The Unwound
DESCRIPTION:
URL:https://www.acadianamusichub.com/event/jake-knott-and-the-unwound-3/
LOCATION:Black Gold Casino\, Louisiana
CATEGORIES:Jake Knott And The Unwound
END:VEVENT
BEGIN:VEVENT
DTSTART;TZID=America/Chicago:20260319T180000
DTEND;TZID=America/Chicago:20260319T210000
DTSTAMP:20260419T125146
CREATED:20260313T103941Z
LAST-MODIFIED:20260313T103941Z
UID:10524-1773943200-1773954000@www.acadianamusichub.com
SUMMARY:Jake Knott And The Unwound
DESCRIPTION:
URL:https://www.acadianamusichub.com/event/jake-knott-and-the-unwound-4/
LOCATION:Silver Slipper\, 2818 Highway 31\, Louisiana
CATEGORIES:Jake Knott And The Unwound
END:VEVENT
BEGIN:VEVENT
DTSTART;TZID=America/Chicago:20260322T180000
DTEND;TZID=America/Chicago:20260322T210000
DTSTAMP:20260419T125146
CREATED:20260316T040015Z
LAST-MODIFIED:20260316T040015Z
UID:10577-1774202400-1774213200@www.acadianamusichub.com
SUMMARY:Jake Knott And The Unwound
DESCRIPTION:
URL:https://www.acadianamusichub.com/event/jake-knott-and-the-unwound-5/
LOCATION:Whiskey Tales\, 2825 Grand Point Hwy\, Louisiana
CATEGORIES:Jake Knott And The Unwound
END:VEVENT
BEGIN:VEVENT
DTSTART;TZID=America/Chicago:20260327T190000
DTEND;TZID=America/Chicago:20260327T220000
DTSTAMP:20260419T125146
CREATED:20260318T093053Z
LAST-MODIFIED:20260318T093053Z
UID:10588-1774638000-1774648800@www.acadianamusichub.com
SUMMARY:Jake Knott And The Unwound
DESCRIPTION:
URL:https://www.acadianamusichub.com/event/jake-knott-and-the-unwound-6/
LOCATION:Silver Slipper\, 2818 Highway 31\, Louisiana
CATEGORIES:Jake Knott And The Unwound
END:VEVENT
END:VCALENDAR