BEGIN:VCALENDAR
VERSION:2.0
PRODID:-//Acadiana Music Hub - ECPv6.15.20//NONSGML v1.0//EN
CALSCALE:GREGORIAN
METHOD:PUBLISH
X-WR-CALNAME:Acadiana Music Hub
X-ORIGINAL-URL:https://www.acadianamusichub.com
X-WR-CALDESC:Events for Acadiana Music Hub
REFRESH-INTERVAL;VALUE=DURATION:PT1H
X-Robots-Tag:noindex
X-PUBLISHED-TTL:PT1H
BEGIN:VTIMEZONE
TZID:America/Chicago
BEGIN:DAYLIGHT
TZOFFSETFROM:-0600
TZOFFSETTO:-0500
TZNAME:CDT
DTSTART:20250309T080000
END:DAYLIGHT
BEGIN:STANDARD
TZOFFSETFROM:-0500
TZOFFSETTO:-0600
TZNAME:CST
DTSTART:20251102T070000
END:STANDARD
BEGIN:DAYLIGHT
TZOFFSETFROM:-0600
TZOFFSETTO:-0500
TZNAME:CDT
DTSTART:20260308T080000
END:DAYLIGHT
BEGIN:STANDARD
TZOFFSETFROM:-0500
TZOFFSETTO:-0600
TZNAME:CST
DTSTART:20261101T070000
END:STANDARD
BEGIN:DAYLIGHT
TZOFFSETFROM:-0600
TZOFFSETTO:-0500
TZNAME:CDT
DTSTART:20270314T080000
END:DAYLIGHT
BEGIN:STANDARD
TZOFFSETFROM:-0500
TZOFFSETTO:-0600
TZNAME:CST
DTSTART:20271107T070000
END:STANDARD
END:VTIMEZONE
BEGIN:VEVENT
DTSTART;TZID=America/Chicago:20260410T190000
DTEND;TZID=America/Chicago:20260410T190000
DTSTAMP:20260419T141832
CREATED:20260331T040103Z
LAST-MODIFIED:20260331T040103Z
UID:10753-1775847600-1775847600@www.acadianamusichub.com
SUMMARY:Isaac Lejeune
DESCRIPTION:
URL:https://www.acadianamusichub.com/event/isaac-lejeune-7/
LOCATION:Silver Slipper Cajun Hibachi Grill\, Louisiana
CATEGORIES:Isaac Lejeune
END:VEVENT
BEGIN:VEVENT
DTSTART;TZID=America/Chicago:20260327T180000
DTEND;TZID=America/Chicago:20260327T180000
DTSTAMP:20260419T141832
CREATED:20260323T184943Z
LAST-MODIFIED:20260323T184943Z
UID:10673-1774634400-1774634400@www.acadianamusichub.com
SUMMARY:Isaac Lejeune
DESCRIPTION:
URL:https://www.acadianamusichub.com/event/isaac-lejeune-6/
LOCATION:Prejean’s\, Louisiana
CATEGORIES:Isaac Lejeune
END:VEVENT
BEGIN:VEVENT
DTSTART;TZID=America/Chicago:20260325T173000
DTEND;TZID=America/Chicago:20260325T173000
DTSTAMP:20260419T141832
CREATED:20260316T040010Z
LAST-MODIFIED:20260316T040010Z
UID:10573-1774459800-1774459800@www.acadianamusichub.com
SUMMARY:Isaac Lejeune
DESCRIPTION:
URL:https://www.acadianamusichub.com/event/isaac-lejeune-5/
LOCATION:JDP District Attorney Campaign Kickoff\, Jennings\, Louisiana
CATEGORIES:Isaac Lejeune
END:VEVENT
BEGIN:VEVENT
DTSTART;TZID=America/Chicago:20260321T180000
DTEND;TZID=America/Chicago:20260321T180000
DTSTAMP:20260419T141832
CREATED:20260314T190109Z
LAST-MODIFIED:20260314T190109Z
UID:10559-1774116000-1774116000@www.acadianamusichub.com
SUMMARY:Isaac Lejeune
DESCRIPTION:
URL:https://www.acadianamusichub.com/event/isaac-lejeune-4/
LOCATION:Breaux’s Cajun Kitchen\, Jennings\, Louisiana
CATEGORIES:Isaac Lejeune
END:VEVENT
BEGIN:VEVENT
DTSTART;TZID=America/Chicago:20260314T190000
DTEND;TZID=America/Chicago:20260314T190000
DTSTAMP:20260419T141832
CREATED:20260310T135553Z
LAST-MODIFIED:20260310T135553Z
UID:10494-1773514800-1773514800@www.acadianamusichub.com
SUMMARY:Isaac Lejeune
DESCRIPTION:
URL:https://www.acadianamusichub.com/event/isaac-lejeune-3/
LOCATION:El Corazón Mexican\, St Martinville\, Louisiana
CATEGORIES:Isaac Lejeune
END:VEVENT
BEGIN:VEVENT
DTSTART;TZID=America/Chicago:20260312T180000
DTEND;TZID=America/Chicago:20260312T180000
DTSTAMP:20260419T141832
CREATED:20260310T134414Z
LAST-MODIFIED:20260310T134414Z
UID:10464-1773338400-1773338400@www.acadianamusichub.com
SUMMARY:Isaac Lejeune
DESCRIPTION:
URL:https://www.acadianamusichub.com/event/isaac-lejeune-2/
LOCATION:Dup’s Pizza & More\, Church Point\, Louisiana
CATEGORIES:Isaac Lejeune
END:VEVENT
BEGIN:VEVENT
DTSTART;TZID=America/Chicago:20260311T170000
DTEND;TZID=America/Chicago:20260311T170000
DTSTAMP:20260419T141832
CREATED:20260310T134408Z
LAST-MODIFIED:20260310T134408Z
UID:10460-1773248400-1773248400@www.acadianamusichub.com
SUMMARY:Isaac Lejeune
DESCRIPTION:
URL:https://www.acadianamusichub.com/event/isaac-lejeune/
LOCATION:Breaux’s Cajun Kitchen\, Jennings\, Louisiana
CATEGORIES:Isaac Lejeune
END:VEVENT
END:VCALENDAR