BEGIN:VCALENDAR
VERSION:2.0
PRODID:-//Acadiana Music Hub - ECPv6.15.20//NONSGML v1.0//EN
CALSCALE:GREGORIAN
METHOD:PUBLISH
X-ORIGINAL-URL:https://www.acadianamusichub.com
X-WR-CALDESC:Events for Acadiana Music Hub
REFRESH-INTERVAL;VALUE=DURATION:PT1H
X-Robots-Tag:noindex
X-PUBLISHED-TTL:PT1H
BEGIN:VTIMEZONE
TZID:America/Chicago
BEGIN:DAYLIGHT
TZOFFSETFROM:-0600
TZOFFSETTO:-0500
TZNAME:CDT
DTSTART:20250309T080000
END:DAYLIGHT
BEGIN:STANDARD
TZOFFSETFROM:-0500
TZOFFSETTO:-0600
TZNAME:CST
DTSTART:20251102T070000
END:STANDARD
BEGIN:DAYLIGHT
TZOFFSETFROM:-0600
TZOFFSETTO:-0500
TZNAME:CDT
DTSTART:20260308T080000
END:DAYLIGHT
BEGIN:STANDARD
TZOFFSETFROM:-0500
TZOFFSETTO:-0600
TZNAME:CST
DTSTART:20261101T070000
END:STANDARD
BEGIN:DAYLIGHT
TZOFFSETFROM:-0600
TZOFFSETTO:-0500
TZNAME:CDT
DTSTART:20270314T080000
END:DAYLIGHT
BEGIN:STANDARD
TZOFFSETFROM:-0500
TZOFFSETTO:-0600
TZNAME:CST
DTSTART:20271107T070000
END:STANDARD
END:VTIMEZONE
BEGIN:VEVENT
DTSTART;TZID=America/Chicago:20260418T210000
DTEND;TZID=America/Chicago:20260419T000000
DTSTAMP:20260419T125634
CREATED:20260414T131009Z
LAST-MODIFIED:20260414T131009Z
UID:11023-1776546000-1776556800@www.acadianamusichub.com
SUMMARY:David Henry
DESCRIPTION:
URL:https://www.acadianamusichub.com/event/david-henry-9/
LOCATION:Curve Lounge\, Louisiana
CATEGORIES:David Henry
END:VEVENT
BEGIN:VEVENT
DTSTART;TZID=America/Chicago:20260418T150000
DTEND;TZID=America/Chicago:20260418T160000
DTSTAMP:20260419T125634
CREATED:20260414T004727Z
LAST-MODIFIED:20260414T004727Z
UID:11016-1776524400-1776528000@www.acadianamusichub.com
SUMMARY:David Henry
DESCRIPTION:
URL:https://www.acadianamusichub.com/event/david-henry-6/
LOCATION:Landon Pitre Memorial Park\, Louisiana
CATEGORIES:David Henry
END:VEVENT
BEGIN:VEVENT
DTSTART;TZID=America/Chicago:20260417T180000
DTEND;TZID=America/Chicago:20260417T203000
DTSTAMP:20260419T125634
CREATED:20260414T004729Z
LAST-MODIFIED:20260414T004729Z
UID:11018-1776448800-1776457800@www.acadianamusichub.com
SUMMARY:David Henry
DESCRIPTION:
URL:https://www.acadianamusichub.com/event/david-henry-8/
LOCATION:Cafe Sydnie Mae\, Louisiana
CATEGORIES:David Henry
END:VEVENT
BEGIN:VEVENT
DTSTART;TZID=America/Chicago:20260416T200000
DTEND;TZID=America/Chicago:20260416T200000
DTSTAMP:20260419T125634
CREATED:20260414T225011Z
LAST-MODIFIED:20260414T225011Z
UID:11031-1776369600-1776369600@www.acadianamusichub.com
SUMMARY:David Henry
DESCRIPTION:
URL:https://www.acadianamusichub.com/event/david-henry-10/
LOCATION:Whiskey Tales\, 2825 Grand Point Hwy\, Louisiana
CATEGORIES:David Henry
END:VEVENT
BEGIN:VEVENT
DTSTART;TZID=America/Chicago:20260416T190000
DTEND;TZID=America/Chicago:20260416T220000
DTSTAMP:20260419T125634
CREATED:20260414T004728Z
LAST-MODIFIED:20260414T004728Z
UID:11017-1776366000-1776376800@www.acadianamusichub.com
SUMMARY:David Henry
DESCRIPTION:
URL:https://www.acadianamusichub.com/event/david-henry-7/
LOCATION:Whiskey Tales\, 2825 Grand Point Hwy\, Louisiana
CATEGORIES:David Henry
END:VEVENT
BEGIN:VEVENT
DTSTART;TZID=America/Chicago:20260411T200000
DTEND;TZID=America/Chicago:20260411T230000
DTSTAMP:20260419T125634
CREATED:20260407T113106Z
LAST-MODIFIED:20260407T113106Z
UID:10876-1775937600-1775948400@www.acadianamusichub.com
SUMMARY:David Henry
DESCRIPTION:
URL:https://www.acadianamusichub.com/event/david-henry-2/
LOCATION:Ed’S Place Iota\, Louisiana
CATEGORIES:David Henry
END:VEVENT
BEGIN:VEVENT
DTSTART;TZID=America/Chicago:20260410T210000
DTEND;TZID=America/Chicago:20260410T230000
DTSTAMP:20260419T125634
CREATED:20260407T113122Z
LAST-MODIFIED:20260407T113122Z
UID:10890-1775854800-1775862000@www.acadianamusichub.com
SUMMARY:David Henry
DESCRIPTION:
URL:https://www.acadianamusichub.com/event/david-henry-4/
LOCATION:The Endzone Hangout\, Louisiana
CATEGORIES:David Henry
END:VEVENT
BEGIN:VEVENT
DTSTART;TZID=America/Chicago:20260409T183000
DTEND;TZID=America/Chicago:20260409T213000
DTSTAMP:20260419T125634
CREATED:20260407T113121Z
LAST-MODIFIED:20260407T113121Z
UID:10888-1775759400-1775770200@www.acadianamusichub.com
SUMMARY:David Henry
DESCRIPTION:
URL:https://www.acadianamusichub.com/event/david-henry-3/
LOCATION:Cajuns Church Point\, Louisiana
CATEGORIES:David Henry
END:VEVENT
BEGIN:VEVENT
DTSTART;TZID=America/Chicago:20260408T180000
DTEND;TZID=America/Chicago:20260408T210000
DTSTAMP:20260419T125634
CREATED:20260407T113123Z
LAST-MODIFIED:20260407T113123Z
UID:10891-1775671200-1775682000@www.acadianamusichub.com
SUMMARY:David Henry
DESCRIPTION:
URL:https://www.acadianamusichub.com/event/david-henry-5/
LOCATION:Pedros Opelousas\, Louisiana
CATEGORIES:David Henry
END:VEVENT
BEGIN:VEVENT
DTSTART;TZID=America/Chicago:20260404T200000
DTEND;TZID=America/Chicago:20260404T200000
DTSTAMP:20260419T125634
CREATED:20260331T174039Z
LAST-MODIFIED:20260331T174039Z
UID:10800-1775332800-1775332800@www.acadianamusichub.com
SUMMARY:David Henry
DESCRIPTION:
URL:https://www.acadianamusichub.com/event/david-henry/
LOCATION:The Hangover—Crowley\, Louisiana
CATEGORIES:David Henry
END:VEVENT
END:VCALENDAR