BEGIN:VCALENDAR
VERSION:2.0
PRODID:-//Acadiana Music Hub - ECPv6.15.20//NONSGML v1.0//EN
CALSCALE:GREGORIAN
METHOD:PUBLISH
X-WR-CALNAME:Acadiana Music Hub
X-ORIGINAL-URL:https://www.acadianamusichub.com
X-WR-CALDESC:Events for Acadiana Music Hub
REFRESH-INTERVAL;VALUE=DURATION:PT1H
X-Robots-Tag:noindex
X-PUBLISHED-TTL:PT1H
BEGIN:VTIMEZONE
TZID:America/Chicago
BEGIN:DAYLIGHT
TZOFFSETFROM:-0600
TZOFFSETTO:-0500
TZNAME:CDT
DTSTART:20250309T080000
END:DAYLIGHT
BEGIN:STANDARD
TZOFFSETFROM:-0500
TZOFFSETTO:-0600
TZNAME:CST
DTSTART:20251102T070000
END:STANDARD
BEGIN:DAYLIGHT
TZOFFSETFROM:-0600
TZOFFSETTO:-0500
TZNAME:CDT
DTSTART:20260308T080000
END:DAYLIGHT
BEGIN:STANDARD
TZOFFSETFROM:-0500
TZOFFSETTO:-0600
TZNAME:CST
DTSTART:20261101T070000
END:STANDARD
BEGIN:DAYLIGHT
TZOFFSETFROM:-0600
TZOFFSETTO:-0500
TZNAME:CDT
DTSTART:20270314T080000
END:DAYLIGHT
BEGIN:STANDARD
TZOFFSETFROM:-0500
TZOFFSETTO:-0600
TZNAME:CST
DTSTART:20271107T070000
END:STANDARD
END:VTIMEZONE
BEGIN:VEVENT
DTSTART;TZID=America/Chicago:20260320T180000
DTEND;TZID=America/Chicago:20260320T210000
DTSTAMP:20260419T170236
CREATED:20260313T104005Z
LAST-MODIFIED:20260313T104005Z
UID:10534-1774029600-1774040400@www.acadianamusichub.com
SUMMARY:Buddy Andrews
DESCRIPTION:
URL:https://www.acadianamusichub.com/event/buddy-andrews-2/
LOCATION:T-Doug’s Cajun Cuisine & Catering LLC\, Louisiana
CATEGORIES:Buddy Andrews
END:VEVENT
BEGIN:VEVENT
DTSTART;TZID=America/Chicago:20260321T110000
DTEND;TZID=America/Chicago:20260321T140000
DTSTAMP:20260419T170236
CREATED:20260313T103948Z
LAST-MODIFIED:20260313T103948Z
UID:10528-1774090800-1774101600@www.acadianamusichub.com
SUMMARY:Buddy Andrews
DESCRIPTION:
URL:https://www.acadianamusichub.com/event/buddy-andrews/
LOCATION:Cafe Sydnie Mae\, Louisiana
CATEGORIES:Buddy Andrews
END:VEVENT
BEGIN:VEVENT
DTSTART;TZID=America/Chicago:20260328T203000
DTEND;TZID=America/Chicago:20260328T233000
DTSTAMP:20260419T170236
CREATED:20260313T104009Z
LAST-MODIFIED:20260313T104009Z
UID:10537-1774729800-1774740600@www.acadianamusichub.com
SUMMARY:Buddy Andrews
DESCRIPTION:
URL:https://www.acadianamusichub.com/event/buddy-andrews-3/
LOCATION:Soul’s Teche Bar\, 5316 Main Hwy\, Louisiana
CATEGORIES:Buddy Andrews
END:VEVENT
END:VCALENDAR