BEGIN:VCALENDAR
VERSION:2.0
PRODID:-//Acadiana Music Hub - ECPv6.15.20//NONSGML v1.0//EN
CALSCALE:GREGORIAN
METHOD:PUBLISH
X-WR-CALNAME:Acadiana Music Hub
X-ORIGINAL-URL:https://www.acadianamusichub.com
X-WR-CALDESC:Events for Acadiana Music Hub
REFRESH-INTERVAL;VALUE=DURATION:PT1H
X-Robots-Tag:noindex
X-PUBLISHED-TTL:PT1H
BEGIN:VTIMEZONE
TZID:America/Chicago
BEGIN:DAYLIGHT
TZOFFSETFROM:-0600
TZOFFSETTO:-0500
TZNAME:CDT
DTSTART:20250309T080000
END:DAYLIGHT
BEGIN:STANDARD
TZOFFSETFROM:-0500
TZOFFSETTO:-0600
TZNAME:CST
DTSTART:20251102T070000
END:STANDARD
BEGIN:DAYLIGHT
TZOFFSETFROM:-0600
TZOFFSETTO:-0500
TZNAME:CDT
DTSTART:20260308T080000
END:DAYLIGHT
BEGIN:STANDARD
TZOFFSETFROM:-0500
TZOFFSETTO:-0600
TZNAME:CST
DTSTART:20261101T070000
END:STANDARD
BEGIN:DAYLIGHT
TZOFFSETFROM:-0600
TZOFFSETTO:-0500
TZNAME:CDT
DTSTART:20270314T080000
END:DAYLIGHT
BEGIN:STANDARD
TZOFFSETFROM:-0500
TZOFFSETTO:-0600
TZNAME:CST
DTSTART:20271107T070000
END:STANDARD
END:VTIMEZONE
BEGIN:VEVENT
DTSTART;TZID=America/Chicago:20260310T180000
DTEND;TZID=America/Chicago:20260310T210000
DTSTAMP:20260419T194457
CREATED:20260311T190125Z
LAST-MODIFIED:20260311T190125Z
UID:10507-1773165600-1773176400@www.acadianamusichub.com
SUMMARY:Kip Sonnier
DESCRIPTION:
URL:https://www.acadianamusichub.com/event/kip-sonnier-2/
LOCATION:El Paso New Iberia\, 1201 E Admiral Doyle Dr\, Louisiana
CATEGORIES:Kip Sonnier
END:VEVENT
BEGIN:VEVENT
DTSTART;TZID=America/Chicago:20260311T180000
DTEND;TZID=America/Chicago:20260311T210000
DTSTAMP:20260419T194457
CREATED:20260311T190121Z
LAST-MODIFIED:20260311T190121Z
UID:10504-1773252000-1773262800@www.acadianamusichub.com
SUMMARY:Kip Sonnier
DESCRIPTION:
URL:https://www.acadianamusichub.com/event/kip-sonnier/
LOCATION:El Paso Mexican Grill—Lafayette\, Louisiana
CATEGORIES:Kip Sonnier
END:VEVENT
BEGIN:VEVENT
DTSTART;TZID=America/Chicago:20260312T180000
DTEND;TZID=America/Chicago:20260312T210000
DTSTAMP:20260419T194457
CREATED:20260311T190127Z
LAST-MODIFIED:20260311T190127Z
UID:10509-1773338400-1773349200@www.acadianamusichub.com
SUMMARY:Kip Sonnier
DESCRIPTION:
URL:https://www.acadianamusichub.com/event/kip-sonnier-3/
LOCATION:El Mariachi Mexican—New Iberia\, Louisiana
CATEGORIES:Kip Sonnier
END:VEVENT
BEGIN:VEVENT
DTSTART;TZID=America/Chicago:20260313T183000
DTEND;TZID=America/Chicago:20260313T210000
DTSTAMP:20260419T194457
CREATED:20260311T191021Z
LAST-MODIFIED:20260311T191021Z
UID:10511-1773426600-1773435600@www.acadianamusichub.com
SUMMARY:Kip Sonnier
DESCRIPTION:
URL:https://www.acadianamusichub.com/event/kip-sonnier-4/
LOCATION:Shucks Seafood House\, Louisiana
CATEGORIES:Kip Sonnier
END:VEVENT
BEGIN:VEVENT
DTSTART;TZID=America/Chicago:20260314T130000
DTEND;TZID=America/Chicago:20260314T150000
DTSTAMP:20260419T194458
CREATED:20260311T191025Z
LAST-MODIFIED:20260311T191025Z
UID:10515-1773493200-1773500400@www.acadianamusichub.com
SUMMARY:Kip Sonnier
DESCRIPTION:
URL:https://www.acadianamusichub.com/event/kip-sonnier-6/
LOCATION:Calvary Creek\, Louisiana
CATEGORIES:Kip Sonnier
END:VEVENT
BEGIN:VEVENT
DTSTART;TZID=America/Chicago:20260314T173000
DTEND;TZID=America/Chicago:20260314T203000
DTSTAMP:20260419T194458
CREATED:20260311T191023Z
LAST-MODIFIED:20260311T191023Z
UID:10512-1773509400-1773520200@www.acadianamusichub.com
SUMMARY:Kip Sonnier
DESCRIPTION:
URL:https://www.acadianamusichub.com/event/kip-sonnier-5/
LOCATION:Crazy ‘Bout Crawfish Cajun Cafe’\, Louisiana
CATEGORIES:Kip Sonnier
END:VEVENT
BEGIN:VEVENT
DTSTART;TZID=America/Chicago:20260325T180000
DTEND;TZID=America/Chicago:20260325T200000
DTSTAMP:20260419T194458
CREATED:20260323T001032Z
LAST-MODIFIED:20260323T001032Z
UID:10637-1774461600-1774468800@www.acadianamusichub.com
SUMMARY:Kip Sonnier
DESCRIPTION:
URL:https://www.acadianamusichub.com/event/kip-sonnier-10/
LOCATION:El Mariachi Mexican\, 1000 Parkview Dr #28\, Louisiana
CATEGORIES:Kip Sonnier
END:VEVENT
BEGIN:VEVENT
DTSTART;TZID=America/Chicago:20260326T183000
DTEND;TZID=America/Chicago:20260326T210000
DTSTAMP:20260419T194458
CREATED:20260323T001030Z
LAST-MODIFIED:20260323T001030Z
UID:10636-1774549800-1774558800@www.acadianamusichub.com
SUMMARY:Kip Sonnier
DESCRIPTION:
URL:https://www.acadianamusichub.com/event/kip-sonnier-9/
LOCATION:Shuck’s Seafood House\, Louisiana
CATEGORIES:Kip Sonnier
END:VEVENT
BEGIN:VEVENT
DTSTART;TZID=America/Chicago:20260327T173000
DTEND;TZID=America/Chicago:20260327T203000
DTSTAMP:20260419T194458
CREATED:20260323T001029Z
LAST-MODIFIED:20260323T001029Z
UID:10634-1774632600-1774643400@www.acadianamusichub.com
SUMMARY:Kip Sonnier
DESCRIPTION:
URL:https://www.acadianamusichub.com/event/kip-sonnier-8/
LOCATION:The Original Patti\, Louisiana
CATEGORIES:Kip Sonnier
END:VEVENT
BEGIN:VEVENT
DTSTART;TZID=America/Chicago:20260328T180000
DTEND;TZID=America/Chicago:20260328T210000
DTSTAMP:20260419T194458
CREATED:20260323T001027Z
LAST-MODIFIED:20260323T001027Z
UID:10633-1774720800-1774731600@www.acadianamusichub.com
SUMMARY:Kip Sonnier
DESCRIPTION:
URL:https://www.acadianamusichub.com/event/kip-sonnier-7/
LOCATION:El Paso Mexican Grill\, Louisiana
CATEGORIES:Kip Sonnier
END:VEVENT
END:VCALENDAR