BEGIN:VCALENDAR
VERSION:2.0
PRODID:-//Acadiana Music Hub - ECPv6.15.20//NONSGML v1.0//EN
CALSCALE:GREGORIAN
METHOD:PUBLISH
X-ORIGINAL-URL:https://www.acadianamusichub.com
X-WR-CALDESC:Events for Acadiana Music Hub
REFRESH-INTERVAL;VALUE=DURATION:PT1H
X-Robots-Tag:noindex
X-PUBLISHED-TTL:PT1H
BEGIN:VTIMEZONE
TZID:America/Chicago
BEGIN:DAYLIGHT
TZOFFSETFROM:-0600
TZOFFSETTO:-0500
TZNAME:CDT
DTSTART:20250309T080000
END:DAYLIGHT
BEGIN:STANDARD
TZOFFSETFROM:-0500
TZOFFSETTO:-0600
TZNAME:CST
DTSTART:20251102T070000
END:STANDARD
BEGIN:DAYLIGHT
TZOFFSETFROM:-0600
TZOFFSETTO:-0500
TZNAME:CDT
DTSTART:20260308T080000
END:DAYLIGHT
BEGIN:STANDARD
TZOFFSETFROM:-0500
TZOFFSETTO:-0600
TZNAME:CST
DTSTART:20261101T070000
END:STANDARD
BEGIN:DAYLIGHT
TZOFFSETFROM:-0600
TZOFFSETTO:-0500
TZNAME:CDT
DTSTART:20270314T080000
END:DAYLIGHT
BEGIN:STANDARD
TZOFFSETFROM:-0500
TZOFFSETTO:-0600
TZNAME:CST
DTSTART:20271107T070000
END:STANDARD
END:VTIMEZONE
BEGIN:VEVENT
DTSTART;TZID=America/Chicago:20260516T183000
DTEND;TZID=America/Chicago:20260516T203000
DTSTAMP:20260419T141408
CREATED:20260415T200355Z
LAST-MODIFIED:20260415T200355Z
UID:11099-1778956200-1778963400@www.acadianamusichub.com
SUMMARY:Junior Lacrosse Band
DESCRIPTION:
URL:https://www.acadianamusichub.com/event/junior-lacrosse-band-31/
LOCATION:Boopalous Bash\, Louisiana
CATEGORIES:Junior Lacrosse Band
END:VEVENT
BEGIN:VEVENT
DTSTART;TZID=America/Chicago:20260516T190000
DTEND;TZID=America/Chicago:20260516T220000
DTSTAMP:20260419T141408
CREATED:20260415T163459Z
LAST-MODIFIED:20260415T163459Z
UID:11068-1778958000-1778968800@www.acadianamusichub.com
SUMMARY:Darel Gros & High Rollin Band
DESCRIPTION:
URL:https://www.acadianamusichub.com/event/darel-gros-high-rollin-band-2/
LOCATION:Cajun Heritage RV Park\, Louisiana
CATEGORIES:Darel Gros & High Rollin Band
END:VEVENT
BEGIN:VEVENT
DTSTART;TZID=America/Chicago:20260516T193000
DTEND;TZID=America/Chicago:20260516T223000
DTSTAMP:20260419T141408
CREATED:20260413T172427Z
LAST-MODIFIED:20260413T172427Z
UID:10959-1778959800-1778970600@www.acadianamusichub.com
SUMMARY:Lukas Meaux And Cajun Beat
DESCRIPTION:
URL:https://www.acadianamusichub.com/event/lukas-meaux-and-cajun-beat/
LOCATION:American Legion Arceneaux Post 77\, Louisiana
CATEGORIES:Lukas Meaux And Cajun Beat
END:VEVENT
BEGIN:VEVENT
DTSTART;TZID=America/Chicago:20260516T220000
DTEND;TZID=America/Chicago:20260516T220000
DTSTAMP:20260419T141408
CREATED:20260415T200359Z
LAST-MODIFIED:20260415T200359Z
UID:11104-1778968800-1778968800@www.acadianamusichub.com
SUMMARY:Junior Lacrosse Band
DESCRIPTION:
URL:https://www.acadianamusichub.com/event/junior-lacrosse-band-35/
LOCATION:Music Cove\, Louisiana
CATEGORIES:Junior Lacrosse Band
END:VEVENT
END:VCALENDAR