BEGIN:VCALENDAR
VERSION:2.0
PRODID:-//Acadiana Music Hub - ECPv6.15.20//NONSGML v1.0//EN
CALSCALE:GREGORIAN
METHOD:PUBLISH
X-ORIGINAL-URL:https://www.acadianamusichub.com
X-WR-CALDESC:Events for Acadiana Music Hub
REFRESH-INTERVAL;VALUE=DURATION:PT1H
X-Robots-Tag:noindex
X-PUBLISHED-TTL:PT1H
BEGIN:VTIMEZONE
TZID:America/Chicago
BEGIN:DAYLIGHT
TZOFFSETFROM:-0600
TZOFFSETTO:-0500
TZNAME:CDT
DTSTART:20250309T080000
END:DAYLIGHT
BEGIN:STANDARD
TZOFFSETFROM:-0500
TZOFFSETTO:-0600
TZNAME:CST
DTSTART:20251102T070000
END:STANDARD
BEGIN:DAYLIGHT
TZOFFSETFROM:-0600
TZOFFSETTO:-0500
TZNAME:CDT
DTSTART:20260308T080000
END:DAYLIGHT
BEGIN:STANDARD
TZOFFSETFROM:-0500
TZOFFSETTO:-0600
TZNAME:CST
DTSTART:20261101T070000
END:STANDARD
BEGIN:DAYLIGHT
TZOFFSETFROM:-0600
TZOFFSETTO:-0500
TZNAME:CDT
DTSTART:20270314T080000
END:DAYLIGHT
BEGIN:STANDARD
TZOFFSETFROM:-0500
TZOFFSETTO:-0600
TZNAME:CST
DTSTART:20271107T070000
END:STANDARD
END:VTIMEZONE
BEGIN:VEVENT
DTSTART;TZID=America/Chicago:20260501T173000
DTEND;TZID=America/Chicago:20260501T173000
DTSTAMP:20260419T085449
CREATED:20260414T131010Z
LAST-MODIFIED:20260414T131010Z
UID:11025-1777656600-1777656600@www.acadianamusichub.com
SUMMARY:Junior Lacrosse Band
DESCRIPTION:
URL:https://www.acadianamusichub.com/event/junior-lacrosse-band-23/
LOCATION:Rockin On The Railroad\, La
CATEGORIES:Junior Lacrosse Band
END:VEVENT
BEGIN:VEVENT
DTSTART;TZID=America/Chicago:20260501T183000
DTEND;TZID=America/Chicago:20260501T213000
DTSTAMP:20260419T085449
CREATED:20260413T172438Z
LAST-MODIFIED:20260413T172438Z
UID:10966-1777660200-1777671000@www.acadianamusichub.com
SUMMARY:Chloe Fontenot
DESCRIPTION:
URL:https://www.acadianamusichub.com/event/chloe-fontenot/
LOCATION:Buck & Johnny’s\, Breaux Bridge\, Louisiana
CATEGORIES:Chloe Fontenot
END:VEVENT
BEGIN:VEVENT
DTSTART;TZID=America/Chicago:20260501T200000
DTEND;TZID=America/Chicago:20260502T000000
DTSTAMP:20260419T085449
CREATED:20260413T182018Z
LAST-MODIFIED:20260413T182018Z
UID:10996-1777665600-1777680000@www.acadianamusichub.com
SUMMARY:Junior Dugas\, Back On Da Bayou
DESCRIPTION:
URL:https://www.acadianamusichub.com/event/junior-dugas-back-on-da-bayou-6/
LOCATION:Train Station\, Louisiana
CATEGORIES:Back On Da Bayou,Junior Dugas
END:VEVENT
END:VCALENDAR