BEGIN:VCALENDAR
VERSION:2.0
PRODID:-//Acadiana Music Hub - ECPv6.15.20//NONSGML v1.0//EN
CALSCALE:GREGORIAN
METHOD:PUBLISH
X-ORIGINAL-URL:https://www.acadianamusichub.com
X-WR-CALDESC:Events for Acadiana Music Hub
REFRESH-INTERVAL;VALUE=DURATION:PT1H
X-Robots-Tag:noindex
X-PUBLISHED-TTL:PT1H
BEGIN:VTIMEZONE
TZID:America/Chicago
BEGIN:DAYLIGHT
TZOFFSETFROM:-0600
TZOFFSETTO:-0500
TZNAME:CDT
DTSTART:20250309T080000
END:DAYLIGHT
BEGIN:STANDARD
TZOFFSETFROM:-0500
TZOFFSETTO:-0600
TZNAME:CST
DTSTART:20251102T070000
END:STANDARD
BEGIN:DAYLIGHT
TZOFFSETFROM:-0600
TZOFFSETTO:-0500
TZNAME:CDT
DTSTART:20260308T080000
END:DAYLIGHT
BEGIN:STANDARD
TZOFFSETFROM:-0500
TZOFFSETTO:-0600
TZNAME:CST
DTSTART:20261101T070000
END:STANDARD
BEGIN:DAYLIGHT
TZOFFSETFROM:-0600
TZOFFSETTO:-0500
TZNAME:CDT
DTSTART:20270314T080000
END:DAYLIGHT
BEGIN:STANDARD
TZOFFSETFROM:-0500
TZOFFSETTO:-0600
TZNAME:CST
DTSTART:20271107T070000
END:STANDARD
END:VTIMEZONE
BEGIN:VEVENT
DTSTART;TZID=America/Chicago:20260424T160000
DTEND;TZID=America/Chicago:20260424T160000
DTSTAMP:20260419T090613
CREATED:20260402T002034Z
LAST-MODIFIED:20260402T002034Z
UID:10853-1777046400-1777046400@www.acadianamusichub.com
SUMMARY:Dustin Ray
DESCRIPTION:
URL:https://www.acadianamusichub.com/event/dustin-ray-14/
LOCATION:Pensacola Crawfish Festival\, Unknown\, Louisiana
CATEGORIES:Dustin Ray
END:VEVENT
BEGIN:VEVENT
DTSTART;TZID=America/Chicago:20260424T160000
DTEND;TZID=America/Chicago:20260424T160000
DTSTAMP:20260419T090613
CREATED:20260402T002036Z
LAST-MODIFIED:20260402T002036Z
UID:10855-1777046400-1777046400@www.acadianamusichub.com
SUMMARY:Dustin Ray
DESCRIPTION:
URL:https://www.acadianamusichub.com/event/dustin-ray-15/
LOCATION:Pensacola Crawfish Festival\, Unknown\, Louisiana
CATEGORIES:Dustin Ray
END:VEVENT
BEGIN:VEVENT
DTSTART;TZID=America/Chicago:20260424T180000
DTEND;TZID=America/Chicago:20260424T210000
DTSTAMP:20260419T090613
CREATED:20260402T002033Z
LAST-MODIFIED:20260402T002033Z
UID:10850-1777053600-1777064400@www.acadianamusichub.com
SUMMARY:Leif Meche Band
DESCRIPTION:
URL:https://www.acadianamusichub.com/event/leif-meche-band-16/
LOCATION:Mi Tio\, Breaux Bridge\, Louisiana
CATEGORIES:Leif Meche Band
END:VEVENT
BEGIN:VEVENT
DTSTART;TZID=America/Chicago:20260424T180000
DTEND;TZID=America/Chicago:20260424T210000
DTSTAMP:20260419T090613
CREATED:20260402T002034Z
LAST-MODIFIED:20260402T002034Z
UID:10854-1777053600-1777064400@www.acadianamusichub.com
SUMMARY:Leif Meche Band
DESCRIPTION:
URL:https://www.acadianamusichub.com/event/leif-meche-band-17/
LOCATION:Mi Tio\, Breaux Bridge\, Louisiana
CATEGORIES:Leif Meche Band
END:VEVENT
BEGIN:VEVENT
DTSTART;TZID=America/Chicago:20260424T183000
DTEND;TZID=America/Chicago:20260424T203000
DTSTAMP:20260419T090613
CREATED:20260402T002031Z
LAST-MODIFIED:20260402T002031Z
UID:10848-1777055400-1777062600@www.acadianamusichub.com
SUMMARY:Kaleb Olivier
DESCRIPTION:
URL:https://www.acadianamusichub.com/event/kaleb-olivier-15/
LOCATION:Prejean’s\, Broussard\, Louisiana
CATEGORIES:Kaleb Olivier
END:VEVENT
BEGIN:VEVENT
DTSTART;TZID=America/Chicago:20260424T183000
DTEND;TZID=America/Chicago:20260424T203000
DTSTAMP:20260419T090613
CREATED:20260402T002033Z
LAST-MODIFIED:20260402T002033Z
UID:10851-1777055400-1777062600@www.acadianamusichub.com
SUMMARY:Kaleb Olivier
DESCRIPTION:
URL:https://www.acadianamusichub.com/event/kaleb-olivier-16/
LOCATION:Prejean’s\, Broussard\, Louisiana
CATEGORIES:Kaleb Olivier
END:VEVENT
BEGIN:VEVENT
DTSTART;TZID=America/Chicago:20260424T183000
DTEND;TZID=America/Chicago:20260424T213000
DTSTAMP:20260419T090613
CREATED:20260402T002030Z
LAST-MODIFIED:20260402T002030Z
UID:10846-1777055400-1777066200@www.acadianamusichub.com
SUMMARY:Doyle Tauzin
DESCRIPTION:
URL:https://www.acadianamusichub.com/event/doyle-tauzin-2/
LOCATION:Buck & Johnny’s\, Breaux Bridge\, Louisiana
CATEGORIES:Doyle Tauzin
END:VEVENT
BEGIN:VEVENT
DTSTART;TZID=America/Chicago:20260424T183000
DTEND;TZID=America/Chicago:20260424T213000
DTSTAMP:20260419T090613
CREATED:20260402T002032Z
LAST-MODIFIED:20260402T002032Z
UID:10849-1777055400-1777066200@www.acadianamusichub.com
SUMMARY:Doyle Tauzin
DESCRIPTION:
URL:https://www.acadianamusichub.com/event/doyle-tauzin-3/
LOCATION:Buck & Johnny’s\, Breaux Bridge\, Louisiana
CATEGORIES:Doyle Tauzin
END:VEVENT
BEGIN:VEVENT
DTSTART;TZID=America/Chicago:20260424T203000
DTEND;TZID=America/Chicago:20260424T230000
DTSTAMP:20260419T090613
CREATED:20260325T121255Z
LAST-MODIFIED:20260325T121255Z
UID:10693-1777062600-1777071600@www.acadianamusichub.com
SUMMARY:Junior Lacrosse Band
DESCRIPTION:
URL:https://www.acadianamusichub.com/event/junior-lacrosse-band-19/
LOCATION:VOL Fest\, Louisiana
CATEGORIES:Junior Lacrosse Band
END:VEVENT
BEGIN:VEVENT
DTSTART;TZID=America/Chicago:20260424T210000
DTEND;TZID=America/Chicago:20260425T000000
DTSTAMP:20260419T090613
CREATED:20260331T112105Z
LAST-MODIFIED:20260331T112105Z
UID:10773-1777064400-1777075200@www.acadianamusichub.com
SUMMARY:Lloyd Stretch
DESCRIPTION:
URL:https://www.acadianamusichub.com/event/lloyd-stretch-3/
LOCATION:Whiskey Tales\, 2825 Grand Point Hwy\, Louisiana
CATEGORIES:Lloyd Stretch
END:VEVENT
END:VCALENDAR