BEGIN:VCALENDAR
VERSION:2.0
PRODID:-//Acadiana Music Hub - ECPv6.15.20//NONSGML v1.0//EN
CALSCALE:GREGORIAN
METHOD:PUBLISH
X-WR-CALNAME:Acadiana Music Hub
X-ORIGINAL-URL:https://www.acadianamusichub.com
X-WR-CALDESC:Events for Acadiana Music Hub
REFRESH-INTERVAL;VALUE=DURATION:PT1H
X-Robots-Tag:noindex
X-PUBLISHED-TTL:PT1H
BEGIN:VTIMEZONE
TZID:America/Chicago
BEGIN:DAYLIGHT
TZOFFSETFROM:-0600
TZOFFSETTO:-0500
TZNAME:CDT
DTSTART:20250309T080000
END:DAYLIGHT
BEGIN:STANDARD
TZOFFSETFROM:-0500
TZOFFSETTO:-0600
TZNAME:CST
DTSTART:20251102T070000
END:STANDARD
BEGIN:DAYLIGHT
TZOFFSETFROM:-0600
TZOFFSETTO:-0500
TZNAME:CDT
DTSTART:20260308T080000
END:DAYLIGHT
BEGIN:STANDARD
TZOFFSETFROM:-0500
TZOFFSETTO:-0600
TZNAME:CST
DTSTART:20261101T070000
END:STANDARD
BEGIN:DAYLIGHT
TZOFFSETFROM:-0600
TZOFFSETTO:-0500
TZNAME:CDT
DTSTART:20270314T080000
END:DAYLIGHT
BEGIN:STANDARD
TZOFFSETFROM:-0500
TZOFFSETTO:-0600
TZNAME:CST
DTSTART:20271107T070000
END:STANDARD
END:VTIMEZONE
BEGIN:VEVENT
DTSTART;TZID=America/Chicago:20260423T110000
DTEND;TZID=America/Chicago:20260423T140000
DTSTAMP:20260423T042056
CREATED:20260421T154051Z
LAST-MODIFIED:20260421T154051Z
UID:11340-1776942000-1776952800@www.acadianamusichub.com
SUMMARY:Geno Delafose & French Rockin' Boogie
DESCRIPTION:
URL:https://www.acadianamusichub.com/event/geno-delafose-french-rockin-boogie-2/
LOCATION:Kenworth Of Louisiana Baton Rouge\, Louisiana
CATEGORIES:Geno Delafose & French Rockin Boogie
END:VEVENT
BEGIN:VEVENT
DTSTART;TZID=America/Chicago:20260423T180000
DTEND;TZID=America/Chicago:20260423T180000
DTSTAMP:20260423T042056
CREATED:20260420T141008Z
LAST-MODIFIED:20260420T141008Z
UID:11299-1776967200-1776967200@www.acadianamusichub.com
SUMMARY:Bubba And Alfred
DESCRIPTION:
URL:https://www.acadianamusichub.com/event/bubba-and-alfred/
LOCATION:La Rumba\, Pineville\, Louisiana
CATEGORIES:Bubba And Alfred
END:VEVENT
BEGIN:VEVENT
DTSTART;TZID=America/Chicago:20260423T180000
DTEND;TZID=America/Chicago:20260423T180000
DTSTAMP:20260423T042056
CREATED:20260420T141009Z
LAST-MODIFIED:20260420T141009Z
UID:11300-1776967200-1776967200@www.acadianamusichub.com
SUMMARY:Jake Knott
DESCRIPTION:
URL:https://www.acadianamusichub.com/event/jake-knott/
LOCATION:Silver Slipper Cajun Hibachi Grill\, Pineville\, Louisiana
CATEGORIES:Jake Knott
END:VEVENT
BEGIN:VEVENT
DTSTART;TZID=America/Chicago:20260423T180000
DTEND;TZID=America/Chicago:20260423T210000
DTSTAMP:20260423T042056
CREATED:20260420T141010Z
LAST-MODIFIED:20260420T141010Z
UID:11301-1776967200-1776978000@www.acadianamusichub.com
SUMMARY:Buddy Andrews
DESCRIPTION:
URL:https://www.acadianamusichub.com/event/buddy-andrews/
LOCATION:The Crawfish Hut Bar & Grill\, Pineville\, Louisiana
CATEGORIES:Buddy Andrews
END:VEVENT
BEGIN:VEVENT
DTSTART;TZID=America/Chicago:20260423T180000
DTEND;TZID=America/Chicago:20260423T210000
DTSTAMP:20260423T042056
CREATED:20260420T141012Z
LAST-MODIFIED:20260420T141012Z
UID:11303-1776967200-1776978000@www.acadianamusichub.com
SUMMARY:Kaleb Olivier
DESCRIPTION:
URL:https://www.acadianamusichub.com/event/kaleb-olivier/
LOCATION:Crawfish Town USA\, Henderson\, Louisiana
CATEGORIES:Kaleb Olivier
END:VEVENT
BEGIN:VEVENT
DTSTART;TZID=America/Chicago:20260423T180000
DTEND;TZID=America/Chicago:20260423T210000
DTSTAMP:20260423T042056
CREATED:20260420T141014Z
LAST-MODIFIED:20260420T141014Z
UID:11304-1776967200-1776978000@www.acadianamusichub.com
SUMMARY:Mike Broussard
DESCRIPTION:
URL:https://www.acadianamusichub.com/event/mike-broussard-3/
LOCATION:El Corazon\, Unknown\, Louisiana
CATEGORIES:Mike Broussard
END:VEVENT
BEGIN:VEVENT
DTSTART;TZID=America/Chicago:20260423T180000
DTEND;TZID=America/Chicago:20260423T210000
DTSTAMP:20260423T042056
CREATED:20260422T115050Z
LAST-MODIFIED:20260422T115050Z
UID:11347-1776967200-1776978000@www.acadianamusichub.com
SUMMARY:Kip Sonnier
DESCRIPTION:
URL:https://www.acadianamusichub.com/event/kip-sonnier-3/
LOCATION:Naq’s N Duson\, Louisiana
CATEGORIES:Kip Sonnier
END:VEVENT
BEGIN:VEVENT
DTSTART;TZID=America/Chicago:20260423T190000
DTEND;TZID=America/Chicago:20260423T220000
DTSTAMP:20260423T042056
CREATED:20260422T115052Z
LAST-MODIFIED:20260422T115052Z
UID:11349-1776970800-1776981600@www.acadianamusichub.com
SUMMARY:RaiKwon
DESCRIPTION:
URL:https://www.acadianamusichub.com/event/raikwon/
LOCATION:Cajuns – Church Point\, Louisiana
CATEGORIES:Raikwon
END:VEVENT
BEGIN:VEVENT
DTSTART;TZID=America/Chicago:20260423T200000
DTEND;TZID=America/Chicago:20260423T230000
DTSTAMP:20260423T042056
CREATED:20260420T141011Z
LAST-MODIFIED:20260420T141011Z
UID:11302-1776974400-1776985200@www.acadianamusichub.com
SUMMARY:Kent Latiolais
DESCRIPTION:
URL:https://www.acadianamusichub.com/event/kent-latiolais/
LOCATION:Whiskey Tales\, 2825 Grand Point Hwy\, Louisiana
CATEGORIES:Kent Latiolais
END:VEVENT
END:VCALENDAR