BEGIN:VCALENDAR
VERSION:2.0
PRODID:-//Acadiana Music Hub - ECPv6.15.20//NONSGML v1.0//EN
CALSCALE:GREGORIAN
METHOD:PUBLISH
X-WR-CALNAME:Acadiana Music Hub
X-ORIGINAL-URL:https://www.acadianamusichub.com
X-WR-CALDESC:Events for Acadiana Music Hub
REFRESH-INTERVAL;VALUE=DURATION:PT1H
X-Robots-Tag:noindex
X-PUBLISHED-TTL:PT1H
BEGIN:VTIMEZONE
TZID:America/Chicago
BEGIN:DAYLIGHT
TZOFFSETFROM:-0600
TZOFFSETTO:-0500
TZNAME:CDT
DTSTART:20250309T080000
END:DAYLIGHT
BEGIN:STANDARD
TZOFFSETFROM:-0500
TZOFFSETTO:-0600
TZNAME:CST
DTSTART:20251102T070000
END:STANDARD
BEGIN:DAYLIGHT
TZOFFSETFROM:-0600
TZOFFSETTO:-0500
TZNAME:CDT
DTSTART:20260308T080000
END:DAYLIGHT
BEGIN:STANDARD
TZOFFSETFROM:-0500
TZOFFSETTO:-0600
TZNAME:CST
DTSTART:20261101T070000
END:STANDARD
BEGIN:DAYLIGHT
TZOFFSETFROM:-0600
TZOFFSETTO:-0500
TZNAME:CDT
DTSTART:20270314T080000
END:DAYLIGHT
BEGIN:STANDARD
TZOFFSETFROM:-0500
TZOFFSETTO:-0600
TZNAME:CST
DTSTART:20271107T070000
END:STANDARD
END:VTIMEZONE
BEGIN:VEVENT
DTSTART;TZID=America/Chicago:20260408T120000
DTEND;TZID=America/Chicago:20260408T120000
DTSTAMP:20260419T085506
CREATED:20260409T012102Z
LAST-MODIFIED:20260409T012102Z
UID:10926-1775649600-1775649600@www.acadianamusichub.com
SUMMARY:Soul Express Brass Band
DESCRIPTION:
URL:https://www.acadianamusichub.com/event/soul-express-brass-band/
LOCATION:Parc Des Pont Breaux\, Louisiana
CATEGORIES:Soul Express Brass Band
END:VEVENT
BEGIN:VEVENT
DTSTART;TZID=America/Chicago:20260408T170000
DTEND;TZID=America/Chicago:20260408T170000
DTSTAMP:20260419T085506
CREATED:20260408T123100Z
LAST-MODIFIED:20260408T123100Z
UID:10923-1775667600-1775667600@www.acadianamusichub.com
SUMMARY:Dustin Ray
DESCRIPTION:
URL:https://www.acadianamusichub.com/event/dustin-ray-18/
LOCATION:Breauxs Cajun Kitchen\, Unknown\, Louisiana
CATEGORIES:Dustin Ray
END:VEVENT
BEGIN:VEVENT
DTSTART;TZID=America/Chicago:20260408T180000
DTEND;TZID=America/Chicago:20260408T180000
DTSTAMP:20260419T085506
CREATED:20260407T113124Z
LAST-MODIFIED:20260407T113124Z
UID:10892-1775671200-1775671200@www.acadianamusichub.com
SUMMARY:Old Friends
DESCRIPTION:
URL:https://www.acadianamusichub.com/event/old-friends-2/
LOCATION:Kelvin’s\, Louisiana
CATEGORIES:Old Friends
END:VEVENT
BEGIN:VEVENT
DTSTART;TZID=America/Chicago:20260408T180000
DTEND;TZID=America/Chicago:20260408T200000
DTSTAMP:20260419T085506
CREATED:20260406T183103Z
LAST-MODIFIED:20260406T183103Z
UID:10864-1775671200-1775678400@www.acadianamusichub.com
SUMMARY:Kip Sonnier
DESCRIPTION:
URL:https://www.acadianamusichub.com/event/kip-sonnier-16/
LOCATION:El Mariachi Mexican Grill\, Louisiana
CATEGORIES:Kip Sonnier
END:VEVENT
BEGIN:VEVENT
DTSTART;TZID=America/Chicago:20260408T180000
DTEND;TZID=America/Chicago:20260408T210000
DTSTAMP:20260419T085506
CREATED:20260406T183105Z
LAST-MODIFIED:20260406T183105Z
UID:10866-1775671200-1775682000@www.acadianamusichub.com
SUMMARY:Jeff & Sherry Dugan
DESCRIPTION:
URL:https://www.acadianamusichub.com/event/jeff-sherry-dugan-2/
LOCATION:Naq’s N Duson\, Louisiana
CATEGORIES:Jeff & Sherry Dugan
END:VEVENT
BEGIN:VEVENT
DTSTART;TZID=America/Chicago:20260408T180000
DTEND;TZID=America/Chicago:20260408T210000
DTSTAMP:20260419T085506
CREATED:20260407T113123Z
LAST-MODIFIED:20260407T113123Z
UID:10891-1775671200-1775682000@www.acadianamusichub.com
SUMMARY:David Henry
DESCRIPTION:
URL:https://www.acadianamusichub.com/event/david-henry-5/
LOCATION:Pedros Opelousas\, Louisiana
CATEGORIES:David Henry
END:VEVENT
BEGIN:VEVENT
DTSTART;TZID=America/Chicago:20260408T183000
DTEND;TZID=America/Chicago:20260408T213000
DTSTAMP:20260419T085506
CREATED:20260402T001803Z
LAST-MODIFIED:20260402T001803Z
UID:10813-1775673000-1775683800@www.acadianamusichub.com
SUMMARY:Paul Piazza
DESCRIPTION:
URL:https://www.acadianamusichub.com/event/paul-piazza-6/
LOCATION:The Taproom At Sugar Mill Pond\, Louisiana
CATEGORIES:Paul Piazza
END:VEVENT
END:VCALENDAR