BEGIN:VCALENDAR
VERSION:2.0
PRODID:-//Acadiana Music Hub - ECPv6.15.20//NONSGML v1.0//EN
CALSCALE:GREGORIAN
METHOD:PUBLISH
X-ORIGINAL-URL:https://www.acadianamusichub.com
X-WR-CALDESC:Events for Acadiana Music Hub
REFRESH-INTERVAL;VALUE=DURATION:PT1H
X-Robots-Tag:noindex
X-PUBLISHED-TTL:PT1H
BEGIN:VTIMEZONE
TZID:America/Chicago
BEGIN:DAYLIGHT
TZOFFSETFROM:-0600
TZOFFSETTO:-0500
TZNAME:CDT
DTSTART:20250309T080000
END:DAYLIGHT
BEGIN:STANDARD
TZOFFSETFROM:-0500
TZOFFSETTO:-0600
TZNAME:CST
DTSTART:20251102T070000
END:STANDARD
BEGIN:DAYLIGHT
TZOFFSETFROM:-0600
TZOFFSETTO:-0500
TZNAME:CDT
DTSTART:20260308T080000
END:DAYLIGHT
BEGIN:STANDARD
TZOFFSETFROM:-0500
TZOFFSETTO:-0600
TZNAME:CST
DTSTART:20261101T070000
END:STANDARD
BEGIN:DAYLIGHT
TZOFFSETFROM:-0600
TZOFFSETTO:-0500
TZNAME:CDT
DTSTART:20270314T080000
END:DAYLIGHT
BEGIN:STANDARD
TZOFFSETFROM:-0500
TZOFFSETTO:-0600
TZNAME:CST
DTSTART:20271107T070000
END:STANDARD
END:VTIMEZONE
BEGIN:VEVENT
DTSTART;TZID=America/Chicago:20260404T210000
DTEND;TZID=America/Chicago:20260405T020000
DTSTAMP:20260419T100844
CREATED:20260330T190052Z
LAST-MODIFIED:20260330T190052Z
UID:10726-1775336400-1775354400@www.acadianamusichub.com
SUMMARY:Dj B-Rody
DESCRIPTION:
URL:https://www.acadianamusichub.com/event/dj-b-rody-6/
LOCATION:Willie’s\, Louisiana
CATEGORIES:Dj B-Rody
END:VEVENT
BEGIN:VEVENT
DTSTART;TZID=America/Chicago:20260404T220000
DTEND;TZID=America/Chicago:20260405T010000
DTSTAMP:20260419T100844
CREATED:20260330T193059Z
LAST-MODIFIED:20260330T193059Z
UID:10731-1775340000-1775350800@www.acadianamusichub.com
SUMMARY:Alex Touchet
DESCRIPTION:
URL:https://www.acadianamusichub.com/event/alex-touchet/
LOCATION:Cowboy’s Night Club\, Louisiana
CATEGORIES:Alex Touchet
END:VEVENT
BEGIN:VEVENT
DTSTART;TZID=America/Chicago:20260405T160000
DTEND;TZID=America/Chicago:20260405T160000
DTSTAMP:20260419T100844
CREATED:20260330T193056Z
LAST-MODIFIED:20260330T193056Z
UID:10729-1775404800-1775404800@www.acadianamusichub.com
SUMMARY:Bubba And Alfred
DESCRIPTION:
URL:https://www.acadianamusichub.com/event/bubba-and-alfred/
LOCATION:Cajun’s Bar And Dance Hall\, Louisiana
CATEGORIES:Bubba And Alfred
END:VEVENT
BEGIN:VEVENT
DTSTART;TZID=America/Chicago:20260405T170000
DTEND;TZID=America/Chicago:20260405T200000
DTSTAMP:20260419T100844
CREATED:20260402T001805Z
LAST-MODIFIED:20260402T001805Z
UID:10815-1775408400-1775419200@www.acadianamusichub.com
SUMMARY:Geno Delafose & French Rockin' Boogie
DESCRIPTION:
URL:https://www.acadianamusichub.com/event/geno-delafose-french-rockin-boogie-2/
LOCATION:Rock N Bowl De Lafayette\, Louisiana
CATEGORIES:Geno Delafose & French Rockin Boogie
END:VEVENT
BEGIN:VEVENT
DTSTART;TZID=America/Chicago:20260405T200000
DTEND;TZID=America/Chicago:20260406T000000
DTSTAMP:20260419T100844
CREATED:20260322T212047Z
LAST-MODIFIED:20260322T212047Z
UID:10624-1775419200-1775433600@www.acadianamusichub.com
SUMMARY:Leif Meche Band
DESCRIPTION:
URL:https://www.acadianamusichub.com/event/leif-meche-band-8/
LOCATION:Rush Lounge @ Golden Nugget\, Lake Charles\, Louisiana
CATEGORIES:Leif Meche Band
END:VEVENT
END:VCALENDAR