BEGIN:VCALENDAR
VERSION:2.0
PRODID:-//Acadiana Music Hub - ECPv6.15.20//NONSGML v1.0//EN
CALSCALE:GREGORIAN
METHOD:PUBLISH
X-WR-CALNAME:Acadiana Music Hub
X-ORIGINAL-URL:https://www.acadianamusichub.com
X-WR-CALDESC:Events for Acadiana Music Hub
REFRESH-INTERVAL;VALUE=DURATION:PT1H
X-Robots-Tag:noindex
X-PUBLISHED-TTL:PT1H
BEGIN:VTIMEZONE
TZID:America/Chicago
BEGIN:DAYLIGHT
TZOFFSETFROM:-0600
TZOFFSETTO:-0500
TZNAME:CDT
DTSTART:20250309T080000
END:DAYLIGHT
BEGIN:STANDARD
TZOFFSETFROM:-0500
TZOFFSETTO:-0600
TZNAME:CST
DTSTART:20251102T070000
END:STANDARD
BEGIN:DAYLIGHT
TZOFFSETFROM:-0600
TZOFFSETTO:-0500
TZNAME:CDT
DTSTART:20260308T080000
END:DAYLIGHT
BEGIN:STANDARD
TZOFFSETFROM:-0500
TZOFFSETTO:-0600
TZNAME:CST
DTSTART:20261101T070000
END:STANDARD
BEGIN:DAYLIGHT
TZOFFSETFROM:-0600
TZOFFSETTO:-0500
TZNAME:CDT
DTSTART:20270314T080000
END:DAYLIGHT
BEGIN:STANDARD
TZOFFSETFROM:-0500
TZOFFSETTO:-0600
TZNAME:CST
DTSTART:20271107T070000
END:STANDARD
END:VTIMEZONE
BEGIN:VEVENT
DTSTART;TZID=America/Chicago:20260328T200000
DTEND;TZID=America/Chicago:20260329T020000
DTSTAMP:20260419T113352
CREATED:20260323T163028Z
LAST-MODIFIED:20260323T163028Z
UID:10641-1774728000-1774749600@www.acadianamusichub.com
SUMMARY:Dj B-Rody
DESCRIPTION:
URL:https://www.acadianamusichub.com/event/dj-b-rody-5/
LOCATION:Grand Point Tavern\, Louisiana
CATEGORIES:Dj B-Rody
END:VEVENT
BEGIN:VEVENT
DTSTART;TZID=America/Chicago:20260328T220000
DTEND;TZID=America/Chicago:20260329T010000
DTSTAMP:20260419T113353
CREATED:20260319T011103Z
LAST-MODIFIED:20260319T011103Z
UID:10617-1774735200-1774746000@www.acadianamusichub.com
SUMMARY:Casey Chesnutt Band
DESCRIPTION:
URL:https://www.acadianamusichub.com/event/casey-chesnutt-band/
LOCATION:Cowboy’s Night Club\, Louisiana
CATEGORIES:Casey Chesnutt Band
END:VEVENT
BEGIN:VEVENT
DTSTART;TZID=America/Chicago:20260329T130000
DTEND;TZID=America/Chicago:20260329T130000
DTSTAMP:20260419T113353
CREATED:20260313T104003Z
LAST-MODIFIED:20260313T104003Z
UID:10532-1774789200-1774789200@www.acadianamusichub.com
SUMMARY:Junior Lacrosse Band
DESCRIPTION:
URL:https://www.acadianamusichub.com/event/junior-lacrosse-band-6/
LOCATION:Bayou Jeep Bash\, Louisiana
CATEGORIES:Junior Lacrosse Band
END:VEVENT
BEGIN:VEVENT
DTSTART;TZID=America/Chicago:20260329T160000
DTEND;TZID=America/Chicago:20260329T190000
DTSTAMP:20260419T113353
CREATED:20260324T160026Z
LAST-MODIFIED:20260324T160026Z
UID:10686-1774800000-1774810800@www.acadianamusichub.com
SUMMARY:The Lonesome Bayou Band
DESCRIPTION:
URL:https://www.acadianamusichub.com/event/the-lonesome-bayou-band/
LOCATION:Cajun’s Bar And Dance Hall\, Louisiana
CATEGORIES:The Lonesome Bayou Band
END:VEVENT
BEGIN:VEVENT
DTSTART;TZID=America/Chicago:20260329T190000
DTEND;TZID=America/Chicago:20260329T190000
DTSTAMP:20260419T113353
CREATED:20260319T011053Z
LAST-MODIFIED:20260319T011053Z
UID:10607-1774810800-1774810800@www.acadianamusichub.com
SUMMARY:Og Cola
DESCRIPTION:
URL:https://www.acadianamusichub.com/event/og-cola/
LOCATION:Whiskey Tales Bar & Grill\, Louisiana
CATEGORIES:Og Cola
END:VEVENT
END:VCALENDAR