BEGIN:VCALENDAR
VERSION:2.0
PRODID:-//Acadiana Music Hub - ECPv6.15.20//NONSGML v1.0//EN
CALSCALE:GREGORIAN
METHOD:PUBLISH
X-WR-CALNAME:Acadiana Music Hub
X-ORIGINAL-URL:https://www.acadianamusichub.com
X-WR-CALDESC:Events for Acadiana Music Hub
REFRESH-INTERVAL;VALUE=DURATION:PT1H
X-Robots-Tag:noindex
X-PUBLISHED-TTL:PT1H
BEGIN:VTIMEZONE
TZID:America/Chicago
BEGIN:DAYLIGHT
TZOFFSETFROM:-0600
TZOFFSETTO:-0500
TZNAME:CDT
DTSTART:20250309T080000
END:DAYLIGHT
BEGIN:STANDARD
TZOFFSETFROM:-0500
TZOFFSETTO:-0600
TZNAME:CST
DTSTART:20251102T070000
END:STANDARD
BEGIN:DAYLIGHT
TZOFFSETFROM:-0600
TZOFFSETTO:-0500
TZNAME:CDT
DTSTART:20260308T080000
END:DAYLIGHT
BEGIN:STANDARD
TZOFFSETFROM:-0500
TZOFFSETTO:-0600
TZNAME:CST
DTSTART:20261101T070000
END:STANDARD
BEGIN:DAYLIGHT
TZOFFSETFROM:-0600
TZOFFSETTO:-0500
TZNAME:CDT
DTSTART:20270314T080000
END:DAYLIGHT
BEGIN:STANDARD
TZOFFSETFROM:-0500
TZOFFSETTO:-0600
TZNAME:CST
DTSTART:20271107T070000
END:STANDARD
END:VTIMEZONE
BEGIN:VEVENT
DTSTART;TZID=America/Chicago:20260327T210000
DTEND;TZID=America/Chicago:20260328T020000
DTSTAMP:20260419T152919
CREATED:20260323T163026Z
LAST-MODIFIED:20260323T163026Z
UID:10640-1774645200-1774663200@www.acadianamusichub.com
SUMMARY:Dj B-Rody
DESCRIPTION:
URL:https://www.acadianamusichub.com/event/dj-b-rody-4/
LOCATION:Willie’s\, Louisiana
CATEGORIES:Dj B-Rody
END:VEVENT
BEGIN:VEVENT
DTSTART;TZID=America/Chicago:20260327T220000
DTEND;TZID=America/Chicago:20260328T010000
DTSTAMP:20260419T152919
CREATED:20260318T093049Z
LAST-MODIFIED:20260318T093049Z
UID:10584-1774648800-1774659600@www.acadianamusichub.com
SUMMARY:Side Show Band
DESCRIPTION:
URL:https://www.acadianamusichub.com/event/side-show-band/
LOCATION:Cowboy’s Night Club\, Louisiana
CATEGORIES:Side Show Band
END:VEVENT
BEGIN:VEVENT
DTSTART;TZID=America/Chicago:20260328T090000
DTEND;TZID=America/Chicago:20260328T090000
DTSTAMP:20260419T152919
CREATED:20260318T093057Z
LAST-MODIFIED:20260318T093057Z
UID:10592-1774688400-1774688400@www.acadianamusichub.com
SUMMARY:Dustin Ray
DESCRIPTION:
URL:https://www.acadianamusichub.com/event/dustin-ray-7/
LOCATION:Marshfield Landing\, Unknown\, Louisiana
CATEGORIES:Dustin Ray
END:VEVENT
BEGIN:VEVENT
DTSTART;TZID=America/Chicago:20260328T110000
DTEND;TZID=America/Chicago:20260328T140000
DTSTAMP:20260419T152919
CREATED:20260324T153027Z
LAST-MODIFIED:20260324T153027Z
UID:10681-1774695600-1774706400@www.acadianamusichub.com
SUMMARY:Jon Melancon
DESCRIPTION:
URL:https://www.acadianamusichub.com/event/jon-melancon-2/
LOCATION:Pecan Island\, Louisiana
CATEGORIES:Jon Melancon
END:VEVENT
BEGIN:VEVENT
DTSTART;TZID=America/Chicago:20260328T120000
DTEND;TZID=America/Chicago:20260328T143000
DTSTAMP:20260419T152919
CREATED:20260324T153030Z
LAST-MODIFIED:20260324T153030Z
UID:10684-1774699200-1774708200@www.acadianamusichub.com
SUMMARY:Raikwon
DESCRIPTION:
URL:https://www.acadianamusichub.com/event/raikwon-4/
LOCATION:Breaux’s Cajun Kitchen—Jennings\, Louisiana
CATEGORIES:Raikwon
END:VEVENT
BEGIN:VEVENT
DTSTART;TZID=America/Chicago:20260328T123000
DTEND;TZID=America/Chicago:20260328T143000
DTSTAMP:20260419T152919
CREATED:20260323T173221Z
LAST-MODIFIED:20260323T173221Z
UID:10648-1774701000-1774708200@www.acadianamusichub.com
SUMMARY:Hudson Hebert
DESCRIPTION:
URL:https://www.acadianamusichub.com/event/hudson-hebert/
LOCATION:Maltrait Spring Bazaar\, Louisiana
CATEGORIES:Hudson Hebert
END:VEVENT
BEGIN:VEVENT
DTSTART;TZID=America/Chicago:20260328T150000
DTEND;TZID=America/Chicago:20260328T150000
DTSTAMP:20260419T152919
CREATED:20260328T185039Z
LAST-MODIFIED:20260328T185039Z
UID:10706-1774710000-1774710000@www.acadianamusichub.com
SUMMARY:Dustin Ray
DESCRIPTION:
URL:https://www.acadianamusichub.com/event/dustin-ray-11/
LOCATION:Breauxs Cajun Kitchen\, Unknown\, Louisiana
CATEGORIES:Dustin Ray
END:VEVENT
BEGIN:VEVENT
DTSTART;TZID=America/Chicago:20260328T150000
DTEND;TZID=America/Chicago:20260328T170000
DTSTAMP:20260419T152919
CREATED:20260323T173218Z
LAST-MODIFIED:20260323T173218Z
UID:10646-1774710000-1774717200@www.acadianamusichub.com
SUMMARY:Geno Delafose
DESCRIPTION:
URL:https://www.acadianamusichub.com/event/geno-delafose/
LOCATION:Maltrait Spring Bazaar\, Louisiana
CATEGORIES:Geno Delafose
END:VEVENT
BEGIN:VEVENT
DTSTART;TZID=America/Chicago:20260328T170000
DTEND;TZID=America/Chicago:20260328T183000
DTSTAMP:20260419T152919
CREATED:20260318T093055Z
LAST-MODIFIED:20260318T093055Z
UID:10590-1774717200-1774722600@www.acadianamusichub.com
SUMMARY:Cajun Roots
DESCRIPTION:
URL:https://www.acadianamusichub.com/event/cajun-roots-2/
LOCATION:SugArena\, Louisiana
CATEGORIES:Cajun Roots
END:VEVENT
BEGIN:VEVENT
DTSTART;TZID=America/Chicago:20260328T173000
DTEND;TZID=America/Chicago:20260328T193000
DTSTAMP:20260419T152919
CREATED:20260323T173222Z
LAST-MODIFIED:20260323T173222Z
UID:10649-1774719000-1774726200@www.acadianamusichub.com
SUMMARY:Whiskey Bay
DESCRIPTION:
URL:https://www.acadianamusichub.com/event/whiskey-bay/
LOCATION:Maltrait Spring Bazaar\, Louisiana
CATEGORIES:Whiskey Bay
END:VEVENT
BEGIN:VEVENT
DTSTART;TZID=America/Chicago:20260328T180000
DTEND;TZID=America/Chicago:20260328T210000
DTSTAMP:20260419T152919
CREATED:20260318T093050Z
LAST-MODIFIED:20260318T093050Z
UID:10585-1774720800-1774731600@www.acadianamusichub.com
SUMMARY:Jon Meloncon
DESCRIPTION:
URL:https://www.acadianamusichub.com/event/jon-meloncon-10/
LOCATION:Shucks\, Louisiana
CATEGORIES:Jon Meloncon
END:VEVENT
BEGIN:VEVENT
DTSTART;TZID=America/Chicago:20260328T180000
DTEND;TZID=America/Chicago:20260328T210000
DTSTAMP:20260419T152919
CREATED:20260318T093054Z
LAST-MODIFIED:20260318T093054Z
UID:10589-1774720800-1774731600@www.acadianamusichub.com
SUMMARY:Austin Reaux
DESCRIPTION:
URL:https://www.acadianamusichub.com/event/austin-reaux-5/
LOCATION:Naq’s-N-Duson\, Louisiana
CATEGORIES:Austin Reaux
END:VEVENT
BEGIN:VEVENT
DTSTART;TZID=America/Chicago:20260328T180000
DTEND;TZID=America/Chicago:20260328T210000
DTSTAMP:20260419T152919
CREATED:20260319T011049Z
LAST-MODIFIED:20260319T011049Z
UID:10604-1774720800-1774731600@www.acadianamusichub.com
SUMMARY:Leif Meche Band
DESCRIPTION:
URL:https://www.acadianamusichub.com/event/leif-meche-band-7/
LOCATION:El Corazón Mexican Restaurant\, Unknown\, Louisiana
CATEGORIES:Leif Meche Band
END:VEVENT
BEGIN:VEVENT
DTSTART;TZID=America/Chicago:20260328T180000
DTEND;TZID=America/Chicago:20260328T210000
DTSTAMP:20260419T152919
CREATED:20260319T011057Z
LAST-MODIFIED:20260319T011057Z
UID:10612-1774720800-1774731600@www.acadianamusichub.com
SUMMARY:Jon Meloncon
DESCRIPTION:
URL:https://www.acadianamusichub.com/event/jon-meloncon-11/
LOCATION:Wild Game Cookoff – Pecan Island\, Louisiana
CATEGORIES:Jon Meloncon
END:VEVENT
BEGIN:VEVENT
DTSTART;TZID=America/Chicago:20260328T180000
DTEND;TZID=America/Chicago:20260328T210000
DTSTAMP:20260419T152919
CREATED:20260321T180046Z
LAST-MODIFIED:20260321T180046Z
UID:10620-1774720800-1774731600@www.acadianamusichub.com
SUMMARY:Kaleb Olivier
DESCRIPTION:
URL:https://www.acadianamusichub.com/event/kaleb-olivier-8/
LOCATION:Poche’s RV Park\, Louisiana
CATEGORIES:Kaleb Olivier
END:VEVENT
BEGIN:VEVENT
DTSTART;TZID=America/Chicago:20260328T180000
DTEND;TZID=America/Chicago:20260328T210000
DTSTAMP:20260419T152919
CREATED:20260323T001027Z
LAST-MODIFIED:20260323T001027Z
UID:10633-1774720800-1774731600@www.acadianamusichub.com
SUMMARY:Kip Sonnier
DESCRIPTION:
URL:https://www.acadianamusichub.com/event/kip-sonnier-7/
LOCATION:El Paso Mexican Grill\, Louisiana
CATEGORIES:Kip Sonnier
END:VEVENT
BEGIN:VEVENT
DTSTART;TZID=America/Chicago:20260328T183000
DTEND;TZID=America/Chicago:20260328T210000
DTSTAMP:20260419T152919
CREATED:20260324T153029Z
LAST-MODIFIED:20260324T153029Z
UID:10682-1774722600-1774731600@www.acadianamusichub.com
SUMMARY:Jon Melancon
DESCRIPTION:
URL:https://www.acadianamusichub.com/event/jon-melancon-3/
LOCATION:Shucks\, Louisiana
CATEGORIES:Jon Melancon
END:VEVENT
BEGIN:VEVENT
DTSTART;TZID=America/Chicago:20260328T183000
DTEND;TZID=America/Chicago:20260328T213000
DTSTAMP:20260419T152919
CREATED:20260319T011054Z
LAST-MODIFIED:20260319T011054Z
UID:10608-1774722600-1774733400@www.acadianamusichub.com
SUMMARY:Raikwon Green
DESCRIPTION:
URL:https://www.acadianamusichub.com/event/raikwon-green/
LOCATION:Buck & Johnny’s\, Breaux Bridge\, Louisiana
CATEGORIES:Raikwon Green
END:VEVENT
BEGIN:VEVENT
DTSTART;TZID=America/Chicago:20260328T183000
DTEND;TZID=America/Chicago:20260328T213000
DTSTAMP:20260419T152919
CREATED:20260319T011105Z
LAST-MODIFIED:20260319T011105Z
UID:10619-1774722600-1774733400@www.acadianamusichub.com
SUMMARY:Lloyd Stretch
DESCRIPTION:
URL:https://www.acadianamusichub.com/event/lloyd-stretch-2/
LOCATION:Camp Margaritaville\, Louisiana
CATEGORIES:Lloyd Stretch
END:VEVENT
BEGIN:VEVENT
DTSTART;TZID=America/Chicago:20260328T190000
DTEND;TZID=America/Chicago:20260328T220000
DTSTAMP:20260419T152919
CREATED:20260319T011102Z
LAST-MODIFIED:20260319T011102Z
UID:10616-1774724400-1774735200@www.acadianamusichub.com
SUMMARY:Clifton Brown & Rusty Bucket Band
DESCRIPTION:
URL:https://www.acadianamusichub.com/event/clifton-brown-rusty-bucket-band/
LOCATION:Cajun Heritage RV Park\, Louisiana
CATEGORIES:Clifton Brown & Rusty Bucket Band
END:VEVENT
BEGIN:VEVENT
DTSTART;TZID=America/Chicago:20260328T200000
DTEND;TZID=America/Chicago:20260328T220000
DTSTAMP:20260419T152919
CREATED:20260323T173219Z
LAST-MODIFIED:20260323T173219Z
UID:10647-1774728000-1774735200@www.acadianamusichub.com
SUMMARY:Adam Leger Band
DESCRIPTION:
URL:https://www.acadianamusichub.com/event/adam-leger-band/
LOCATION:Maltrait Spring Bazaar\, Louisiana
CATEGORIES:Adam Leger Band
END:VEVENT
BEGIN:VEVENT
DTSTART;TZID=America/Chicago:20260328T200000
DTEND;TZID=America/Chicago:20260328T230000
DTSTAMP:20260419T152919
CREATED:20260319T011100Z
LAST-MODIFIED:20260319T011100Z
UID:10614-1774728000-1774738800@www.acadianamusichub.com
SUMMARY:The Eighties Experience
DESCRIPTION:
URL:https://www.acadianamusichub.com/event/the-eighties-experience-6/
LOCATION:Ed’S Place Iota\, Louisiana
CATEGORIES:The Eighties Experience
END:VEVENT
BEGIN:VEVENT
DTSTART;TZID=America/Chicago:20260328T200000
DTEND;TZID=America/Chicago:20260328T230000
DTSTAMP:20260419T152919
CREATED:20260321T180047Z
LAST-MODIFIED:20260321T180047Z
UID:10621-1774728000-1774738800@www.acadianamusichub.com
SUMMARY:Dustin Ray
DESCRIPTION:
URL:https://www.acadianamusichub.com/event/dustin-ray-9/
LOCATION:The Break Room\, Unknown\, Louisiana
CATEGORIES:Dustin Ray
END:VEVENT
BEGIN:VEVENT
DTSTART;TZID=America/Chicago:20260328T200000
DTEND;TZID=America/Chicago:20260329T020000
DTSTAMP:20260419T152919
CREATED:20260323T163028Z
LAST-MODIFIED:20260323T163028Z
UID:10641-1774728000-1774749600@www.acadianamusichub.com
SUMMARY:Dj B-Rody
DESCRIPTION:
URL:https://www.acadianamusichub.com/event/dj-b-rody-5/
LOCATION:Grand Point Tavern\, Louisiana
CATEGORIES:Dj B-Rody
END:VEVENT
BEGIN:VEVENT
DTSTART;TZID=America/Chicago:20260328T203000
DTEND;TZID=America/Chicago:20260328T233000
DTSTAMP:20260419T152919
CREATED:20260313T104009Z
LAST-MODIFIED:20260313T104009Z
UID:10537-1774729800-1774740600@www.acadianamusichub.com
SUMMARY:Buddy Andrews
DESCRIPTION:
URL:https://www.acadianamusichub.com/event/buddy-andrews-3/
LOCATION:Soul’s Teche Bar\, 5316 Main Hwy\, Louisiana
CATEGORIES:Buddy Andrews
END:VEVENT
BEGIN:VEVENT
DTSTART;TZID=America/Chicago:20260328T210000
DTEND;TZID=America/Chicago:20260328T210000
DTSTAMP:20260419T152919
CREATED:20260319T011104Z
LAST-MODIFIED:20260319T011104Z
UID:10618-1774731600-1774731600@www.acadianamusichub.com
SUMMARY:Chasing The Hourglass
DESCRIPTION:
URL:https://www.acadianamusichub.com/event/chasing-the-hourglass/
LOCATION:Whiskey Tales\, 2825 Grand Point Hwy\, Louisiana
CATEGORIES:Chasing the Hourglass
END:VEVENT
BEGIN:VEVENT
DTSTART;TZID=America/Chicago:20260328T210000
DTEND;TZID=America/Chicago:20260329T000000
DTSTAMP:20260419T152919
CREATED:20260323T164026Z
LAST-MODIFIED:20260323T164026Z
UID:10642-1774731600-1774742400@www.acadianamusichub.com
SUMMARY:Side Show
DESCRIPTION:
URL:https://www.acadianamusichub.com/event/side-show/
LOCATION:Rock N Bowl\, Louisiana
CATEGORIES:Side Show
END:VEVENT
BEGIN:VEVENT
DTSTART;TZID=America/Chicago:20260328T213000
DTEND;TZID=America/Chicago:20260328T213000
DTSTAMP:20260419T152919
CREATED:20260327T155717Z
LAST-MODIFIED:20260327T155717Z
UID:10701-1774733400-1774733400@www.acadianamusichub.com
SUMMARY:Junior Lacrosse Band
DESCRIPTION:
URL:https://www.acadianamusichub.com/event/junior-lacrosse-band-15/
LOCATION:Music Cove\, Louisiana
CATEGORIES:Junior Lacrosse Band
END:VEVENT
BEGIN:VEVENT
DTSTART;TZID=America/Chicago:20260328T220000
DTEND;TZID=America/Chicago:20260329T010000
DTSTAMP:20260419T152919
CREATED:20260319T011103Z
LAST-MODIFIED:20260319T011103Z
UID:10617-1774735200-1774746000@www.acadianamusichub.com
SUMMARY:Casey Chesnutt Band
DESCRIPTION:
URL:https://www.acadianamusichub.com/event/casey-chesnutt-band/
LOCATION:Cowboy’s Night Club\, Louisiana
CATEGORIES:Casey Chesnutt Band
END:VEVENT
END:VCALENDAR