BEGIN:VCALENDAR
VERSION:2.0
PRODID:-//Acadiana Music Hub - ECPv6.15.20//NONSGML v1.0//EN
CALSCALE:GREGORIAN
METHOD:PUBLISH
X-WR-CALNAME:Acadiana Music Hub
X-ORIGINAL-URL:https://www.acadianamusichub.com
X-WR-CALDESC:Events for Acadiana Music Hub
REFRESH-INTERVAL;VALUE=DURATION:PT1H
X-Robots-Tag:noindex
X-PUBLISHED-TTL:PT1H
BEGIN:VTIMEZONE
TZID:America/Chicago
BEGIN:DAYLIGHT
TZOFFSETFROM:-0600
TZOFFSETTO:-0500
TZNAME:CDT
DTSTART:20250309T080000
END:DAYLIGHT
BEGIN:STANDARD
TZOFFSETFROM:-0500
TZOFFSETTO:-0600
TZNAME:CST
DTSTART:20251102T070000
END:STANDARD
BEGIN:DAYLIGHT
TZOFFSETFROM:-0600
TZOFFSETTO:-0500
TZNAME:CDT
DTSTART:20260308T080000
END:DAYLIGHT
BEGIN:STANDARD
TZOFFSETFROM:-0500
TZOFFSETTO:-0600
TZNAME:CST
DTSTART:20261101T070000
END:STANDARD
BEGIN:DAYLIGHT
TZOFFSETFROM:-0600
TZOFFSETTO:-0500
TZNAME:CDT
DTSTART:20270314T080000
END:DAYLIGHT
BEGIN:STANDARD
TZOFFSETFROM:-0500
TZOFFSETTO:-0600
TZNAME:CST
DTSTART:20271107T070000
END:STANDARD
END:VTIMEZONE
BEGIN:VEVENT
DTSTART;TZID=America/Chicago:20260312T180000
DTEND;TZID=America/Chicago:20260312T180000
DTSTAMP:20260419T113353
CREATED:20260310T134414Z
LAST-MODIFIED:20260310T134414Z
UID:10464-1773338400-1773338400@www.acadianamusichub.com
SUMMARY:Isaac Lejeune
DESCRIPTION:
URL:https://www.acadianamusichub.com/event/isaac-lejeune-2/
LOCATION:Dup’s Pizza & More\, Church Point\, Louisiana
CATEGORIES:Isaac Lejeune
END:VEVENT
BEGIN:VEVENT
DTSTART;TZID=America/Chicago:20260312T180000
DTEND;TZID=America/Chicago:20260312T210000
DTSTAMP:20260419T113353
CREATED:20260310T134413Z
LAST-MODIFIED:20260310T134413Z
UID:10463-1773338400-1773349200@www.acadianamusichub.com
SUMMARY:Jon Meloncon
DESCRIPTION:
URL:https://www.acadianamusichub.com/event/jon-meloncon-2/
LOCATION:Shucks\, Louisiana
CATEGORIES:Jon Meloncon
END:VEVENT
BEGIN:VEVENT
DTSTART;TZID=America/Chicago:20260312T180000
DTEND;TZID=America/Chicago:20260312T210000
DTSTAMP:20260419T113353
CREATED:20260310T134416Z
LAST-MODIFIED:20260310T134416Z
UID:10465-1773338400-1773349200@www.acadianamusichub.com
SUMMARY:Mike Broussard
DESCRIPTION:
URL:https://www.acadianamusichub.com/event/mike-broussard-2/
LOCATION:El Corazon\, Unknown\, Louisiana
CATEGORIES:Mike Broussard
END:VEVENT
BEGIN:VEVENT
DTSTART;TZID=America/Chicago:20260312T180000
DTEND;TZID=America/Chicago:20260312T210000
DTSTAMP:20260419T113353
CREATED:20260310T193021Z
LAST-MODIFIED:20260310T193021Z
UID:10502-1773338400-1773349200@www.acadianamusichub.com
SUMMARY:Jake Knott And The Unwound
DESCRIPTION:
URL:https://www.acadianamusichub.com/event/jake-knott-and-the-unwound-2/
LOCATION:Silver Slipper\, 2818 Highway 31\, Louisiana
CATEGORIES:Jake Knott And The Unwound
END:VEVENT
BEGIN:VEVENT
DTSTART;TZID=America/Chicago:20260312T180000
DTEND;TZID=America/Chicago:20260312T210000
DTSTAMP:20260419T113353
CREATED:20260311T190127Z
LAST-MODIFIED:20260311T190127Z
UID:10509-1773338400-1773349200@www.acadianamusichub.com
SUMMARY:Kip Sonnier
DESCRIPTION:
URL:https://www.acadianamusichub.com/event/kip-sonnier-3/
LOCATION:El Mariachi Mexican—New Iberia\, Louisiana
CATEGORIES:Kip Sonnier
END:VEVENT
BEGIN:VEVENT
DTSTART;TZID=America/Chicago:20260312T190000
DTEND;TZID=America/Chicago:20260312T190000
DTSTAMP:20260419T113353
CREATED:20260310T145007Z
LAST-MODIFIED:20260310T145007Z
UID:10500-1773342000-1773342000@www.acadianamusichub.com
SUMMARY:Dustin Ray
DESCRIPTION:
URL:https://www.acadianamusichub.com/event/dustin-ray-2/
LOCATION:Cajun’s Bar & Dance Hall\, Church Point\, Louisiana
CATEGORIES:Dustin Ray
END:VEVENT
BEGIN:VEVENT
DTSTART;TZID=America/Chicago:20260312T200000
DTEND;TZID=America/Chicago:20260312T200000
DTSTAMP:20260419T113353
CREATED:20260310T134410Z
LAST-MODIFIED:20260310T134410Z
UID:10461-1773345600-1773345600@www.acadianamusichub.com
SUMMARY:Jc Melancon
DESCRIPTION:
URL:https://www.acadianamusichub.com/event/jc-melancon/
LOCATION:Whiskey Tales\, 2825 Grand Point Hwy\, Louisiana
CATEGORIES:JC Melancon
END:VEVENT
END:VCALENDAR